{
 "currentVersion": 10.91,
 "serviceDescription": "<DIV STYLE=\"text-align:Left;\"><DIV><DIV><P><SPAN>Historical map showing lot and concession numbers, boundary and electoral district.<\/SPAN><\/P><P><SPAN>Scale 1:250,000<\/SPAN><\/P><P><SPAN>Map date: 1905<\/SPAN><\/P><P><SPAN>Digital reproduction of map (69 x 52 cm.) in the Brock University Map, Data & GIS Library collection. <\/SPAN><\/P><P><SPAN>Georeferenced and modified from Brock call# G 3462 N53 1905 C35 by Map, Data and GIS Library, Brock University. <\/SPAN><\/P><P><SPAN /><\/P><\/DIV><\/DIV><\/DIV>",
 "name": "EarlyNiagara/NiagaraPeninsula1905",
 "description": "<DIV STYLE=\"text-align:Left;\"><DIV><DIV><P><SPAN>Historical map showing lot and concession numbers, boundary and electoral district.<\/SPAN><\/P><P><SPAN>Scale 1:250,000<\/SPAN><\/P><P><SPAN>Map date: 1905<\/SPAN><\/P><P><SPAN>Digital reproduction of map (69 x 52 cm.) in the Brock University Map, Data & GIS Library collection. <\/SPAN><\/P><P><SPAN>Georeferenced and modified from Brock call# G 3462 N53 1905 C35 by Map, Data and GIS Library, Brock University. <\/SPAN><\/P><P><SPAN /><\/P><\/DIV><\/DIV><\/DIV>",
 "extent": {
  "xmin": -8918258.585211705,
  "ymin": 5119158.769129544,
  "xmax": -8725713.038721705,
  "ymax": 5411436.941249544,
  "spatialReference": {
   "wkid": 102100,
   "latestWkid": 3857
  }
 },
 "initialExtent": {
  "xmin": -8918258.585211705,
  "ymin": 5119158.769129544,
  "xmax": -8725713.038721705,
  "ymax": 5411436.941249544,
  "spatialReference": {
   "wkid": 102100,
   "latestWkid": 3857
  }
 },
 "fullExtent": {
  "xmin": -8918258.585211705,
  "ymin": 5119158.769129544,
  "xmax": -8725713.038721705,
  "ymax": 5411436.941249544,
  "spatialReference": {
   "wkid": 102100,
   "latestWkid": 3857
  }
 },
 "hasMultidimensions": false,
 "pixelSizeX": 31.741765000000093,
 "pixelSizeY": 31.741765000000026,
 "datasetFormat": "TIFF",
 "uncompressedSize": 335134368,
 "blockWidth": 128,
 "blockHeight": 128,
 "compressionType": "None",
 "bandNames": [
  "Band_1",
  "Band_2",
  "Band_3"
 ],
 "allowCopy": true,
 "allowAnalysis": true,
 "bandCount": 3,
 "noDataValue": 256,
 "noDataValues": [
  256,
  256,
  256
 ],
 "pixelType": "U16",
 "minPixelSize": 0,
 "maxPixelSize": 0,
 "copyrightText": "Canada. Dept. of the Interior.\nJames White, geographer\nMap, Data & GIS Library, Brock University.",
 "serviceDataType": "esriImageServiceDataTypeGeneric",
 "serviceSourceType": "esriImageServiceSourceTypeDataset",
 "minValues": [
  0,
  0,
  0
 ],
 "maxValues": [
  255,
  255,
  255
 ],
 "meanValues": [
  192.43454736363,
  176.25248349722,
  144.01637740392
 ],
 "stdvValues": [
  50.926815795709,
  45.903344834415,
  39.930959631401
 ],
 "objectIdField": "",
 "fields": [],
 "capabilities": "Image,Metadata,Mensuration",
 "defaultMosaicMethod": "Center",
 "allowedMosaicMethods": "",
 "sortField": "",
 "sortValue": null,
 "sortAscending": true,
 "mosaicOperator": "First",
 "defaultCompressionQuality": 75,
 "defaultResamplingMethod": "Bilinear",
 "maxImageHeight": 4100,
 "maxImageWidth": 15000,
 "allowRasterFunction": true,
 "rasterFunctionInfos": [
  {
   "name": "None",
   "description": "",
   "help": ""
  }
 ],
 "rasterTypeInfos": [
  {
   "name": "Raster Dataset",
   "description": "Supports all ArcGIS Raster Datasets",
   "help": ""
  }
 ],
 "mensurationCapabilities": "Basic",
 "hasHistograms": true,
 "hasColormap": false,
 "hasRasterAttributeTable": false,
 "minScale": 0,
 "maxScale": 0,
 "exportTilesAllowed": false,
 "supportsStatistics": false,
 "supportsAdvancedQueries": false,
 "editFieldsInfo": null,
 "ownershipBasedAccessControlForRasters": null,
 "allowComputeTiePoints": false,
 "useStandardizedQueries": true,
 "advancedQueryCapabilities": {
  "useStandardizedQueries": true,
  "supportsStatistics": false,
  "supportsOrderBy": false,
  "supportsDistinct": false,
  "supportsPagination": false
 },
 "spatialReference": {
  "wkid": 102100,
  "latestWkid": 3857
 }
}
