{ "currentVersion": 10.91, "serviceDescription": "
Historical map showing physical, political and cultural features, legend.<\/SPAN><\/P> Scale 1:126,720<\/SPAN><\/P> Relief shown by contours.<\/SPAN><\/P> Map date: 1908<\/SPAN><\/P> Digital reproduction of map (60 x 84 cm.) in the Brock University Map, Data & GIS Library collection.<\/SPAN><\/P> Georeferenced and modified from Brock call# G 3462 N53 1908 O55 by Map, Data and GIS Library, Brock University. <\/SPAN><\/P> <\/P><\/DIV><\/DIV><\/DIV>",
"name": "EarlyNiagara/NiagaraPeninsula1908",
"description": " Historical map showing physical, political and cultural features, legend.<\/SPAN><\/P> Scale 1:126,720<\/SPAN><\/P> Relief shown by contours.<\/SPAN><\/P> Map date: 1908<\/SPAN><\/P> Digital reproduction of map (60 x 84 cm.) in the Brock University Map, Data & GIS Library collection.<\/SPAN><\/P> Georeferenced and modified from Brock call# G 3462 N53 1908 O55 by Map, Data and GIS Library, Brock University. <\/SPAN><\/P> <\/P><\/DIV><\/DIV><\/DIV>",
"extent": {
"xmin": -8916760.494416928,
"ymin": 5253814.518952733,
"xmax": -8774962.188109929,
"ymax": 5360690.440965733,
"spatialReference": {
"wkid": 102100,
"latestWkid": 3857
}
},
"initialExtent": {
"xmin": -8916760.494416928,
"ymin": 5253814.518952733,
"xmax": -8774962.188109929,
"ymax": 5360690.440965733,
"spatialReference": {
"wkid": 102100,
"latestWkid": 3857
}
},
"fullExtent": {
"xmin": -8916760.494416928,
"ymin": 5253814.518952733,
"xmax": -8774962.188109929,
"ymax": 5360690.440965733,
"spatialReference": {
"wkid": 102100,
"latestWkid": 3857
}
},
"hasMultidimensions": false,
"pixelSizeX": 7.296778999999957,
"pixelSizeY": 7.296778999999976,
"datasetFormat": "TIFF",
"uncompressedSize": 1707810906,
"blockWidth": 128,
"blockHeight": 128,
"compressionType": "None",
"bandNames": [
"Band_1",
"Band_2",
"Band_3"
],
"allowCopy": true,
"allowAnalysis": true,
"bandCount": 3,
"noDataValue": 256,
"noDataValues": [
256,
256,
256
],
"pixelType": "U16",
"minPixelSize": 0,
"maxPixelSize": 0,
"copyrightText": "Published: Great Britain War Office, 1908\nMap, Data & GIS Library, Brock University.",
"serviceDataType": "esriImageServiceDataTypeGeneric",
"serviceSourceType": "esriImageServiceSourceTypeDataset",
"minValues": [],
"maxValues": [],
"meanValues": [],
"stdvValues": [],
"objectIdField": "",
"fields": [],
"capabilities": "Image,Metadata,Mensuration",
"defaultMosaicMethod": "Center",
"allowedMosaicMethods": "",
"sortField": "",
"sortValue": null,
"sortAscending": true,
"mosaicOperator": "First",
"defaultCompressionQuality": 75,
"defaultResamplingMethod": "Bilinear",
"maxImageHeight": 4100,
"maxImageWidth": 15000,
"allowRasterFunction": true,
"rasterFunctionInfos": [
{
"name": "None",
"description": "",
"help": ""
}
],
"rasterTypeInfos": [
{
"name": "Raster Dataset",
"description": "Supports all ArcGIS Raster Datasets",
"help": ""
}
],
"mensurationCapabilities": "Basic",
"hasHistograms": false,
"hasColormap": false,
"hasRasterAttributeTable": false,
"minScale": 0,
"maxScale": 0,
"exportTilesAllowed": false,
"supportsStatistics": false,
"supportsAdvancedQueries": false,
"editFieldsInfo": null,
"ownershipBasedAccessControlForRasters": null,
"allowComputeTiePoints": false,
"useStandardizedQueries": true,
"advancedQueryCapabilities": {
"useStandardizedQueries": true,
"supportsStatistics": false,
"supportsOrderBy": false,
"supportsDistinct": false,
"supportsPagination": false
},
"spatialReference": {
"wkid": 102100,
"latestWkid": 3857
}
}