{ "currentVersion": 10.91, "serviceDescription": "
Historical map showing cities and towns, road features, schools, concession and lot numbers, legend.<\/span><\/p> Scale 1 1/4 miles to 1 inch.<\/span><\/p> Map date: [1929]<\/span><\/p> Digital reproduction of map (65 x 101 cm.) in the Brock University Map, Data & GIS Library collection. <\/span><\/p> Georeferenced and modified from Brock call# G 3462 N53 1929 M35 by Map, Data and GIS Library, Brock University. <\/span><\/p> <\/p><\/div><\/div><\/div>",
"name": "EarlyNiagara/NiagaraPeninsula1910",
"description": " Historical map showing cities and towns, road features, schools, concession and lot numbers, legend.<\/span><\/p> Scale 1 1/4 miles to 1 inch.<\/span><\/p> Map date: [1929]<\/span><\/p> Digital reproduction of map (65 x 101 cm.) in the Brock University Map, Data & GIS Library collection. <\/span><\/p> Georeferenced and modified from Brock call# G 3462 N53 1929 M35 by Map, Data and GIS Library, Brock University. <\/span><\/p> <\/p><\/div><\/div><\/div>",
"extent": {
"xmin": 589135.7217727302,
"ymin": 4738851.247910205,
"xmax": 675228.4707727302,
"ymax": 4801064.5597102055,
"spatialReference": {
"wkid": 26917,
"latestWkid": 26917
}
},
"initialExtent": {
"xmin": 589135.7217727302,
"ymin": 4738851.247910205,
"xmax": 675228.4707727302,
"ymax": 4801064.5597102055,
"spatialReference": {
"wkid": 26917,
"latestWkid": 26917
}
},
"fullExtent": {
"xmin": 589135.7217727302,
"ymin": 4738851.247910205,
"xmax": 675228.4707727302,
"ymax": 4801064.5597102055,
"spatialReference": {
"wkid": 26917,
"latestWkid": 26917
}
},
"hasMultidimensions": false,
"pixelSizeX": 3.463799999999998,
"pixelSizeY": 3.463800000000014,
"datasetFormat": "TIFF",
"uncompressedSize": 2678523930,
"blockWidth": 128,
"blockHeight": 128,
"compressionType": "None",
"bandNames": [
"Band_1",
"Band_2",
"Band_3"
],
"allowCopy": true,
"allowAnalysis": true,
"bandCount": 3,
"noDataValue": 256,
"noDataValues": [
256,
256,
256
],
"pixelType": "U16",
"minPixelSize": 0,
"maxPixelSize": 0,
"copyrightText": "Map, Data & GIS Library, Brock University.",
"serviceDataType": "esriImageServiceDataTypeGeneric",
"serviceSourceType": "esriImageServiceSourceTypeDataset",
"minValues": [],
"maxValues": [],
"meanValues": [],
"stdvValues": [],
"objectIdField": "",
"fields": [],
"capabilities": "Mensuration,Image,Metadata",
"defaultMosaicMethod": "Center",
"allowedMosaicMethods": "",
"sortField": "",
"sortValue": null,
"sortAscending": true,
"mosaicOperator": "First",
"defaultCompressionQuality": 75,
"defaultResamplingMethod": "Bilinear",
"maxImageHeight": 4100,
"maxImageWidth": 15000,
"allowRasterFunction": true,
"rasterFunctionInfos": [
{
"name": "None",
"description": "",
"help": ""
}
],
"rasterTypeInfos": [
{
"name": "Raster Dataset",
"description": "Supports all ArcGIS Raster Datasets",
"help": ""
}
],
"mensurationCapabilities": "Basic",
"hasHistograms": false,
"hasColormap": false,
"hasRasterAttributeTable": false,
"minScale": 0,
"maxScale": 0,
"exportTilesAllowed": false,
"supportsStatistics": false,
"supportsAdvancedQueries": false,
"editFieldsInfo": null,
"ownershipBasedAccessControlForRasters": null,
"allowComputeTiePoints": false,
"useStandardizedQueries": true,
"advancedQueryCapabilities": {
"useStandardizedQueries": true,
"supportsStatistics": false,
"supportsOrderBy": false,
"supportsDistinct": false,
"supportsPagination": false
},
"spatialReference": {
"wkid": 26917,
"latestWkid": 26917
}
}