{ "currentVersion": 10.91, "serviceDescription": "
Historical map showing roads, transportation, political and cultural features, legend.<\/SPAN><\/P> Digital reproduction of map (60 x 84 cm.) in the Map, Data and GIS Library, Brock University. <\/SPAN><\/P> Relief shown by contours. Contour interval 25 feet.<\/SPAN><\/P> Georeferenced and modified from the \"Canada 2 miles to 1 inch\" map series, \"Ontario, Niagara Peninsula\" sheet by Map, Data and GIS Library, Brock University. <\/SPAN><\/P> <\/P><\/DIV><\/DIV><\/DIV>",
"name": "EarlyNiagara/NiagaraPeninsula1932126k",
"description": " Historical map showing roads, transportation, political and cultural features, legend.<\/SPAN><\/P> Digital reproduction of map (60 x 84 cm.) in the Map, Data and GIS Library, Brock University. <\/SPAN><\/P> Relief shown by contours. Contour interval 25 feet.<\/SPAN><\/P> Georeferenced and modified from the \"Canada 2 miles to 1 inch\" map series, \"Ontario, Niagara Peninsula\" sheet by Map, Data and GIS Library, Brock University. <\/SPAN><\/P> <\/P><\/DIV><\/DIV><\/DIV>",
"extent": {
"xmin": 575171.4811563881,
"ymin": 4721458.224217436,
"xmax": 679819.950848388,
"ymax": 4797788.992510436,
"spatialReference": {
"wkid": 26917,
"latestWkid": 26917
}
},
"initialExtent": {
"xmin": 575171.4811563881,
"ymin": 4721458.224217436,
"xmax": 679819.950848388,
"ymax": 4797788.992510436,
"spatialReference": {
"wkid": 26917,
"latestWkid": 26917
}
},
"fullExtent": {
"xmin": 575171.4811563881,
"ymin": 4721458.224217436,
"xmax": 679819.950848388,
"ymax": 4797788.992510436,
"spatialReference": {
"wkid": 26917,
"latestWkid": 26917
}
},
"hasMultidimensions": false,
"pixelSizeX": 12.830856999999995,
"pixelSizeY": 12.830856999999972,
"datasetFormat": "TIFF",
"uncompressedSize": 291120264,
"blockWidth": 128,
"blockHeight": 128,
"compressionType": "None",
"bandNames": [
"Band_1",
"Band_2",
"Band_3"
],
"allowCopy": true,
"allowAnalysis": true,
"bandCount": 3,
"noDataValue": 256,
"noDataValues": [
256,
256,
256
],
"pixelType": "U16",
"minPixelSize": 0,
"maxPixelSize": 0,
"copyrightText": "Map, Data & GIS Library, Brock University.",
"serviceDataType": "esriImageServiceDataTypeGeneric",
"serviceSourceType": "esriImageServiceSourceTypeDataset",
"minValues": [
0,
0,
0
],
"maxValues": [
255,
255,
255
],
"meanValues": [
238.18546982846,
237.20544830778,
220.91968768848
],
"stdvValues": [
32.852665083375,
33.468259966017,
33.795033782734
],
"objectIdField": "",
"fields": [],
"capabilities": "Image,Metadata,Mensuration",
"defaultMosaicMethod": "Center",
"allowedMosaicMethods": "",
"sortField": "",
"sortValue": null,
"sortAscending": true,
"mosaicOperator": "First",
"defaultCompressionQuality": 75,
"defaultResamplingMethod": "Bilinear",
"maxImageHeight": 4100,
"maxImageWidth": 15000,
"allowRasterFunction": true,
"rasterFunctionInfos": [
{
"name": "None",
"description": "",
"help": ""
}
],
"rasterTypeInfos": [
{
"name": "Raster Dataset",
"description": "Supports all ArcGIS Raster Datasets",
"help": ""
}
],
"mensurationCapabilities": "Basic",
"hasHistograms": true,
"hasColormap": false,
"hasRasterAttributeTable": false,
"minScale": 0,
"maxScale": 0,
"exportTilesAllowed": false,
"supportsStatistics": false,
"supportsAdvancedQueries": false,
"editFieldsInfo": null,
"ownershipBasedAccessControlForRasters": null,
"allowComputeTiePoints": false,
"useStandardizedQueries": true,
"advancedQueryCapabilities": {
"useStandardizedQueries": true,
"supportsStatistics": false,
"supportsOrderBy": false,
"supportsDistinct": false,
"supportsPagination": false
},
"spatialReference": {
"wkid": 26917,
"latestWkid": 26917
}
}