{ "currentVersion": 10.91, "serviceDescription": "
Historical map showing towns, rivers, roads, indian tribal lands, \"Canby Marsh\".<\/span><\/p> Digital reproduction of map in the Public Archives of Canada. National Map Collection. Library and Archives Canada.<\/span><\/p> Relief shown by shading<\/span><\/p> Georeferenced and modified from NMC Map number NMC-3003 by Map, Data and GIS Library, Brock University. <\/span><\/p> <\/p><\/div><\/div><\/div>",
"name": "EarlyNiagara/NiagaraPeninsulaHall1818NMC3003",
"description": " Historical map showing towns, rivers, roads, indian tribal lands, \"Canby Marsh\".<\/span><\/p> Digital reproduction of map in the Public Archives of Canada. National Map Collection. Library and Archives Canada.<\/span><\/p> Relief shown by shading<\/span><\/p> Georeferenced and modified from NMC Map number NMC-3003 by Map, Data and GIS Library, Brock University. <\/span><\/p> <\/p><\/div><\/div><\/div>",
"extent": {
"xmin": -8935740.561228605,
"ymin": 5248561.022775077,
"xmax": -8766225.795788605,
"ymax": 5385640.620023077,
"spatialReference": {
"wkid": 102100,
"latestWkid": 3857
}
},
"initialExtent": {
"xmin": -8935740.561228605,
"ymin": 5248561.022775077,
"xmax": -8766225.795788605,
"ymax": 5385640.620023077,
"spatialReference": {
"wkid": 102100,
"latestWkid": 3857
}
},
"fullExtent": {
"xmin": -8935740.561228605,
"ymin": 5248561.022775077,
"xmax": -8766225.795788605,
"ymax": 5385640.620023077,
"spatialReference": {
"wkid": 102100,
"latestWkid": 3857
}
},
"hasMultidimensions": false,
"pixelSizeX": 28.780096000000036,
"pixelSizeY": 28.780096000000018,
"datasetFormat": "TIFF",
"uncompressedSize": 56108140,
"blockWidth": 128,
"blockHeight": 128,
"compressionType": "None",
"bandNames": [
"Band_1"
],
"allowCopy": true,
"allowAnalysis": true,
"bandCount": 1,
"noDataValue": 256,
"noDataValues": [
256
],
"pixelType": "U16",
"minPixelSize": 0,
"maxPixelSize": 0,
"copyrightText": "Map, Data & GIS Library, Brock University.Engraved by Sidy. Hall.Map from Travels in Canada and the United States, in 1816 and 1817 / by Francis Hall.",
"serviceDataType": "esriImageServiceDataTypeGeneric",
"serviceSourceType": "esriImageServiceSourceTypeDataset",
"minValues": [
2
],
"maxValues": [
255
],
"meanValues": [
198.58501366122
],
"stdvValues": [
44.826489833294
],
"objectIdField": "",
"fields": [],
"capabilities": "Mensuration,Image,Metadata",
"defaultMosaicMethod": "Center",
"allowedMosaicMethods": "",
"sortField": "",
"sortValue": null,
"sortAscending": true,
"mosaicOperator": "First",
"defaultCompressionQuality": 75,
"defaultResamplingMethod": "Bilinear",
"maxImageHeight": 4100,
"maxImageWidth": 15000,
"allowRasterFunction": true,
"rasterFunctionInfos": [
{
"name": "None",
"description": "",
"help": ""
}
],
"rasterTypeInfos": [
{
"name": "Raster Dataset",
"description": "Supports all ArcGIS Raster Datasets",
"help": ""
}
],
"mensurationCapabilities": "Basic",
"hasHistograms": true,
"hasColormap": false,
"hasRasterAttributeTable": false,
"minScale": 0,
"maxScale": 0,
"exportTilesAllowed": false,
"supportsStatistics": false,
"supportsAdvancedQueries": false,
"editFieldsInfo": null,
"ownershipBasedAccessControlForRasters": null,
"allowComputeTiePoints": false,
"useStandardizedQueries": true,
"advancedQueryCapabilities": {
"useStandardizedQueries": true,
"supportsStatistics": false,
"supportsOrderBy": false,
"supportsDistinct": false,
"supportsPagination": false
},
"spatialReference": {
"wkid": 102100,
"latestWkid": 3857
}
}