{ "currentVersion": 10.91, "serviceDescription": "
Historical map showing the boundaries of Lincoln and Welland Counties, drawings of homes and buildings in border, townships, concessions, names of lot owners, list of subscribers for each town.<\/SPAN><\/P> Compiled and drawn from actual surveys by the publishers... Geo. R. & G.M. Tremaine<\/SPAN><\/P> Digital reproduction of map in the Public Archives of Canada. National Map Collection. Library and Archives Canada.<\/SPAN><\/P> Georeferenced and modified from NMC Map number 19014 by Map, Data and GIS Library, Brock University. <\/SPAN><\/P> <\/P><\/DIV><\/DIV><\/DIV>",
"name": "EarlyNiagara/NiagaraRegion1862NMC19014",
"description": " Historical map showing the boundaries of Lincoln and Welland Counties, drawings of homes and buildings in border, townships, concessions, names of lot owners, list of subscribers for each town.<\/SPAN><\/P> Compiled and drawn from actual surveys by the publishers... Geo. R. & G.M. Tremaine<\/SPAN><\/P> Digital reproduction of map in the Public Archives of Canada. National Map Collection. Library and Archives Canada.<\/SPAN><\/P> Georeferenced and modified from NMC Map number 19014 by Map, Data and GIS Library, Brock University. <\/SPAN><\/P> <\/P><\/DIV><\/DIV><\/DIV>",
"extent": {
"xmin": -8880266.171628637,
"ymin": 5279194.398424937,
"xmax": -8779472.039790638,
"ymax": 5356775.379352937,
"spatialReference": {
"wkid": 102100,
"latestWkid": 3857
}
},
"initialExtent": {
"xmin": -8880266.171628637,
"ymin": 5279194.398424937,
"xmax": -8779472.039790638,
"ymax": 5356775.379352937,
"spatialReference": {
"wkid": 102100,
"latestWkid": 3857
}
},
"fullExtent": {
"xmin": -8880266.171628637,
"ymin": 5279194.398424937,
"xmax": -8779472.039790638,
"ymax": 5356775.379352937,
"spatialReference": {
"wkid": 102100,
"latestWkid": 3857
}
},
"hasMultidimensions": false,
"pixelSizeX": 7.109693999999961,
"pixelSizeY": 7.1096940000000055,
"datasetFormat": "TIFF",
"uncompressedSize": 309398848,
"blockWidth": 128,
"blockHeight": 128,
"compressionType": "None",
"bandNames": [
"Band_1"
],
"allowCopy": true,
"allowAnalysis": true,
"bandCount": 1,
"noDataValue": 256,
"noDataValues": [
256
],
"pixelType": "U16",
"minPixelSize": 0,
"maxPixelSize": 0,
"copyrightText": "Map, Data & GIS Library, Brock University.",
"serviceDataType": "esriImageServiceDataTypeGeneric",
"serviceSourceType": "esriImageServiceSourceTypeDataset",
"minValues": [
0
],
"maxValues": [
255
],
"meanValues": [
132.34414591824
],
"stdvValues": [
56.442200524253
],
"objectIdField": "",
"fields": [],
"capabilities": "Image,Metadata,Mensuration",
"defaultMosaicMethod": "Center",
"allowedMosaicMethods": "",
"sortField": "",
"sortValue": null,
"sortAscending": true,
"mosaicOperator": "First",
"defaultCompressionQuality": 75,
"defaultResamplingMethod": "Bilinear",
"maxImageHeight": 4100,
"maxImageWidth": 15000,
"allowRasterFunction": true,
"rasterFunctionInfos": [
{
"name": "None",
"description": "",
"help": ""
}
],
"rasterTypeInfos": [
{
"name": "Raster Dataset",
"description": "Supports all ArcGIS Raster Datasets",
"help": ""
}
],
"mensurationCapabilities": "Basic",
"hasHistograms": true,
"hasColormap": false,
"hasRasterAttributeTable": false,
"minScale": 0,
"maxScale": 0,
"exportTilesAllowed": false,
"supportsStatistics": false,
"supportsAdvancedQueries": false,
"editFieldsInfo": null,
"ownershipBasedAccessControlForRasters": null,
"allowComputeTiePoints": false,
"useStandardizedQueries": true,
"advancedQueryCapabilities": {
"useStandardizedQueries": true,
"supportsStatistics": false,
"supportsOrderBy": false,
"supportsDistinct": false,
"supportsPagination": false
},
"spatialReference": {
"wkid": 102100,
"latestWkid": 3857
}
}