{ "currentVersion": 10.91, "serviceDescription": "
Map date: 1907Scale [ca. 1:145,728]Digital reproduction of map ( 37 x 46 cm.) in the Brock University Map, Data & GIS Library collection. Georeferenced and modified from Brock call # G 3463 L54 1907 S33 by Map, Data and GIS Library, Brock University.<\/SPAN><\/P><\/DIV><\/DIV><\/DIV>",
"name": "EarlyNiagara/NiagaraRegion1907col",
"description": " Map date: 1907Scale [ca. 1:145,728]Digital reproduction of map ( 37 x 46 cm.) in the Brock University Map, Data & GIS Library collection. Georeferenced and modified from Brock call # G 3463 L54 1907 S33 by Map, Data and GIS Library, Brock University.<\/SPAN><\/P><\/DIV><\/DIV><\/DIV>",
"extent": {
"xmin": -8879726.231740987,
"ymin": 5281122.00222744,
"xmax": -8781891.332737986,
"ymax": 5361200.112964439,
"spatialReference": {
"wkid": 102100,
"latestWkid": 3857
}
},
"initialExtent": {
"xmin": -8879726.231740987,
"ymin": 5281122.00222744,
"xmax": -8781891.332737986,
"ymax": 5361200.112964439,
"spatialReference": {
"wkid": 102100,
"latestWkid": 3857
}
},
"fullExtent": {
"xmin": -8879726.231740987,
"ymin": 5281122.00222744,
"xmax": -8781891.332737986,
"ymax": 5361200.112964439,
"spatialReference": {
"wkid": 102100,
"latestWkid": 3857
}
},
"hasMultidimensions": false,
"pixelSizeX": 8.628177000000083,
"pixelSizeY": 8.628176999999964,
"datasetFormat": "TIFF",
"uncompressedSize": 631423554,
"blockWidth": 128,
"blockHeight": 128,
"compressionType": "LZW",
"bandNames": [
"Band_1",
"Band_2",
"Band_3"
],
"allowCopy": true,
"allowAnalysis": true,
"bandCount": 3,
"noDataValue": 256,
"noDataValues": [
256,
256,
256
],
"pixelType": "U16",
"minPixelSize": 0,
"maxPixelSize": 0,
"copyrightText": "Published by The Scarborough Company, Hamilton, Ontario.\nMap, Data & GIS Library, Brock University.",
"serviceDataType": "esriImageServiceDataTypeGeneric",
"serviceSourceType": "esriImageServiceSourceTypeDataset",
"minValues": [
0,
0,
0
],
"maxValues": [
255,
255,
255
],
"meanValues": [
197.79587735804,
192.58631864352,
176.63427316371
],
"stdvValues": [
72.973133775141,
73.530060968688,
71.65712955322
],
"objectIdField": "",
"fields": [],
"capabilities": "Image,Metadata,Mensuration",
"defaultMosaicMethod": "Center",
"allowedMosaicMethods": "",
"sortField": "",
"sortValue": null,
"sortAscending": true,
"mosaicOperator": "First",
"defaultCompressionQuality": 75,
"defaultResamplingMethod": "Bilinear",
"maxImageHeight": 4100,
"maxImageWidth": 15000,
"allowRasterFunction": true,
"rasterFunctionInfos": [
{
"name": "None",
"description": "",
"help": ""
}
],
"rasterTypeInfos": [
{
"name": "Raster Dataset",
"description": "Supports all ArcGIS Raster Datasets",
"help": ""
}
],
"mensurationCapabilities": "Basic",
"hasHistograms": true,
"hasColormap": false,
"hasRasterAttributeTable": false,
"minScale": 0,
"maxScale": 0,
"exportTilesAllowed": false,
"supportsStatistics": false,
"supportsAdvancedQueries": false,
"editFieldsInfo": null,
"ownershipBasedAccessControlForRasters": null,
"allowComputeTiePoints": false,
"useStandardizedQueries": true,
"advancedQueryCapabilities": {
"useStandardizedQueries": true,
"supportsStatistics": false,
"supportsOrderBy": false,
"supportsDistinct": false,
"supportsPagination": false
},
"spatialReference": {
"wkid": 102100,
"latestWkid": 3857
}
}