{ "currentVersion": 10.91, "serviceDescription": "
Map date: 1969<\/SPAN><\/P> Scale: 1:63,360.<\/SPAN><\/P> Digital reproduction of map (79 x 109 cm.) in the Public Archives of Canada. National Map Collection. Library and Archives Canada.<\/SPAN><\/P> Includes 7 insets: Niagara Falls -- Welland -- Thorold -- Grimsby -- Fort Erie -- St. Catharines -- Port Colborne.<\/SPAN><\/P> Georeferenced and modified from map in Map, Data and GIS Library, Brock University, call number G 3463 N54 1969 R45<\/SPAN><\/P> <\/P> <\/P><\/DIV><\/DIV><\/DIV>",
"name": "EarlyNiagara/NiagaraRegion1969",
"description": " Map date: 1969<\/SPAN><\/P> Scale: 1:63,360.<\/SPAN><\/P> Digital reproduction of map (79 x 109 cm.) in the Public Archives of Canada. National Map Collection. Library and Archives Canada.<\/SPAN><\/P> Includes 7 insets: Niagara Falls -- Welland -- Thorold -- Grimsby -- Fort Erie -- St. Catharines -- Port Colborne.<\/SPAN><\/P> Georeferenced and modified from map in Map, Data and GIS Library, Brock University, call number G 3463 N54 1969 R45<\/SPAN><\/P> <\/P> <\/P><\/DIV><\/DIV><\/DIV>",
"extent": {
"xmin": 593953.4201319373,
"ymin": 4739467.002663727,
"xmax": 674492.8941459373,
"ymax": 4794352.792869727,
"spatialReference": {
"wkid": 26917,
"latestWkid": 26917
}
},
"initialExtent": {
"xmin": 593953.4201319373,
"ymin": 4739467.002663727,
"xmax": 674492.8941459373,
"ymax": 4794352.792869727,
"spatialReference": {
"wkid": 26917,
"latestWkid": 26917
}
},
"fullExtent": {
"xmin": 593953.4201319373,
"ymin": 4739467.002663727,
"xmax": 674492.8941459373,
"ymax": 4794352.792869727,
"spatialReference": {
"wkid": 26917,
"latestWkid": 26917
}
},
"hasMultidimensions": false,
"pixelSizeX": 5.547942000000003,
"pixelSizeY": 5.547942000000021,
"datasetFormat": "TIFF",
"uncompressedSize": 861700086,
"blockWidth": 128,
"blockHeight": 128,
"compressionType": "None",
"bandNames": [
"Band_1",
"Band_2",
"Band_3"
],
"allowCopy": true,
"allowAnalysis": true,
"bandCount": 3,
"noDataValue": 256,
"noDataValues": [
256,
256,
256
],
"pixelType": "U16",
"minPixelSize": 0,
"maxPixelSize": 0,
"copyrightText": "Produced by the Regional Municipality of Niagara.\nMap, Data & GIS Library, Brock University.",
"serviceDataType": "esriImageServiceDataTypeGeneric",
"serviceSourceType": "esriImageServiceSourceTypeDataset",
"minValues": [
0,
0,
0
],
"maxValues": [
255,
255,
255
],
"meanValues": [
204.6080828,
180.76993153749,
154.73774976637
],
"stdvValues": [
45.541346172438,
41.286904278247,
35.933104270315
],
"objectIdField": "",
"fields": [],
"capabilities": "Image,Metadata,Mensuration",
"defaultMosaicMethod": "Center",
"allowedMosaicMethods": "",
"sortField": "",
"sortValue": null,
"sortAscending": true,
"mosaicOperator": "First",
"defaultCompressionQuality": 75,
"defaultResamplingMethod": "Bilinear",
"maxImageHeight": 4100,
"maxImageWidth": 15000,
"allowRasterFunction": true,
"rasterFunctionInfos": [
{
"name": "None",
"description": "",
"help": ""
}
],
"rasterTypeInfos": [
{
"name": "Raster Dataset",
"description": "Supports all ArcGIS Raster Datasets",
"help": ""
}
],
"mensurationCapabilities": "Basic",
"hasHistograms": true,
"hasColormap": false,
"hasRasterAttributeTable": false,
"minScale": 0,
"maxScale": 0,
"exportTilesAllowed": false,
"supportsStatistics": false,
"supportsAdvancedQueries": false,
"editFieldsInfo": null,
"ownershipBasedAccessControlForRasters": null,
"allowComputeTiePoints": false,
"useStandardizedQueries": true,
"advancedQueryCapabilities": {
"useStandardizedQueries": true,
"supportsStatistics": false,
"supportsOrderBy": false,
"supportsDistinct": false,
"supportsPagination": false
},
"spatialReference": {
"wkid": 26917,
"latestWkid": 26917
}
}