{ "currentVersion": 10.91, "serviceDescription": "
Map of Niagara Region showing streets, railways, city limits, rivers, cemeteries, hospitals, schools. Includes business advertisements in margin. Panel title. Includes street index and parks and recreation index. Title on recto: City of St. Catharines -- Ancillary map on verso: The Regional Municipality of Niagara.<\/span><\/p><\/div><\/div><\/div>",
"name": "EarlyNiagara/NiagaraRegion1971",
"description": " Map of Niagara Region showing streets, railways, city limits, rivers, cemeteries, hospitals, schools. Includes business advertisements in margin. Panel title. Includes street index and parks and recreation index. Title on recto: City of St. Catharines -- Ancillary map on verso: The Regional Municipality of Niagara.<\/span><\/p><\/div><\/div><\/div>",
"extent": {
"xmin": 583462.8242014732,
"ymin": 4720950.923317927,
"xmax": 711672.1210353982,
"ymax": 4802545.121581273,
"spatialReference": {
"wkid": 26917,
"latestWkid": 26917
}
},
"initialExtent": {
"xmin": 583462.8242014732,
"ymin": 4720950.923317927,
"xmax": 711672.1210353982,
"ymax": 4802545.121581273,
"spatialReference": {
"wkid": 26917,
"latestWkid": 26917
}
},
"fullExtent": {
"xmin": 583462.8242014732,
"ymin": 4720950.923317927,
"xmax": 711672.1210353982,
"ymax": 4802545.121581273,
"spatialReference": {
"wkid": 26917,
"latestWkid": 26917
}
},
"hasMultidimensions": false,
"pixelSizeX": 16.026162104240633,
"pixelSizeY": 15.646059110900522,
"datasetFormat": "TIFF",
"uncompressedSize": 125160000,
"blockWidth": 8000,
"blockHeight": 43,
"compressionType": "YCbCr JPEG",
"bandNames": [
"Band_1",
"Band_2",
"Band_3"
],
"allowCopy": true,
"allowAnalysis": true,
"bandCount": 3,
"pixelType": "U8",
"minPixelSize": 0,
"maxPixelSize": 0,
"copyrightText": "Brock University Map, Data & GIS Library",
"serviceDataType": "esriImageServiceDataTypeRGB",
"serviceSourceType": "esriImageServiceSourceTypeDataset",
"minValues": [
0,
0,
0
],
"maxValues": [
255,
255,
255
],
"meanValues": [
196.35194700377,
186.9111548418,
179.53620043143
],
"stdvValues": [
84.377004482995,
90.041333700698,
90.936878024881
],
"objectIdField": "",
"fields": [],
"capabilities": "Mensuration,Image,Metadata",
"defaultMosaicMethod": "Center",
"allowedMosaicMethods": "",
"sortField": "",
"sortValue": null,
"sortAscending": true,
"mosaicOperator": "First",
"defaultCompressionQuality": 75,
"defaultResamplingMethod": "Bilinear",
"maxImageHeight": 4100,
"maxImageWidth": 15000,
"allowRasterFunction": true,
"rasterFunctionInfos": [
{
"name": "None",
"description": "",
"help": ""
}
],
"rasterTypeInfos": [
{
"name": "Raster Dataset",
"description": "Supports all ArcGIS Raster Datasets",
"help": ""
}
],
"mensurationCapabilities": "Basic",
"hasHistograms": true,
"hasColormap": false,
"hasRasterAttributeTable": false,
"minScale": 0,
"maxScale": 0,
"exportTilesAllowed": false,
"supportsStatistics": false,
"supportsAdvancedQueries": false,
"editFieldsInfo": null,
"ownershipBasedAccessControlForRasters": null,
"allowComputeTiePoints": false,
"useStandardizedQueries": true,
"advancedQueryCapabilities": {
"useStandardizedQueries": true,
"supportsStatistics": false,
"supportsOrderBy": false,
"supportsDistinct": false,
"supportsPagination": false
},
"spatialReference": {
"wkid": 26917,
"latestWkid": 26917
}
}