{
 "currentVersion": 10.91,
 "serviceDescription": "<DIV STYLE=\"text-align:Left;\"><DIV><DIV><P><SPAN>Historical map showing Fort Niagara, Fort Schlosser, the line of the escarpment and hydrological features.<\/SPAN><\/P><P><SPAN>\"Quebec 6th Decr. 1788.\"<\/SPAN><\/P><P><SPAN>Relief shown by shading.<\/SPAN><\/P><P><SPAN>Scale [ca. 1:31,680]. 1 in to 1/2 mi.<\/SPAN><\/P><P><SPAN>Map date: 1788<\/SPAN><\/P><P><SPAN>Digital reproduction of map (32 x 97 cm.) in the Public Archives of Canada. National Map Collection. Library and Archives Canada.<\/SPAN><\/P><P><SPAN>Georeferenced and modified from NMC Map number 26862 by Map, Data and GIS Library, Brock University. <\/SPAN><\/P><P><SPAN /><\/P><\/DIV><\/DIV><\/DIV>",
 "name": "EarlyNiagara/NiagaraRiver1788NMC26862",
 "description": "<DIV STYLE=\"text-align:Left;\"><DIV><DIV><P><SPAN>Historical map showing Fort Niagara, Fort Schlosser, the line of the escarpment and hydrological features.<\/SPAN><\/P><P><SPAN>\"Quebec 6th Decr. 1788.\"<\/SPAN><\/P><P><SPAN>Relief shown by shading.<\/SPAN><\/P><P><SPAN>Scale [ca. 1:31,680]. 1 in to 1/2 mi.<\/SPAN><\/P><P><SPAN>Map date: 1788<\/SPAN><\/P><P><SPAN>Digital reproduction of map (32 x 97 cm.) in the Public Archives of Canada. National Map Collection. Library and Archives Canada.<\/SPAN><\/P><P><SPAN>Georeferenced and modified from NMC Map number 26862 by Map, Data and GIS Library, Brock University. <\/SPAN><\/P><P><SPAN /><\/P><\/DIV><\/DIV><\/DIV>",
 "extent": {
  "xmin": 652658.4746076113,
  "ymin": 4765391.046937181,
  "xmax": 665479.8963956113,
  "ymax": 4796667.2684171805,
  "spatialReference": {
   "wkid": 26917,
   "latestWkid": 26917
  }
 },
 "initialExtent": {
  "xmin": 652658.4746076113,
  "ymin": 4765391.046937181,
  "xmax": 665479.8963956113,
  "ymax": 4796667.2684171805,
  "spatialReference": {
   "wkid": 26917,
   "latestWkid": 26917
  }
 },
 "fullExtent": {
  "xmin": 652658.4746076113,
  "ymin": 4765391.046937181,
  "xmax": 665479.8963956113,
  "ymax": 4796667.2684171805,
  "spatialReference": {
   "wkid": 26917,
   "latestWkid": 26917
  }
 },
 "hasMultidimensions": false,
 "pixelSizeX": 9.145094000000025,
 "pixelSizeY": 9.14509399999995,
 "datasetFormat": "TIFF",
 "uncompressedSize": 9589680,
 "blockWidth": 128,
 "blockHeight": 128,
 "compressionType": "None",
 "bandNames": [
  "Band_1"
 ],
 "allowCopy": true,
 "allowAnalysis": true,
 "bandCount": 1,
 "noDataValue": 256,
 "noDataValues": [
  256
 ],
 "pixelType": "U16",
 "minPixelSize": 0,
 "maxPixelSize": 0,
 "copyrightText": "[\"signed\"]",
 "serviceDataType": "esriImageServiceDataTypeGeneric",
 "serviceSourceType": "esriImageServiceSourceTypeDataset",
 "minValues": [
  0
 ],
 "maxValues": [
  255
 ],
 "meanValues": [
  190.52209003182
 ],
 "stdvValues": [
  31.635661551291
 ],
 "objectIdField": "",
 "fields": [],
 "capabilities": "Image,Metadata,Mensuration",
 "defaultMosaicMethod": "Center",
 "allowedMosaicMethods": "",
 "sortField": "",
 "sortValue": null,
 "sortAscending": true,
 "mosaicOperator": "First",
 "defaultCompressionQuality": 75,
 "defaultResamplingMethod": "Bilinear",
 "maxImageHeight": 4100,
 "maxImageWidth": 15000,
 "allowRasterFunction": true,
 "rasterFunctionInfos": [
  {
   "name": "None",
   "description": "",
   "help": ""
  }
 ],
 "rasterTypeInfos": [
  {
   "name": "Raster Dataset",
   "description": "Supports all ArcGIS Raster Datasets",
   "help": ""
  }
 ],
 "mensurationCapabilities": "Basic",
 "hasHistograms": true,
 "hasColormap": false,
 "hasRasterAttributeTable": false,
 "minScale": 0,
 "maxScale": 0,
 "exportTilesAllowed": false,
 "supportsStatistics": false,
 "supportsAdvancedQueries": false,
 "editFieldsInfo": null,
 "ownershipBasedAccessControlForRasters": null,
 "allowComputeTiePoints": false,
 "useStandardizedQueries": true,
 "advancedQueryCapabilities": {
  "useStandardizedQueries": true,
  "supportsStatistics": false,
  "supportsOrderBy": false,
  "supportsDistinct": false,
  "supportsPagination": false
 },
 "spatialReference": {
  "wkid": 26917,
  "latestWkid": 26917
 }
}
