{
 "currentVersion": 10.91,
 "serviceDescription": "<DIV STYLE=\"text-align:Left;\"><DIV><DIV><P><SPAN>Historical map showing the Niagara River from Lake Ontario to Niagara Falls, including some vegetation, select roads and location of Fort George, Missisauga Point, Niagara Falls, Goat Island and Fort Schlosser.<\/SPAN><\/P><P><SPAN>\"This plan is from a survey by Lieut. Gray, assisted by some local surveys obtained on the spot. Q.M. Genls Office Quebec 1st June 1811, James Kempt Q.M. Genl N. America\"<\/SPAN><\/P><P><SPAN>Map date: 1810<\/SPAN><\/P><P><SPAN>Scale [1:31,680] or 1 in. to .05 mi.<\/SPAN><\/P><P><SPAN>Relief shown by shading.<\/SPAN><\/P><P><SPAN>Oriented with north to the left.<\/SPAN><\/P><P><SPAN>At head of title: No. IV, Upper Canada.<\/SPAN><\/P><P><SPAN>Digital reproduction of map (24 1/2 x 65 1/4 in.) in the Public Archives of Canada. National Map Collection. Library and Archives Canada.<\/SPAN><\/P><P><SPAN>Georeferenced and modified from NMC Map number 21728 by Map, Data and GIS Library, Brock University. <\/SPAN><\/P><P><SPAN /><\/P><\/DIV><\/DIV><\/DIV>",
 "name": "EarlyNiagara/NiagaraRiver1810NMC21728",
 "description": "<DIV STYLE=\"text-align:Left;\"><DIV><DIV><P><SPAN>Historical map showing the Niagara River from Lake Ontario to Niagara Falls, including some vegetation, select roads and location of Fort George, Missisauga Point, Niagara Falls, Goat Island and Fort Schlosser.<\/SPAN><\/P><P><SPAN>\"This plan is from a survey by Lieut. Gray, assisted by some local surveys obtained on the spot. Q.M. Genls Office Quebec 1st June 1811, James Kempt Q.M. Genl N. America\"<\/SPAN><\/P><P><SPAN>Map date: 1810<\/SPAN><\/P><P><SPAN>Scale [1:31,680] or 1 in. to .05 mi.<\/SPAN><\/P><P><SPAN>Relief shown by shading.<\/SPAN><\/P><P><SPAN>Oriented with north to the left.<\/SPAN><\/P><P><SPAN>At head of title: No. IV, Upper Canada.<\/SPAN><\/P><P><SPAN>Digital reproduction of map (24 1/2 x 65 1/4 in.) in the Public Archives of Canada. National Map Collection. Library and Archives Canada.<\/SPAN><\/P><P><SPAN>Georeferenced and modified from NMC Map number 21728 by Map, Data and GIS Library, Brock University. <\/SPAN><\/P><P><SPAN /><\/P><\/DIV><\/DIV><\/DIV>",
 "extent": {
  "xmin": 643439.7154839715,
  "ymin": 4745618.139897784,
  "xmax": 679705.5262119715,
  "ymax": 4798128.444009785,
  "spatialReference": {
   "wkid": 26917,
   "latestWkid": 26917
  }
 },
 "initialExtent": {
  "xmin": 643439.7154839715,
  "ymin": 4745618.139897784,
  "xmax": 679705.5262119715,
  "ymax": 4798128.444009785,
  "spatialReference": {
   "wkid": 26917,
   "latestWkid": 26917
  }
 },
 "fullExtent": {
  "xmin": 643439.7154839715,
  "ymin": 4745618.139897784,
  "xmax": 679705.5262119715,
  "ymax": 4798128.444009785,
  "spatialReference": {
   "wkid": 26917,
   "latestWkid": 26917
  }
 },
 "hasMultidimensions": false,
 "pixelSizeX": 8.300712000000003,
 "pixelSizeY": 8.300712000000061,
 "datasetFormat": "TIFF",
 "uncompressedSize": 55276588,
 "blockWidth": 128,
 "blockHeight": 128,
 "compressionType": "None",
 "bandNames": [
  "Band_1"
 ],
 "allowCopy": true,
 "allowAnalysis": true,
 "bandCount": 1,
 "noDataValue": 256,
 "noDataValues": [
  256
 ],
 "pixelType": "U16",
 "minPixelSize": 0,
 "maxPixelSize": 0,
 "copyrightText": "[\"Cartography\"]",
 "serviceDataType": "esriImageServiceDataTypeGeneric",
 "serviceSourceType": "esriImageServiceSourceTypeDataset",
 "minValues": [
  3
 ],
 "maxValues": [
  255
 ],
 "meanValues": [
  150.74936222411
 ],
 "stdvValues": [
  33.575809676127
 ],
 "objectIdField": "",
 "fields": [],
 "capabilities": "Image,Metadata,Mensuration",
 "defaultMosaicMethod": "Center",
 "allowedMosaicMethods": "",
 "sortField": "",
 "sortValue": null,
 "sortAscending": true,
 "mosaicOperator": "First",
 "defaultCompressionQuality": 75,
 "defaultResamplingMethod": "Bilinear",
 "maxImageHeight": 4100,
 "maxImageWidth": 15000,
 "allowRasterFunction": true,
 "rasterFunctionInfos": [
  {
   "name": "None",
   "description": "",
   "help": ""
  }
 ],
 "rasterTypeInfos": [
  {
   "name": "Raster Dataset",
   "description": "Supports all ArcGIS Raster Datasets",
   "help": ""
  }
 ],
 "mensurationCapabilities": "Basic",
 "hasHistograms": true,
 "hasColormap": false,
 "hasRasterAttributeTable": false,
 "minScale": 0,
 "maxScale": 0,
 "exportTilesAllowed": false,
 "supportsStatistics": false,
 "supportsAdvancedQueries": false,
 "editFieldsInfo": null,
 "ownershipBasedAccessControlForRasters": null,
 "allowComputeTiePoints": false,
 "useStandardizedQueries": true,
 "advancedQueryCapabilities": {
  "useStandardizedQueries": true,
  "supportsStatistics": false,
  "supportsOrderBy": false,
  "supportsDistinct": false,
  "supportsPagination": false
 },
 "spatialReference": {
  "wkid": 26917,
  "latestWkid": 26917
 }
}
