{ "currentVersion": 10.91, "serviceDescription": "
Historical map showing military forts, landings, portage roads on both sides of Niagara River.<\/span><\/p> Scale [ca. 1:63,360]<\/span><\/p> Relief shown by hachures.<\/span><\/p> Map published: Montreal, Qu. : Engineers Office<\/span><\/p> Map date: 1814.<\/span><\/p> Digital reproduction of map (26 1/4 x 77 in.) in the Public Archives of Canada. National Map Collection. Library and Archives Canada.<\/span><\/p> Georeferenced and modified from NMC Map number 18466 by Map, Data and GIS Library, Brock University. <\/span><\/p> <\/p><\/div><\/div><\/div>",
"name": "EarlyNiagara/NiagaraRiver1814NMC18466",
"description": " Historical map showing military forts, landings, portage roads on both sides of Niagara River.<\/span><\/p> Scale [ca. 1:63,360]<\/span><\/p> Relief shown by hachures.<\/span><\/p> Map published: Montreal, Qu. : Engineers Office<\/span><\/p> Map date: 1814.<\/span><\/p> Digital reproduction of map (26 1/4 x 77 in.) in the Public Archives of Canada. National Map Collection. Library and Archives Canada.<\/span><\/p> Georeferenced and modified from NMC Map number 18466 by Map, Data and GIS Library, Brock University. <\/span><\/p> <\/p><\/div><\/div><\/div>",
"extent": {
"xmin": 649734.2548792416,
"ymin": 4745162.456294167,
"xmax": 685179.7133392416,
"ymax": 4797310.448819167,
"spatialReference": {
"wkid": 26917,
"latestWkid": 26917
}
},
"initialExtent": {
"xmin": 649734.2548792416,
"ymin": 4745162.456294167,
"xmax": 685179.7133392416,
"ymax": 4797310.448819167,
"spatialReference": {
"wkid": 26917,
"latestWkid": 26917
}
},
"fullExtent": {
"xmin": 649734.2548792416,
"ymin": 4745162.456294167,
"xmax": 685179.7133392416,
"ymax": 4797310.448819167,
"spatialReference": {
"wkid": 26917,
"latestWkid": 26917
}
},
"hasMultidimensions": false,
"pixelSizeX": 8.431364999999998,
"pixelSizeY": 8.43136500000002,
"datasetFormat": "TIFF",
"uncompressedSize": 51995072,
"blockWidth": 128,
"blockHeight": 128,
"compressionType": "None",
"bandNames": [
"Band_1"
],
"allowCopy": true,
"allowAnalysis": true,
"bandCount": 1,
"noDataValue": 256,
"noDataValues": [
256
],
"pixelType": "U16",
"minPixelSize": 0,
"maxPixelSize": 0,
"copyrightText": "copied by George Williams.Map, Data & GIS Library, Brock University.",
"serviceDataType": "esriImageServiceDataTypeGeneric",
"serviceSourceType": "esriImageServiceSourceTypeDataset",
"minValues": [
16
],
"maxValues": [
255
],
"meanValues": [
159.41087067282
],
"stdvValues": [
38.857541521597
],
"objectIdField": "",
"fields": [],
"capabilities": "Mensuration,Image,Metadata",
"defaultMosaicMethod": "Center",
"allowedMosaicMethods": "",
"sortField": "",
"sortValue": null,
"sortAscending": true,
"mosaicOperator": "First",
"defaultCompressionQuality": 75,
"defaultResamplingMethod": "Bilinear",
"maxImageHeight": 4100,
"maxImageWidth": 15000,
"allowRasterFunction": true,
"rasterFunctionInfos": [
{
"name": "None",
"description": "",
"help": ""
}
],
"rasterTypeInfos": [
{
"name": "Raster Dataset",
"description": "Supports all ArcGIS Raster Datasets",
"help": ""
}
],
"mensurationCapabilities": "Basic",
"hasHistograms": true,
"hasColormap": false,
"hasRasterAttributeTable": false,
"minScale": 0,
"maxScale": 0,
"exportTilesAllowed": false,
"supportsStatistics": false,
"supportsAdvancedQueries": false,
"editFieldsInfo": null,
"ownershipBasedAccessControlForRasters": null,
"allowComputeTiePoints": false,
"useStandardizedQueries": true,
"advancedQueryCapabilities": {
"useStandardizedQueries": true,
"supportsStatistics": false,
"supportsOrderBy": false,
"supportsDistinct": false,
"supportsPagination": false
},
"spatialReference": {
"wkid": 26917,
"latestWkid": 26917
}
}