{ "currentVersion": 10.91, "serviceDescription": "
Historical map showing the land on both sides of the Niagara River from Lake Erie to Lake Ontario. Communities, forts, buildings, and roads are illustrated. Inset maps of Fort Erie and Chippawa depict: the military buildings, fortifications, and size of barracks. It was included in Sir George Prevost no 170 to Earl of Bathurst 12 July 1814 recording the loss of Fort Erie and defeat at Chippawa.<\/SPAN><\/P> \"QS 76\" written in bottom right corner.<\/SPAN><\/P> Relief shown by hachures.<\/SPAN><\/P> Digital reproduction of map in the Public Archives of Canada. National Map Collection. Library and Archives Canada.<\/SPAN><\/P> Georeferenced and modified from NMC Map number 3170 by Map, Data and GIS Library, Brock University. <\/SPAN><\/P> <\/P><\/DIV><\/DIV><\/DIV>",
"name": "EarlyNiagara/NiagaraRiver1814NMC3170",
"description": " Historical map showing the land on both sides of the Niagara River from Lake Erie to Lake Ontario. Communities, forts, buildings, and roads are illustrated. Inset maps of Fort Erie and Chippawa depict: the military buildings, fortifications, and size of barracks. It was included in Sir George Prevost no 170 to Earl of Bathurst 12 July 1814 recording the loss of Fort Erie and defeat at Chippawa.<\/SPAN><\/P> \"QS 76\" written in bottom right corner.<\/SPAN><\/P> Relief shown by hachures.<\/SPAN><\/P> Digital reproduction of map in the Public Archives of Canada. National Map Collection. Library and Archives Canada.<\/SPAN><\/P> Georeferenced and modified from NMC Map number 3170 by Map, Data and GIS Library, Brock University. <\/SPAN><\/P> <\/P><\/DIV><\/DIV><\/DIV>",
"extent": {
"xmin": 622915.6310957962,
"ymin": 4733488.019496656,
"xmax": 686344.5283037962,
"ymax": 4798329.043140656,
"spatialReference": {
"wkid": 26917,
"latestWkid": 26917
}
},
"initialExtent": {
"xmin": 622915.6310957962,
"ymin": 4733488.019496656,
"xmax": 686344.5283037962,
"ymax": 4798329.043140656,
"spatialReference": {
"wkid": 26917,
"latestWkid": 26917
}
},
"fullExtent": {
"xmin": 622915.6310957962,
"ymin": 4733488.019496656,
"xmax": 686344.5283037962,
"ymax": 4798329.043140656,
"spatialReference": {
"wkid": 26917,
"latestWkid": 26917
}
},
"hasMultidimensions": false,
"pixelSizeX": 10.617491999999991,
"pixelSizeY": 10.617492000000048,
"datasetFormat": "TIFF",
"uncompressedSize": 72966436,
"blockWidth": 128,
"blockHeight": 128,
"compressionType": "None",
"bandNames": [
"Band_1"
],
"allowCopy": true,
"allowAnalysis": true,
"bandCount": 1,
"noDataValue": 256,
"noDataValues": [
256
],
"pixelType": "U16",
"minPixelSize": 0,
"maxPixelSize": 0,
"copyrightText": "Map, Data & GIS Library, Brock University.",
"serviceDataType": "esriImageServiceDataTypeGeneric",
"serviceSourceType": "esriImageServiceSourceTypeDataset",
"minValues": [
9
],
"maxValues": [
255
],
"meanValues": [
199.53817420575
],
"stdvValues": [
29.089430094345
],
"objectIdField": "",
"fields": [],
"capabilities": "Image,Metadata,Mensuration",
"defaultMosaicMethod": "Center",
"allowedMosaicMethods": "",
"sortField": "",
"sortValue": null,
"sortAscending": true,
"mosaicOperator": "First",
"defaultCompressionQuality": 75,
"defaultResamplingMethod": "Bilinear",
"maxImageHeight": 4100,
"maxImageWidth": 15000,
"allowRasterFunction": true,
"rasterFunctionInfos": [
{
"name": "None",
"description": "",
"help": ""
}
],
"rasterTypeInfos": [
{
"name": "Raster Dataset",
"description": "Supports all ArcGIS Raster Datasets",
"help": ""
}
],
"mensurationCapabilities": "Basic",
"hasHistograms": true,
"hasColormap": false,
"hasRasterAttributeTable": false,
"minScale": 0,
"maxScale": 0,
"exportTilesAllowed": false,
"supportsStatistics": false,
"supportsAdvancedQueries": false,
"editFieldsInfo": null,
"ownershipBasedAccessControlForRasters": null,
"allowComputeTiePoints": false,
"useStandardizedQueries": true,
"advancedQueryCapabilities": {
"useStandardizedQueries": true,
"supportsStatistics": false,
"supportsOrderBy": false,
"supportsDistinct": false,
"supportsPagination": false
},
"spatialReference": {
"wkid": 26917,
"latestWkid": 26917
}
}