{ "currentVersion": 10.91, "serviceDescription": "
Historical map of the Niagara River from Lake Ontario to Lake Erie. Shows forts, villages, towns, buildings, islands.<\/span><\/p> Digital reproduction of map (22 1/2 x 39 1/4 in.) in the Public Archives of Canada. National Map Collection. Library and Archives Canada.<\/span><\/p> Relief shown by shading and hachures. Depths shown by soundings throughout the river.<\/span><\/p> Georeferenced and modified from NMC Map number 21729 by Map, Data and GIS Library, Brock University. <\/span><\/p> <\/p><\/div><\/div><\/div>",
"name": "EarlyNiagara/NiagaraRiver1817NMC21729",
"description": " Historical map of the Niagara River from Lake Ontario to Lake Erie. Shows forts, villages, towns, buildings, islands.<\/span><\/p> Digital reproduction of map (22 1/2 x 39 1/4 in.) in the Public Archives of Canada. National Map Collection. Library and Archives Canada.<\/span><\/p> Relief shown by shading and hachures. Depths shown by soundings throughout the river.<\/span><\/p> Georeferenced and modified from NMC Map number 21729 by Map, Data and GIS Library, Brock University. <\/span><\/p> <\/p><\/div><\/div><\/div>",
"extent": {
"xmin": 638775.6787272673,
"ymin": 4745752.3993454315,
"xmax": 688346.7225222674,
"ymax": 4800964.494766432,
"spatialReference": {
"wkid": 26917,
"latestWkid": 26917
}
},
"initialExtent": {
"xmin": 638775.6787272673,
"ymin": 4745752.3993454315,
"xmax": 688346.7225222674,
"ymax": 4800964.494766432,
"spatialReference": {
"wkid": 26917,
"latestWkid": 26917
}
},
"fullExtent": {
"xmin": 638775.6787272673,
"ymin": 4745752.3993454315,
"xmax": 688346.7225222674,
"ymax": 4800964.494766432,
"spatialReference": {
"wkid": 26917,
"latestWkid": 26917
}
},
"hasMultidimensions": false,
"pixelSizeX": 12.105261000000015,
"pixelSizeY": 12.105261000000084,
"datasetFormat": "TIFF",
"uncompressedSize": 37354590,
"blockWidth": 128,
"blockHeight": 128,
"compressionType": "None",
"bandNames": [
"Band_1"
],
"allowCopy": true,
"allowAnalysis": true,
"bandCount": 1,
"noDataValue": 256,
"noDataValues": [
256
],
"pixelType": "U16",
"minPixelSize": 0,
"maxPixelSize": 0,
"copyrightText": "Made ... under the direction of Captain William Fitzwilliam Owen.Copy. J. NightingaleMap, Data & GIS Library, Brock University.",
"serviceDataType": "esriImageServiceDataTypeGeneric",
"serviceSourceType": "esriImageServiceSourceTypeDataset",
"minValues": [
24
],
"maxValues": [
255
],
"meanValues": [
203.4409158646
],
"stdvValues": [
25.649678326786
],
"objectIdField": "",
"fields": [],
"capabilities": "Mensuration,Image,Metadata",
"defaultMosaicMethod": "Center",
"allowedMosaicMethods": "",
"sortField": "",
"sortValue": null,
"sortAscending": true,
"mosaicOperator": "First",
"defaultCompressionQuality": 75,
"defaultResamplingMethod": "Bilinear",
"maxImageHeight": 4100,
"maxImageWidth": 15000,
"allowRasterFunction": true,
"rasterFunctionInfos": [
{
"name": "None",
"description": "",
"help": ""
}
],
"rasterTypeInfos": [
{
"name": "Raster Dataset",
"description": "Supports all ArcGIS Raster Datasets",
"help": ""
}
],
"mensurationCapabilities": "Basic",
"hasHistograms": true,
"hasColormap": false,
"hasRasterAttributeTable": false,
"minScale": 0,
"maxScale": 0,
"exportTilesAllowed": false,
"supportsStatistics": false,
"supportsAdvancedQueries": false,
"editFieldsInfo": null,
"ownershipBasedAccessControlForRasters": null,
"allowComputeTiePoints": false,
"useStandardizedQueries": true,
"advancedQueryCapabilities": {
"useStandardizedQueries": true,
"supportsStatistics": false,
"supportsOrderBy": false,
"supportsDistinct": false,
"supportsPagination": false
},
"spatialReference": {
"wkid": 26917,
"latestWkid": 26917
}
}