{ "currentVersion": 10.91, "serviceDescription": "
Historical map showing place names, streets and hydrological features on both sides of the Niagara River.<\/span><\/p> Includes inset: \"Vertical section of the Great Slope which occations the Falls\" a vertical cross section of the Niagara Escarpment from Queenston to Chippewa.<\/span><\/p> Scale [ca. 45,744]<\/span><\/p> Relief shown by hachures.<\/span><\/p> Originally printed in William Darby's \"A tour from the city of New-York to Detroit in the Michigan Territory.\" (New York : Kirk & Mercein and others, 1819)<\/span><\/p> Map date: 1819?<\/span><\/p> Digital reproduction of map (6 3/4 x 14 3/4 in.) in the Public Archives of Canada. National Map Collection. Library and Archives Canada.<\/span><\/p> Georeferenced and modified from NMC Map number 3151 by Map, Data and GIS Library, Brock University. <\/span><\/p> <\/p><\/div><\/div><\/div>",
"name": "EarlyNiagara/NiagaraRiver1819NMC3151",
"description": " Historical map showing place names, streets and hydrological features on both sides of the Niagara River.<\/span><\/p> Includes inset: \"Vertical section of the Great Slope which occations the Falls\" a vertical cross section of the Niagara Escarpment from Queenston to Chippewa.<\/span><\/p> Scale [ca. 45,744]<\/span><\/p> Relief shown by hachures.<\/span><\/p> Originally printed in William Darby's \"A tour from the city of New-York to Detroit in the Michigan Territory.\" (New York : Kirk & Mercein and others, 1819)<\/span><\/p> Map date: 1819?<\/span><\/p> Digital reproduction of map (6 3/4 x 14 3/4 in.) in the Public Archives of Canada. National Map Collection. Library and Archives Canada.<\/span><\/p> Georeferenced and modified from NMC Map number 3151 by Map, Data and GIS Library, Brock University. <\/span><\/p> <\/p><\/div><\/div><\/div>",
"extent": {
"xmin": 651643.780820726,
"ymin": 4741271.080329552,
"xmax": 675919.7409747259,
"ymax": 4797758.809083552,
"spatialReference": {
"wkid": 26917,
"latestWkid": 26917
}
},
"initialExtent": {
"xmin": 651643.780820726,
"ymin": 4741271.080329552,
"xmax": 675919.7409747259,
"ymax": 4797758.809083552,
"spatialReference": {
"wkid": 26917,
"latestWkid": 26917
}
},
"fullExtent": {
"xmin": 651643.780820726,
"ymin": 4741271.080329552,
"xmax": 675919.7409747259,
"ymax": 4797758.809083552,
"spatialReference": {
"wkid": 26917,
"latestWkid": 26917
}
},
"hasMultidimensions": false,
"pixelSizeX": 14.641712999999983,
"pixelSizeY": 14.64171299999995,
"datasetFormat": "TIFF",
"uncompressedSize": 12793128,
"blockWidth": 128,
"blockHeight": 128,
"compressionType": "None",
"bandNames": [
"Band_1"
],
"allowCopy": true,
"allowAnalysis": true,
"bandCount": 1,
"noDataValue": 256,
"noDataValues": [
256
],
"pixelType": "U16",
"minPixelSize": 0,
"maxPixelSize": 0,
"copyrightText": "William Darby, 1775-1854.Map, Data & GIS Library, Brock University.",
"serviceDataType": "esriImageServiceDataTypeGeneric",
"serviceSourceType": "esriImageServiceSourceTypeDataset",
"minValues": [
0
],
"maxValues": [
238
],
"meanValues": [
159.82973200073
],
"stdvValues": [
44.52535451643
],
"objectIdField": "",
"fields": [],
"capabilities": "Mensuration,Image,Metadata",
"defaultMosaicMethod": "Center",
"allowedMosaicMethods": "",
"sortField": "",
"sortValue": null,
"sortAscending": true,
"mosaicOperator": "First",
"defaultCompressionQuality": 75,
"defaultResamplingMethod": "Bilinear",
"maxImageHeight": 4100,
"maxImageWidth": 15000,
"allowRasterFunction": true,
"rasterFunctionInfos": [
{
"name": "None",
"description": "",
"help": ""
}
],
"rasterTypeInfos": [
{
"name": "Raster Dataset",
"description": "Supports all ArcGIS Raster Datasets",
"help": ""
}
],
"mensurationCapabilities": "Basic",
"hasHistograms": true,
"hasColormap": false,
"hasRasterAttributeTable": false,
"minScale": 0,
"maxScale": 0,
"exportTilesAllowed": false,
"supportsStatistics": false,
"supportsAdvancedQueries": false,
"editFieldsInfo": null,
"ownershipBasedAccessControlForRasters": null,
"allowComputeTiePoints": false,
"useStandardizedQueries": true,
"advancedQueryCapabilities": {
"useStandardizedQueries": true,
"supportsStatistics": false,
"supportsOrderBy": false,
"supportsDistinct": false,
"supportsPagination": false
},
"spatialReference": {
"wkid": 26917,
"latestWkid": 26917
}
}