{ "currentVersion": 10.91, "serviceDescription": "
Historical map of the Niagara River showing transportation and hydrological features, roads on either side of the river, place names, forts, \"ancient shore of Lake Ontario\", Brock's Monument.<\/span><\/p> \"Estimate by Geo. Catlin in 1827\".<\/span><\/p> Digital reproduction of map (28 x 22 cm.) in the Public Archives of Canada. National Map Collection. Library and Archives Canada.<\/span><\/p> Georeferenced and modified from NMC Map number 120091 by Map, Data and GIS Library, Brock University. <\/span><\/p> <\/p><\/div><\/div><\/div>",
"name": "EarlyNiagara/NiagaraRiver1827NMC120091",
"description": " Historical map of the Niagara River showing transportation and hydrological features, roads on either side of the river, place names, forts, \"ancient shore of Lake Ontario\", Brock's Monument.<\/span><\/p> \"Estimate by Geo. Catlin in 1827\".<\/span><\/p> Digital reproduction of map (28 x 22 cm.) in the Public Archives of Canada. National Map Collection. Library and Archives Canada.<\/span><\/p> Georeferenced and modified from NMC Map number 120091 by Map, Data and GIS Library, Brock University. <\/span><\/p> <\/p><\/div><\/div><\/div>",
"extent": {
"xmin": -8831142.751816044,
"ymin": 5287573.298951881,
"xmax": -8744043.104128044,
"ymax": 5357069.327159881,
"spatialReference": {
"wkid": 102100,
"latestWkid": 3857
}
},
"initialExtent": {
"xmin": -8831142.751816044,
"ymin": 5287573.298951881,
"xmax": -8744043.104128044,
"ymax": 5357069.327159881,
"spatialReference": {
"wkid": 102100,
"latestWkid": 3857
}
},
"fullExtent": {
"xmin": -8831142.751816044,
"ymin": 5287573.298951881,
"xmax": -8744043.104128044,
"ymax": 5357069.327159881,
"spatialReference": {
"wkid": 102100,
"latestWkid": 3857
}
},
"hasMultidimensions": false,
"pixelSizeX": 19.134368999999896,
"pixelSizeY": 19.134368999999904,
"datasetFormat": "TIFF",
"uncompressedSize": 33065728,
"blockWidth": 128,
"blockHeight": 128,
"compressionType": "None",
"bandNames": [
"Band_1"
],
"allowCopy": true,
"allowAnalysis": true,
"bandCount": 1,
"noDataValue": 256,
"noDataValues": [
256
],
"pixelType": "U16",
"minPixelSize": 0,
"maxPixelSize": 0,
"copyrightText": "Map, Data & GIS Library, Brock University.",
"serviceDataType": "esriImageServiceDataTypeGeneric",
"serviceSourceType": "esriImageServiceSourceTypeDataset",
"minValues": [
25
],
"maxValues": [
250
],
"meanValues": [
163.45093925982
],
"stdvValues": [
36.75979538791
],
"objectIdField": "",
"fields": [],
"capabilities": "Mensuration,Image,Metadata",
"defaultMosaicMethod": "Center",
"allowedMosaicMethods": "",
"sortField": "",
"sortValue": null,
"sortAscending": true,
"mosaicOperator": "First",
"defaultCompressionQuality": 75,
"defaultResamplingMethod": "Bilinear",
"maxImageHeight": 4100,
"maxImageWidth": 15000,
"allowRasterFunction": true,
"rasterFunctionInfos": [
{
"name": "None",
"description": "",
"help": ""
}
],
"rasterTypeInfos": [
{
"name": "Raster Dataset",
"description": "Supports all ArcGIS Raster Datasets",
"help": ""
}
],
"mensurationCapabilities": "Basic",
"hasHistograms": true,
"hasColormap": false,
"hasRasterAttributeTable": false,
"minScale": 0,
"maxScale": 0,
"exportTilesAllowed": false,
"supportsStatistics": false,
"supportsAdvancedQueries": false,
"editFieldsInfo": null,
"ownershipBasedAccessControlForRasters": null,
"allowComputeTiePoints": false,
"useStandardizedQueries": true,
"advancedQueryCapabilities": {
"useStandardizedQueries": true,
"supportsStatistics": false,
"supportsOrderBy": false,
"supportsDistinct": false,
"supportsPagination": false
},
"spatialReference": {
"wkid": 102100,
"latestWkid": 3857
}
}