{ "currentVersion": 10.91, "serviceDescription": "
Historical map showing the Niagara River, place names, township boundaries, hydrological features, the First Welland Canal, Brock's Monument.<\/span><\/p> \"with the principle objects of interest in the vicinity of the seat of war in Upper Canada. From actual survey / R. Ackermann.\"<\/span><\/p> Digital reproduction of map (11 1/2 x 7 in.) in the Public Archives of Canada. National Map Collection. Library and Archives Canada.<\/span><\/p> Relief shown by shading<\/span><\/p> Georeferenced and modified from NMC Map number 59330 by Map, Data and GIS Library, Brock University. <\/span><\/p> <\/p><\/div><\/div><\/div>",
"name": "EarlyNiagara/NiagaraRiver1838NMC59330",
"description": " Historical map showing the Niagara River, place names, township boundaries, hydrological features, the First Welland Canal, Brock's Monument.<\/span><\/p> \"with the principle objects of interest in the vicinity of the seat of war in Upper Canada. From actual survey / R. Ackermann.\"<\/span><\/p> Digital reproduction of map (11 1/2 x 7 in.) in the Public Archives of Canada. National Map Collection. Library and Archives Canada.<\/span><\/p> Relief shown by shading<\/span><\/p> Georeferenced and modified from NMC Map number 59330 by Map, Data and GIS Library, Brock University. <\/span><\/p> <\/p><\/div><\/div><\/div>",
"extent": {
"xmin": 637242.1747207697,
"ymin": 4737705.193593132,
"xmax": 693178.6622857697,
"ymax": 4797483.190920132,
"spatialReference": {
"wkid": 26717,
"latestWkid": 26717
}
},
"initialExtent": {
"xmin": 637242.1747207697,
"ymin": 4737705.193593132,
"xmax": 693178.6622857697,
"ymax": 4797483.190920132,
"spatialReference": {
"wkid": 26717,
"latestWkid": 26717
}
},
"fullExtent": {
"xmin": 637242.1747207697,
"ymin": 4737705.193593132,
"xmax": 693178.6622857697,
"ymax": 4797483.190920132,
"spatialReference": {
"wkid": 26717,
"latestWkid": 26717
}
},
"hasMultidimensions": false,
"pixelSizeX": 14.662250999999989,
"pixelSizeY": 14.662250999999976,
"datasetFormat": "TIFF",
"uncompressedSize": 31107510,
"blockWidth": 128,
"blockHeight": 128,
"compressionType": "None",
"bandNames": [
"Band_1"
],
"allowCopy": true,
"allowAnalysis": true,
"bandCount": 1,
"noDataValue": 256,
"noDataValues": [
256
],
"pixelType": "U16",
"minPixelSize": 0,
"maxPixelSize": 0,
"copyrightText": "Map, Data & GIS Library, Brock University.",
"serviceDataType": "esriImageServiceDataTypeGeneric",
"serviceSourceType": "esriImageServiceSourceTypeDataset",
"minValues": [
22
],
"maxValues": [
255
],
"meanValues": [
151.02800827462
],
"stdvValues": [
45.362743501001
],
"objectIdField": "",
"fields": [],
"capabilities": "Mensuration,Image,Metadata",
"defaultMosaicMethod": "Center",
"allowedMosaicMethods": "",
"sortField": "",
"sortValue": null,
"sortAscending": true,
"mosaicOperator": "First",
"defaultCompressionQuality": 75,
"defaultResamplingMethod": "Bilinear",
"maxImageHeight": 4100,
"maxImageWidth": 15000,
"allowRasterFunction": true,
"rasterFunctionInfos": [
{
"name": "None",
"description": "",
"help": ""
}
],
"rasterTypeInfos": [
{
"name": "Raster Dataset",
"description": "Supports all ArcGIS Raster Datasets",
"help": ""
}
],
"mensurationCapabilities": "Basic",
"hasHistograms": true,
"hasColormap": false,
"hasRasterAttributeTable": false,
"minScale": 0,
"maxScale": 0,
"exportTilesAllowed": false,
"supportsStatistics": false,
"supportsAdvancedQueries": false,
"editFieldsInfo": null,
"ownershipBasedAccessControlForRasters": null,
"allowComputeTiePoints": false,
"useStandardizedQueries": true,
"advancedQueryCapabilities": {
"useStandardizedQueries": true,
"supportsStatistics": false,
"supportsOrderBy": false,
"supportsDistinct": false,
"supportsPagination": false
},
"spatialReference": {
"wkid": 26717,
"latestWkid": 26717
}
}