{ "currentVersion": 10.91, "serviceDescription": "
Historical map showing the Niagara River including concessions along the river, of Bertie, Willoughby, Stamford and Niagara townships, military reserve, towns, forts and roads.<\/SPAN><\/P> Black ink stamp: Royl Engr. Office no.380<\/SPAN><\/P> Scale [ca. 1:50,823]<\/SPAN><\/P> Relief shown by shading.<\/SPAN><\/P> Map date: 1844<\/SPAN><\/P> Digital reproduction of map in the Public Archives of Canada. National Map Collection. Library and Archives.<\/SPAN><\/P> Georeferenced and modified from NMC Map number 21851-1 by Map, Data and GIS Library, Brock University. <\/SPAN><\/P> <\/P><\/DIV><\/DIV><\/DIV>",
"name": "EarlyNiagara/NiagaraRiver1844NMC218511",
"description": " Historical map showing the Niagara River including concessions along the river, of Bertie, Willoughby, Stamford and Niagara townships, military reserve, towns, forts and roads.<\/SPAN><\/P> Black ink stamp: Royl Engr. Office no.380<\/SPAN><\/P> Scale [ca. 1:50,823]<\/SPAN><\/P> Relief shown by shading.<\/SPAN><\/P> Map date: 1844<\/SPAN><\/P> Digital reproduction of map in the Public Archives of Canada. National Map Collection. Library and Archives.<\/SPAN><\/P> Georeferenced and modified from NMC Map number 21851-1 by Map, Data and GIS Library, Brock University. <\/SPAN><\/P> <\/P><\/DIV><\/DIV><\/DIV>",
"extent": {
"xmin": 653753.9684877085,
"ymin": 4746002.046587771,
"xmax": 675204.9532877085,
"ymax": 4779658.2039637705,
"spatialReference": {
"wkid": 26917,
"latestWkid": 26917
}
},
"initialExtent": {
"xmin": 653753.9684877085,
"ymin": 4746002.046587771,
"xmax": 675204.9532877085,
"ymax": 4779658.2039637705,
"spatialReference": {
"wkid": 26917,
"latestWkid": 26917
}
},
"fullExtent": {
"xmin": 653753.9684877085,
"ymin": 4746002.046587771,
"xmax": 675204.9532877085,
"ymax": 4779658.2039637705,
"spatialReference": {
"wkid": 26917,
"latestWkid": 26917
}
},
"hasMultidimensions": false,
"pixelSizeX": 8.755503999999991,
"pixelSizeY": 8.75550399999993,
"datasetFormat": "TIFF",
"uncompressedSize": 18827912,
"blockWidth": 128,
"blockHeight": 128,
"compressionType": "None",
"bandNames": [
"Band_1"
],
"allowCopy": true,
"allowAnalysis": true,
"bandCount": 1,
"noDataValue": 256,
"noDataValues": [
256
],
"pixelType": "U16",
"minPixelSize": 0,
"maxPixelSize": 0,
"copyrightText": "[\"signed\"]",
"serviceDataType": "esriImageServiceDataTypeGeneric",
"serviceSourceType": "esriImageServiceSourceTypeDataset",
"minValues": [
0
],
"maxValues": [
255
],
"meanValues": [
175.51663567384
],
"stdvValues": [
22.534566319586
],
"objectIdField": "",
"fields": [],
"capabilities": "Image,Metadata,Mensuration",
"defaultMosaicMethod": "Center",
"allowedMosaicMethods": "",
"sortField": "",
"sortValue": null,
"sortAscending": true,
"mosaicOperator": "First",
"defaultCompressionQuality": 75,
"defaultResamplingMethod": "Bilinear",
"maxImageHeight": 4100,
"maxImageWidth": 15000,
"allowRasterFunction": true,
"rasterFunctionInfos": [
{
"name": "None",
"description": "",
"help": ""
}
],
"rasterTypeInfos": [
{
"name": "Raster Dataset",
"description": "Supports all ArcGIS Raster Datasets",
"help": ""
}
],
"mensurationCapabilities": "Basic",
"hasHistograms": true,
"hasColormap": false,
"hasRasterAttributeTable": false,
"minScale": 0,
"maxScale": 0,
"exportTilesAllowed": false,
"supportsStatistics": false,
"supportsAdvancedQueries": false,
"editFieldsInfo": null,
"ownershipBasedAccessControlForRasters": null,
"allowComputeTiePoints": false,
"useStandardizedQueries": true,
"advancedQueryCapabilities": {
"useStandardizedQueries": true,
"supportsStatistics": false,
"supportsOrderBy": false,
"supportsDistinct": false,
"supportsPagination": false
},
"spatialReference": {
"wkid": 26917,
"latestWkid": 26917
}
}