{ "currentVersion": 10.91, "serviceDescription": "
Historical map showing the Niagara River including concessions along the river, of Bertie, Willoughby, Stamford and Niagara townships, military reserve, towns, forts and roads.<\/SPAN><\/P> Black ink stamp: Royl Engr. Office no.380<\/SPAN><\/P> Scale [ca. 1:50,823]<\/SPAN><\/P> Relief shown by shading.<\/SPAN><\/P> Map date: 1844<\/SPAN><\/P> Digital reproduction of map in the Public Archives of Canada. National Map Collection. Library and Archives.<\/SPAN><\/P> Georeferenced and modified from NMC Map number 21851-2 by Map, Data and GIS Library, Brock University. <\/SPAN><\/P><\/DIV><\/DIV><\/DIV>",
"name": "EarlyNiagara/NiagaraRiver1844NMC218512",
"description": " Historical map showing the Niagara River including concessions along the river, of Bertie, Willoughby, Stamford and Niagara townships, military reserve, towns, forts and roads.<\/SPAN><\/P> Black ink stamp: Royl Engr. Office no.380<\/SPAN><\/P> Scale [ca. 1:50,823]<\/SPAN><\/P> Relief shown by shading.<\/SPAN><\/P> Map date: 1844<\/SPAN><\/P> Digital reproduction of map in the Public Archives of Canada. National Map Collection. Library and Archives.<\/SPAN><\/P> Georeferenced and modified from NMC Map number 21851-2 by Map, Data and GIS Library, Brock University. <\/SPAN><\/P><\/DIV><\/DIV><\/DIV>",
"extent": {
"xmin": 649179.3237115616,
"ymin": 4768910.468363337,
"xmax": 667437.2047975616,
"ymax": 4802491.066151337,
"spatialReference": {
"wkid": 26917,
"latestWkid": 26917
}
},
"initialExtent": {
"xmin": 649179.3237115616,
"ymin": 4768910.468363337,
"xmax": 667437.2047975616,
"ymax": 4802491.066151337,
"spatialReference": {
"wkid": 26917,
"latestWkid": 26917
}
},
"fullExtent": {
"xmin": 649179.3237115616,
"ymin": 4768910.468363337,
"xmax": 667437.2047975616,
"ymax": 4802491.066151337,
"spatialReference": {
"wkid": 26917,
"latestWkid": 26917
}
},
"hasMultidimensions": false,
"pixelSizeX": 9.655146000000004,
"pixelSizeY": 9.65514599999987,
"datasetFormat": "TIFF",
"uncompressedSize": 13153796,
"blockWidth": 128,
"blockHeight": 128,
"compressionType": "None",
"bandNames": [
"Band_1"
],
"allowCopy": true,
"allowAnalysis": true,
"bandCount": 1,
"noDataValue": 256,
"noDataValues": [
256
],
"pixelType": "U16",
"minPixelSize": 0,
"maxPixelSize": 0,
"copyrightText": "[\"signed\"]",
"serviceDataType": "esriImageServiceDataTypeGeneric",
"serviceSourceType": "esriImageServiceSourceTypeDataset",
"minValues": [
6
],
"maxValues": [
255
],
"meanValues": [
156.31461621403
],
"stdvValues": [
27.718494509412
],
"objectIdField": "",
"fields": [],
"capabilities": "Image,Metadata,Mensuration",
"defaultMosaicMethod": "Center",
"allowedMosaicMethods": "",
"sortField": "",
"sortValue": null,
"sortAscending": true,
"mosaicOperator": "First",
"defaultCompressionQuality": 75,
"defaultResamplingMethod": "Bilinear",
"maxImageHeight": 4100,
"maxImageWidth": 15000,
"allowRasterFunction": true,
"rasterFunctionInfos": [
{
"name": "None",
"description": "",
"help": ""
}
],
"rasterTypeInfos": [
{
"name": "Raster Dataset",
"description": "Supports all ArcGIS Raster Datasets",
"help": ""
}
],
"mensurationCapabilities": "Basic",
"hasHistograms": true,
"hasColormap": false,
"hasRasterAttributeTable": false,
"minScale": 0,
"maxScale": 0,
"exportTilesAllowed": false,
"supportsStatistics": false,
"supportsAdvancedQueries": false,
"editFieldsInfo": null,
"ownershipBasedAccessControlForRasters": null,
"allowComputeTiePoints": false,
"useStandardizedQueries": true,
"advancedQueryCapabilities": {
"useStandardizedQueries": true,
"supportsStatistics": false,
"supportsOrderBy": false,
"supportsDistinct": false,
"supportsPagination": false
},
"spatialReference": {
"wkid": 26917,
"latestWkid": 26917
}
}