{ "currentVersion": 10.91, "serviceDescription": "
Historical map showing the area along bank from Niagara Falls to Niagara suspension bridge at Queenston applied for by the company; heights of cliffs on both sides of river given; roads and distances.<\/SPAN><\/P> Digital reproduction of map (45 x 56 cm.) in the Public Archives of Canada. National Map Collection. Library and Archives Canada.<\/SPAN><\/P> Relief shown by shading. Depths shown by soundings.<\/SPAN><\/P> Georeferenced and modified from NMC Map number 3154 by Map, Data and GIS Library, Brock University. <\/SPAN><\/P> <\/P><\/DIV><\/DIV><\/DIV>",
"name": "EarlyNiagara/NiagaraRiver1852NMC3154",
"description": " Historical map showing the area along bank from Niagara Falls to Niagara suspension bridge at Queenston applied for by the company; heights of cliffs on both sides of river given; roads and distances.<\/SPAN><\/P> Digital reproduction of map (45 x 56 cm.) in the Public Archives of Canada. National Map Collection. Library and Archives Canada.<\/SPAN><\/P> Relief shown by shading. Depths shown by soundings.<\/SPAN><\/P> Georeferenced and modified from NMC Map number 3154 by Map, Data and GIS Library, Brock University. <\/SPAN><\/P> <\/P><\/DIV><\/DIV><\/DIV>",
"extent": {
"xmin": 644519.9089524559,
"ymin": 4753916.314475641,
"xmax": 678638.2257684559,
"ymax": 4787553.32127564,
"spatialReference": {
"wkid": 26917,
"latestWkid": 26917
}
},
"initialExtent": {
"xmin": 644519.9089524559,
"ymin": 4753916.314475641,
"xmax": 678638.2257684559,
"ymax": 4787553.32127564,
"spatialReference": {
"wkid": 26917,
"latestWkid": 26917
}
},
"fullExtent": {
"xmin": 644519.9089524559,
"ymin": 4753916.314475641,
"xmax": 678638.2257684559,
"ymax": 4787553.32127564,
"spatialReference": {
"wkid": 26917,
"latestWkid": 26917
}
},
"hasMultidimensions": false,
"pixelSizeX": 5.469432000000006,
"pixelSizeY": 5.469431999999939,
"datasetFormat": "TIFF",
"uncompressedSize": 76727400,
"blockWidth": 128,
"blockHeight": 128,
"compressionType": "None",
"bandNames": [
"Band_1"
],
"allowCopy": true,
"allowAnalysis": true,
"bandCount": 1,
"noDataValue": 256,
"noDataValues": [
256
],
"pixelType": "U16",
"minPixelSize": 0,
"maxPixelSize": 0,
"copyrightText": "Map, Data & GIS Library, Brock University.",
"serviceDataType": "esriImageServiceDataTypeGeneric",
"serviceSourceType": "esriImageServiceSourceTypeDataset",
"minValues": [
1
],
"maxValues": [
254
],
"meanValues": [
187.86772035238
],
"stdvValues": [
21.144683424214
],
"objectIdField": "",
"fields": [],
"capabilities": "Image,Metadata,Mensuration",
"defaultMosaicMethod": "Center",
"allowedMosaicMethods": "",
"sortField": "",
"sortValue": null,
"sortAscending": true,
"mosaicOperator": "First",
"defaultCompressionQuality": 75,
"defaultResamplingMethod": "Bilinear",
"maxImageHeight": 4100,
"maxImageWidth": 15000,
"allowRasterFunction": true,
"rasterFunctionInfos": [
{
"name": "None",
"description": "",
"help": ""
}
],
"rasterTypeInfos": [
{
"name": "Raster Dataset",
"description": "Supports all ArcGIS Raster Datasets",
"help": ""
}
],
"mensurationCapabilities": "Basic",
"hasHistograms": true,
"hasColormap": false,
"hasRasterAttributeTable": false,
"minScale": 0,
"maxScale": 0,
"exportTilesAllowed": false,
"supportsStatistics": false,
"supportsAdvancedQueries": false,
"editFieldsInfo": null,
"ownershipBasedAccessControlForRasters": null,
"allowComputeTiePoints": false,
"useStandardizedQueries": true,
"advancedQueryCapabilities": {
"useStandardizedQueries": true,
"supportsStatistics": false,
"supportsOrderBy": false,
"supportsDistinct": false,
"supportsPagination": false
},
"spatialReference": {
"wkid": 26917,
"latestWkid": 26917
}
}