{ "currentVersion": 10.91, "serviceDescription": "
Historical map showing physical, hydrological and boundary features, place names, Depth shown by soundings ; relief shown by hachures and spot heights. \"...to accompany report on New discoveries in the physics of the falls by J.W. Spencer.\" \"No.926\" - bottom right corner margin.<\/span><\/p><\/div><\/div>",
"name": "EarlyNiagara/NiagaraRiver1905",
"description": " Historical map showing physical, hydrological and boundary features, place names, Depth shown by soundings ; relief shown by hachures and spot heights. \"...to accompany report on New discoveries in the physics of the falls by J.W. Spencer.\" \"No.926\" - bottom right corner margin.<\/span><\/p><\/div><\/div>",
"extent": {
"xmin": 652409.5673610314,
"ymin": 4766709.8205162315,
"xmax": 661080.3094325492,
"ymax": 4782976.874865123,
"spatialReference": {
"wkid": 26917,
"latestWkid": 26917
}
},
"initialExtent": {
"xmin": 652409.5673610314,
"ymin": 4766709.8205162315,
"xmax": 661080.3094325492,
"ymax": 4782976.874865123,
"spatialReference": {
"wkid": 26917,
"latestWkid": 26917
}
},
"fullExtent": {
"xmin": 652409.5673610314,
"ymin": 4766709.8205162315,
"xmax": 661080.3094325492,
"ymax": 4782976.874865123,
"spatialReference": {
"wkid": 26917,
"latestWkid": 26917
}
},
"hasMultidimensions": false,
"pixelSizeX": 1.4240009971288787,
"pixelSizeY": 1.389040589948903,
"datasetFormat": "TIFF",
"uncompressedSize": 213924837,
"blockWidth": 6089,
"blockHeight": 14,
"compressionType": "LZW",
"bandNames": [
"Band_1",
"Band_2",
"Band_3"
],
"allowCopy": true,
"allowAnalysis": true,
"bandCount": 3,
"pixelType": "U8",
"minPixelSize": 0,
"maxPixelSize": 0,
"copyrightText": "Brock University, Map, Data & GIS Library",
"serviceDataType": "esriImageServiceDataTypeRGB",
"serviceSourceType": "esriImageServiceSourceTypeDataset",
"minValues": [
0,
0,
0
],
"maxValues": [
255,
255,
255
],
"meanValues": [
226.08018697243,
220.50230783166,
187.85343476032
],
"stdvValues": [
39.321260398017,
37.601172784776,
34.39797564095
],
"objectIdField": "",
"fields": [],
"capabilities": "Mensuration,Image,Metadata",
"defaultMosaicMethod": "Center",
"allowedMosaicMethods": "",
"sortField": "",
"sortValue": null,
"sortAscending": true,
"mosaicOperator": "First",
"defaultCompressionQuality": 75,
"defaultResamplingMethod": "Bilinear",
"maxImageHeight": 4100,
"maxImageWidth": 15000,
"allowRasterFunction": true,
"rasterFunctionInfos": [
{
"name": "None",
"description": "",
"help": ""
}
],
"rasterTypeInfos": [
{
"name": "Raster Dataset",
"description": "Supports all ArcGIS Raster Datasets",
"help": ""
}
],
"mensurationCapabilities": "Basic",
"hasHistograms": true,
"hasColormap": false,
"hasRasterAttributeTable": false,
"minScale": 0,
"maxScale": 0,
"exportTilesAllowed": false,
"supportsStatistics": false,
"supportsAdvancedQueries": false,
"editFieldsInfo": null,
"ownershipBasedAccessControlForRasters": null,
"allowComputeTiePoints": false,
"useStandardizedQueries": true,
"advancedQueryCapabilities": {
"useStandardizedQueries": true,
"supportsStatistics": false,
"supportsOrderBy": false,
"supportsDistinct": false,
"supportsPagination": false
},
"spatialReference": {
"wkid": 26917,
"latestWkid": 26917
}
}