{ "currentVersion": 10.91, "serviceDescription": "
Historical map showing the lots of Stamford and Niagara, between Lake Ontario and Chippawa Creek. Includes Fort Mississauga and Fort Niagara, 2 proposed suspension bridges and the whirlpool and falls of the Niagara River.<\/span><\/p> \"Sketch of the military reserves extending from Chippewa to the debouche of the Niagara River into Lake Ontario ... as may be surrendered to the Provincial Govt. ; ... actually required for purposes of defence. As called for by the military secretary's letter dates 10th May 1850\".<\/span><\/p> [Signed] R.I. Pilkington ... Henry Vavasour<\/span><\/p> Digital reproduction of map in the Public Archives of Canada. National Map Collection. Library and Archives Canada.<\/span><\/p> Georeferenced and modified from NMC Map number 3010 by Map, Data and GIS Library, Brock University. <\/span><\/p> <\/p><\/div><\/div><\/div>",
"name": "EarlyNiagara/NiagaraRiverStamford1850NMC3010",
"description": " Historical map showing the lots of Stamford and Niagara, between Lake Ontario and Chippawa Creek. Includes Fort Mississauga and Fort Niagara, 2 proposed suspension bridges and the whirlpool and falls of the Niagara River.<\/span><\/p> \"Sketch of the military reserves extending from Chippewa to the debouche of the Niagara River into Lake Ontario ... as may be surrendered to the Provincial Govt. ; ... actually required for purposes of defence. As called for by the military secretary's letter dates 10th May 1850\".<\/span><\/p> [Signed] R.I. Pilkington ... Henry Vavasour<\/span><\/p> Digital reproduction of map in the Public Archives of Canada. National Map Collection. Library and Archives Canada.<\/span><\/p> Georeferenced and modified from NMC Map number 3010 by Map, Data and GIS Library, Brock University. <\/span><\/p> <\/p><\/div><\/div><\/div>",
"extent": {
"xmin": 643650.9722531347,
"ymin": 4761424.8970086025,
"xmax": 668519.6052331347,
"ymax": 4796785.154580602,
"spatialReference": {
"wkid": 26917,
"latestWkid": 26917
}
},
"initialExtent": {
"xmin": 643650.9722531347,
"ymin": 4761424.8970086025,
"xmax": 668519.6052331347,
"ymax": 4796785.154580602,
"spatialReference": {
"wkid": 26917,
"latestWkid": 26917
}
},
"fullExtent": {
"xmin": 643650.9722531347,
"ymin": 4761424.8970086025,
"xmax": 668519.6052331347,
"ymax": 4796785.154580602,
"spatialReference": {
"wkid": 26917,
"latestWkid": 26917
}
},
"hasMultidimensions": false,
"pixelSizeX": 5.441713999999999,
"pixelSizeY": 5.441713999999987,
"datasetFormat": "TIFF",
"uncompressedSize": 59391720,
"blockWidth": 128,
"blockHeight": 128,
"compressionType": "None",
"bandNames": [
"Band_1"
],
"allowCopy": true,
"allowAnalysis": true,
"bandCount": 1,
"noDataValue": 256,
"noDataValues": [
256
],
"pixelType": "U16",
"minPixelSize": 0,
"maxPixelSize": 0,
"copyrightText": "Map, Data & GIS Library, Brock University.",
"serviceDataType": "esriImageServiceDataTypeGeneric",
"serviceSourceType": "esriImageServiceSourceTypeDataset",
"minValues": [
0
],
"maxValues": [
255
],
"meanValues": [
197.96142817005
],
"stdvValues": [
36.289742291106
],
"objectIdField": "",
"fields": [],
"capabilities": "Mensuration,Image,Metadata",
"defaultMosaicMethod": "Center",
"allowedMosaicMethods": "",
"sortField": "",
"sortValue": null,
"sortAscending": true,
"mosaicOperator": "First",
"defaultCompressionQuality": 75,
"defaultResamplingMethod": "Bilinear",
"maxImageHeight": 4100,
"maxImageWidth": 15000,
"allowRasterFunction": true,
"rasterFunctionInfos": [
{
"name": "None",
"description": "",
"help": ""
}
],
"rasterTypeInfos": [
{
"name": "Raster Dataset",
"description": "Supports all ArcGIS Raster Datasets",
"help": ""
}
],
"mensurationCapabilities": "Basic",
"hasHistograms": true,
"hasColormap": false,
"hasRasterAttributeTable": false,
"minScale": 0,
"maxScale": 0,
"exportTilesAllowed": false,
"supportsStatistics": false,
"supportsAdvancedQueries": false,
"editFieldsInfo": null,
"ownershipBasedAccessControlForRasters": null,
"allowComputeTiePoints": false,
"useStandardizedQueries": true,
"advancedQueryCapabilities": {
"useStandardizedQueries": true,
"supportsStatistics": false,
"supportsOrderBy": false,
"supportsDistinct": false,
"supportsPagination": false
},
"spatialReference": {
"wkid": 26917,
"latestWkid": 26917
}
}