{ "currentVersion": 10.91, "serviceDescription": "
Historical map showing road, transportation, cultural, and boundary features, soil classification, legend. \"Surveyed in 1935.\"<\/span><\/p><\/div><\/div>",
"name": "EarlyNiagara/NiagaraSoils1935",
"description": " Historical map showing road, transportation, cultural, and boundary features, soil classification, legend. \"Surveyed in 1935.\"<\/span><\/p><\/div><\/div>",
"extent": {
"xmin": 607511.2629740613,
"ymin": 4729429.508058511,
"xmax": 677601.0377554547,
"ymax": 4785484.680698936,
"spatialReference": {
"wkid": 26917,
"latestWkid": 26917
}
},
"initialExtent": {
"xmin": 607511.2629740613,
"ymin": 4729429.508058511,
"xmax": 677601.0377554547,
"ymax": 4785484.680698936,
"spatialReference": {
"wkid": 26917,
"latestWkid": 26917
}
},
"fullExtent": {
"xmin": 607511.2629740613,
"ymin": 4729429.508058511,
"xmax": 677601.0377554547,
"ymax": 4785484.680698936,
"spatialReference": {
"wkid": 26917,
"latestWkid": 26917
}
},
"hasMultidimensions": false,
"pixelSizeX": 11.04645780636617,
"pixelSizeY": 11.119851743785986,
"datasetFormat": "TIFF",
"uncompressedSize": 95955435,
"blockWidth": 6345,
"blockHeight": 13,
"compressionType": "LZW",
"bandNames": [
"Band_1",
"Band_2",
"Band_3"
],
"allowCopy": true,
"allowAnalysis": true,
"bandCount": 3,
"pixelType": "U8",
"minPixelSize": 0,
"maxPixelSize": 0,
"copyrightText": "Brock University, Map, Data & GIS Library",
"serviceDataType": "esriImageServiceDataTypeRGB",
"serviceSourceType": "esriImageServiceSourceTypeDataset",
"minValues": [
0,
0,
0
],
"maxValues": [
255,
255,
255
],
"meanValues": [
211.78065967814,
209.38604458417,
194.25556395007
],
"stdvValues": [
57.74230774893,
55.88339613775,
59.426505945142
],
"objectIdField": "",
"fields": [],
"capabilities": "Mensuration,Image,Metadata",
"defaultMosaicMethod": "Center",
"allowedMosaicMethods": "",
"sortField": "",
"sortValue": null,
"sortAscending": true,
"mosaicOperator": "First",
"defaultCompressionQuality": 75,
"defaultResamplingMethod": "Bilinear",
"maxImageHeight": 4100,
"maxImageWidth": 15000,
"allowRasterFunction": true,
"rasterFunctionInfos": [
{
"name": "None",
"description": "",
"help": ""
}
],
"rasterTypeInfos": [
{
"name": "Raster Dataset",
"description": "Supports all ArcGIS Raster Datasets",
"help": ""
}
],
"mensurationCapabilities": "Basic",
"hasHistograms": true,
"hasColormap": false,
"hasRasterAttributeTable": false,
"minScale": 0,
"maxScale": 0,
"exportTilesAllowed": false,
"supportsStatistics": false,
"supportsAdvancedQueries": false,
"editFieldsInfo": null,
"ownershipBasedAccessControlForRasters": null,
"allowComputeTiePoints": false,
"useStandardizedQueries": true,
"advancedQueryCapabilities": {
"useStandardizedQueries": true,
"supportsStatistics": false,
"supportsOrderBy": false,
"supportsDistinct": false,
"supportsPagination": false
},
"spatialReference": {
"wkid": 26917,
"latestWkid": 26917
}
}