{ "currentVersion": 10.91, "serviceDescription": "
Map date: 1789.<\/span><\/p> \"No. 15\"<\/span><\/p> Oriented with north to the bottom.<\/span><\/p> Coloured version.<\/span><\/p> Black and white version (53 x 35 cm.) available in Brock call # G 3464 N55 G46 1789 N53<\/span><\/p> Georeferenced and modified by Map, Data and GIS Library, Brock University. <\/span><\/p> <\/p><\/div><\/div><\/div>",
"name": "EarlyNiagara/NiagaraTownship1789",
"description": " Map date: 1789.<\/span><\/p> \"No. 15\"<\/span><\/p> Oriented with north to the bottom.<\/span><\/p> Coloured version.<\/span><\/p> Black and white version (53 x 35 cm.) available in Brock call # G 3464 N55 G46 1789 N53<\/span><\/p> Georeferenced and modified by Map, Data and GIS Library, Brock University. <\/span><\/p> <\/p><\/div><\/div><\/div>",
"extent": {
"xmin": 648299.9966014404,
"ymin": 4779078.377655037,
"xmax": 660568.1753554404,
"ymax": 4795056.109905037,
"spatialReference": {
"wkid": 26917,
"latestWkid": 26917
}
},
"initialExtent": {
"xmin": 648299.9966014404,
"ymin": 4779078.377655037,
"xmax": 660568.1753554404,
"ymax": 4795056.109905037,
"spatialReference": {
"wkid": 26917,
"latestWkid": 26917
}
},
"fullExtent": {
"xmin": 648299.9966014404,
"ymin": 4779078.377655037,
"xmax": 660568.1753554404,
"ymax": 4795056.109905037,
"spatialReference": {
"wkid": 26917,
"latestWkid": 26917
}
},
"hasMultidimensions": false,
"pixelSizeX": 2.7196139999999986,
"pixelSizeY": 2.7196140000000595,
"datasetFormat": "TIFF",
"uncompressedSize": 159012750,
"blockWidth": 128,
"blockHeight": 128,
"compressionType": "None",
"bandNames": [
"Band_1",
"Band_2",
"Band_3"
],
"allowCopy": true,
"allowAnalysis": true,
"bandCount": 3,
"noDataValue": 256,
"noDataValues": [
256,
256,
256
],
"pixelType": "U16",
"minPixelSize": 0,
"maxPixelSize": 0,
"copyrightText": "Signed by Augustus JonesScan acquired from: Ontario Archives' Digital patent plans no. RG 1-100-0-0-1731Map, Data & GIS Library, Brock University.",
"serviceDataType": "esriImageServiceDataTypeGeneric",
"serviceSourceType": "esriImageServiceSourceTypeDataset",
"minValues": [
2,
0,
0
],
"maxValues": [
242,
222,
182
],
"meanValues": [
164.72541418023,
139.32944400083,
99.334051223249
],
"stdvValues": [
22.631276493529,
22.947851943369,
19.355239933873
],
"objectIdField": "",
"fields": [],
"capabilities": "Mensuration,Image,Metadata",
"defaultMosaicMethod": "Center",
"allowedMosaicMethods": "",
"sortField": "",
"sortValue": null,
"sortAscending": true,
"mosaicOperator": "First",
"defaultCompressionQuality": 75,
"defaultResamplingMethod": "Bilinear",
"maxImageHeight": 4100,
"maxImageWidth": 15000,
"allowRasterFunction": true,
"rasterFunctionInfos": [
{
"name": "None",
"description": "",
"help": ""
}
],
"rasterTypeInfos": [
{
"name": "Raster Dataset",
"description": "Supports all ArcGIS Raster Datasets",
"help": ""
}
],
"mensurationCapabilities": "Basic",
"hasHistograms": true,
"hasColormap": false,
"hasRasterAttributeTable": false,
"minScale": 0,
"maxScale": 0,
"exportTilesAllowed": false,
"supportsStatistics": false,
"supportsAdvancedQueries": false,
"editFieldsInfo": null,
"ownershipBasedAccessControlForRasters": null,
"allowComputeTiePoints": false,
"useStandardizedQueries": true,
"advancedQueryCapabilities": {
"useStandardizedQueries": true,
"supportsStatistics": false,
"supportsOrderBy": false,
"supportsDistinct": false,
"supportsPagination": false
},
"spatialReference": {
"wkid": 26917,
"latestWkid": 26917
}
}