{ "currentVersion": 10.91, "serviceDescription": "
Map date: 1910.<\/SPAN><\/P> Scale: 8 chains = 1 inch.<\/SPAN><\/P> Relief shown by hachures.<\/SPAN><\/P> Alternate title: Plan, part of the Town of Niagara.<\/SPAN><\/P> Georeferenced and modified by Map, Data and GIS Library, Brock University. <\/SPAN><\/P> <\/P><\/DIV><\/DIV><\/DIV>",
"name": "EarlyNiagara/NiagaraTownship1910",
"description": " Map date: 1910.<\/SPAN><\/P> Scale: 8 chains = 1 inch.<\/SPAN><\/P> Relief shown by hachures.<\/SPAN><\/P> Alternate title: Plan, part of the Town of Niagara.<\/SPAN><\/P> Georeferenced and modified by Map, Data and GIS Library, Brock University. <\/SPAN><\/P> <\/P><\/DIV><\/DIV><\/DIV>",
"extent": {
"xmin": 654691.2722209705,
"ymin": 4787288.89203245,
"xmax": 659159.4052077085,
"ymax": 4792112.248859558,
"spatialReference": {
"wkid": 26917,
"latestWkid": 26917
}
},
"initialExtent": {
"xmin": 654691.2722209705,
"ymin": 4787288.89203245,
"xmax": 659159.4052077085,
"ymax": 4792112.248859558,
"spatialReference": {
"wkid": 26917,
"latestWkid": 26917
}
},
"fullExtent": {
"xmin": 654691.2722209705,
"ymin": 4787288.89203245,
"xmax": 659159.4052077085,
"ymax": 4792112.248859558,
"spatialReference": {
"wkid": 26917,
"latestWkid": 26917
}
},
"hasMultidimensions": false,
"pixelSizeX": 1.4913661504465945,
"pixelSizeY": 1.2058392067770474,
"datasetFormat": "TIFF",
"uncompressedSize": 35952000,
"blockWidth": 2996,
"blockHeight": 29,
"compressionType": "LZW",
"bandNames": [
"Band_1",
"Band_2",
"Band_3"
],
"allowCopy": true,
"allowAnalysis": true,
"bandCount": 3,
"pixelType": "U8",
"minPixelSize": 0,
"maxPixelSize": 0,
"copyrightText": "Signed: Alexander Niven, Ontario Land Surveyor\n\nDepartment of Lands, Forests and Mines,\n\nScan acquired from: Ontario Archives' Digital patent plans no. RG 1-100-0-0-1735\n\nMap, Data & GIS Library, Brock University.",
"serviceDataType": "esriImageServiceDataTypeRGB",
"serviceSourceType": "esriImageServiceSourceTypeDataset",
"minValues": [],
"maxValues": [],
"meanValues": [],
"stdvValues": [],
"objectIdField": "",
"fields": [],
"capabilities": "Image,Metadata,Mensuration",
"defaultMosaicMethod": "Center",
"allowedMosaicMethods": "",
"sortField": "",
"sortValue": null,
"sortAscending": true,
"mosaicOperator": "First",
"defaultCompressionQuality": 75,
"defaultResamplingMethod": "Bilinear",
"maxImageHeight": 4100,
"maxImageWidth": 15000,
"allowRasterFunction": true,
"rasterFunctionInfos": [
{
"name": "None",
"description": "",
"help": ""
}
],
"rasterTypeInfos": [
{
"name": "Raster Dataset",
"description": "Supports all ArcGIS Raster Datasets",
"help": ""
}
],
"mensurationCapabilities": "Basic",
"hasHistograms": false,
"hasColormap": false,
"hasRasterAttributeTable": false,
"minScale": 0,
"maxScale": 0,
"exportTilesAllowed": false,
"supportsStatistics": false,
"supportsAdvancedQueries": false,
"editFieldsInfo": null,
"ownershipBasedAccessControlForRasters": null,
"allowComputeTiePoints": false,
"useStandardizedQueries": true,
"advancedQueryCapabilities": {
"useStandardizedQueries": true,
"supportsStatistics": false,
"supportsOrderBy": false,
"supportsDistinct": false,
"supportsPagination": false
},
"spatialReference": {
"wkid": 26917,
"latestWkid": 26917
}
}