{ "currentVersion": 10.91, "serviceDescription": "
Map showing roads and streets, boundaries, hydrological features, lots and concessions, legend. Ozalid print.<\/SPAN><\/P><\/DIV><\/DIV>",
"name": "EarlyNiagara/Niagara_Falls_1965_geo_tif",
"description": " Map showing roads and streets, boundaries, hydrological features, lots and concessions, legend. Ozalid print.<\/SPAN><\/P><\/DIV><\/DIV>",
"extent": {
"xmin": 647469.1787795854,
"ymin": 4757396.01014597,
"xmax": 663208.7885758219,
"ymax": 4781547.0585911255,
"spatialReference": {
"wkid": 26917,
"latestWkid": 26917
}
},
"initialExtent": {
"xmin": 647469.1787795854,
"ymin": 4757396.01014597,
"xmax": 663208.7885758219,
"ymax": 4781547.0585911255,
"spatialReference": {
"wkid": 26917,
"latestWkid": 26917
}
},
"fullExtent": {
"xmin": 647469.1787795854,
"ymin": 4757396.01014597,
"xmax": 663208.7885758219,
"ymax": 4781547.0585911255,
"spatialReference": {
"wkid": 26917,
"latestWkid": 26917
}
},
"hasMultidimensions": false,
"pixelSizeX": 1.6077231661120022,
"pixelSizeY": 1.508497716749272,
"datasetFormat": "TIFF",
"uncompressedSize": 156737900,
"blockWidth": 9790,
"blockHeight": 107,
"compressionType": "JPEG",
"bandNames": [
"Band_1"
],
"allowCopy": true,
"allowAnalysis": true,
"bandCount": 1,
"pixelType": "U8",
"minPixelSize": 0,
"maxPixelSize": 0,
"copyrightText": "Brock University Map, Data & GIS Library",
"serviceDataType": "esriImageServiceDataTypeGeneric",
"serviceSourceType": "esriImageServiceSourceTypeDataset",
"minValues": [
0
],
"maxValues": [
249
],
"meanValues": [
211.93465692094
],
"stdvValues": [
31.789849981474
],
"objectIdField": "",
"fields": [],
"capabilities": "Image,Metadata,Mensuration",
"defaultMosaicMethod": "Center",
"allowedMosaicMethods": "",
"sortField": "",
"sortValue": null,
"sortAscending": true,
"mosaicOperator": "First",
"defaultCompressionQuality": 75,
"defaultResamplingMethod": "Bilinear",
"maxImageHeight": 4100,
"maxImageWidth": 15000,
"allowRasterFunction": true,
"rasterFunctionInfos": [
{
"name": "None",
"description": "",
"help": ""
}
],
"rasterTypeInfos": [
{
"name": "Raster Dataset",
"description": "Supports all ArcGIS Raster Datasets",
"help": ""
}
],
"mensurationCapabilities": "Basic",
"hasHistograms": true,
"hasColormap": false,
"hasRasterAttributeTable": false,
"minScale": 0,
"maxScale": 0,
"exportTilesAllowed": false,
"supportsStatistics": false,
"supportsAdvancedQueries": false,
"editFieldsInfo": null,
"ownershipBasedAccessControlForRasters": null,
"allowComputeTiePoints": false,
"useStandardizedQueries": true,
"advancedQueryCapabilities": {
"useStandardizedQueries": true,
"supportsStatistics": false,
"supportsOrderBy": false,
"supportsDistinct": false,
"supportsPagination": false
},
"spatialReference": {
"wkid": 26917,
"latestWkid": 26917
}
}