<?xml version="1.0" encoding="UTF-8" standalone="no"?>
<metadata xml:lang="en">
<Esri>
<CreaDate>20150925</CreaDate>
<CreaTime>11375800</CreaTime>
<ArcGISFormat>1.0</ArcGISFormat>
<ArcGISstyle>North American Profile of ISO19115 2003</ArcGISstyle>
<SyncOnce>FALSE</SyncOnce>
<DataProperties>
<itemProps>
<itemName Sync="TRUE">Niagara-on-the-Lake-1784-NMC-3555-geo.tif</itemName>
<nativeExtBox>
<westBL Sync="TRUE">-8814108.114895</westBL>
<eastBL Sync="TRUE">-8798038.385163</eastBL>
<southBL Sync="TRUE">5332785.746365</southBL>
<northBL Sync="TRUE">5353118.873781</northBL>
<exTypeCode Sync="TRUE">1</exTypeCode>
</nativeExtBox>
<imsContentType Sync="TRUE" export="False">002</imsContentType>
</itemProps>
<coordRef>
<type Sync="TRUE">Projected</type>
<geogcsn Sync="TRUE">GCS_WGS_1984</geogcsn>
<csUnits Sync="TRUE">Linear Unit: Meter (1.000000)</csUnits>
<projcsn Sync="TRUE">WGS_1984_Web_Mercator_Auxiliary_Sphere</projcsn>
<peXml Sync="TRUE">&lt;ProjectedCoordinateSystem xsi:type='typens:ProjectedCoordinateSystem' xmlns:xsi='http://www.w3.org/2001/XMLSchema-instance' xmlns:xs='http://www.w3.org/2001/XMLSchema' xmlns:typens='http://www.esri.com/schemas/ArcGIS/10.4'&gt;&lt;WKT&gt;PROJCS[&amp;quot;WGS_1984_Web_Mercator_Auxiliary_Sphere&amp;quot;,GEOGCS[&amp;quot;GCS_WGS_1984&amp;quot;,DATUM[&amp;quot;D_WGS_1984&amp;quot;,SPHEROID[&amp;quot;WGS_1984&amp;quot;,6378137.0,298.257223563]],PRIMEM[&amp;quot;Greenwich&amp;quot;,0.0],UNIT[&amp;quot;Degree&amp;quot;,0.0174532925199433]],PROJECTION[&amp;quot;Mercator_Auxiliary_Sphere&amp;quot;],PARAMETER[&amp;quot;False_Easting&amp;quot;,0.0],PARAMETER[&amp;quot;False_Northing&amp;quot;,0.0],PARAMETER[&amp;quot;Central_Meridian&amp;quot;,0.0],PARAMETER[&amp;quot;Standard_Parallel_1&amp;quot;,0.0],PARAMETER[&amp;quot;Auxiliary_Sphere_Type&amp;quot;,0.0],UNIT[&amp;quot;Meter&amp;quot;,1.0],AUTHORITY[&amp;quot;EPSG&amp;quot;,3857]]&lt;/WKT&gt;&lt;XOrigin&gt;-20037700&lt;/XOrigin&gt;&lt;YOrigin&gt;-30241100&lt;/YOrigin&gt;&lt;XYScale&gt;148923141.92838538&lt;/XYScale&gt;&lt;ZOrigin&gt;-100000&lt;/ZOrigin&gt;&lt;ZScale&gt;10000&lt;/ZScale&gt;&lt;MOrigin&gt;-100000&lt;/MOrigin&gt;&lt;MScale&gt;10000&lt;/MScale&gt;&lt;XYTolerance&gt;0.001&lt;/XYTolerance&gt;&lt;ZTolerance&gt;0.001&lt;/ZTolerance&gt;&lt;MTolerance&gt;0.001&lt;/MTolerance&gt;&lt;HighPrecision&gt;true&lt;/HighPrecision&gt;&lt;WKID&gt;102100&lt;/WKID&gt;&lt;LatestWKID&gt;3857&lt;/LatestWKID&gt;&lt;/ProjectedCoordinateSystem&gt;</peXml>
</coordRef>
<RasterProperties>
<General>
<PixelDepth Sync="TRUE">16</PixelDepth>
<HasColormap Sync="TRUE">FALSE</HasColormap>
<CompressionType Sync="TRUE">None</CompressionType>
<NumBands Sync="TRUE">1</NumBands>
<Format Sync="TRUE">TIFF</Format>
<HasPyramids Sync="TRUE">TRUE</HasPyramids>
<SourceType Sync="TRUE">continuous</SourceType>
<PixelType Sync="TRUE">unsigned integer</PixelType>
<NoDataValue Sync="TRUE">256</NoDataValue>
</General>
</RasterProperties>
</DataProperties>
<SyncDate>20160707</SyncDate>
<SyncTime>14262300</SyncTime>
<ModDate>20160707</ModDate>
<ModTime>14262300</ModTime>
<ArcGISProfile>NAP</ArcGISProfile>
<scaleRange>
<minScale>50000</minScale>
<maxScale>5000</maxScale>
</scaleRange>
</Esri>
<mdLang>
<languageCode value="eng">
</languageCode>
<countryCode value="CA">
</countryCode>
</mdLang>
<mdChar>
<CharSetCd value="004">
</CharSetCd>
</mdChar>
<mdHrLv>
<ScopeCd value="005">
</ScopeCd>
</mdHrLv>
<mdContact>
<rpIndName>Maps, Data &amp; GIS</rpIndName>
<rpOrgName>Brock University</rpOrgName>
<rpPosName>
</rpPosName>
<role>
<RoleCd value="007">
</RoleCd>
</role>
<rpCntInfo>
<cntAddress addressType="postal">
<delPoint>1812 Sir Isaac Brock Way</delPoint>
<city>St. Catharines</city>
<adminArea>Ontario</adminArea>
<postCode>L2S 3A1</postCode>
<country>CA</country>
<eMailAdd>maplib@brocku.ca</eMailAdd>
</cntAddress>
<cntPhone>
<voiceNum>(905) 688-5550 ext. 5890</voiceNum>
</cntPhone>
</rpCntInfo>
<displayName>Maps, Data &amp; GIS</displayName>
</mdContact>
<dataIdInfo>
<idPurp>Historical map images for GIS applications.</idPurp>
<idAbs>&lt;div style=''&gt;&lt;div&gt;&lt;div&gt;&lt;p&gt;&lt;span&gt;Historical map showing land ownership, lot and concession numbers, note.&lt;/span&gt;&lt;/p&gt;&lt;p&gt;&lt;span&gt;"With W 25 State papers Shubel Welton Papers about 1784 or earlier"--in bottom left corner.&lt;/span&gt;&lt;/p&gt;&lt;p&gt;&lt;span&gt;Reproduction of map (19 x 14 3/4 in.) in National Map Collection. Library and Archives Canada.&lt;/span&gt;&lt;/p&gt;&lt;p&gt;&lt;span&gt;Georeferenced and modified from NMC Map number 3555 by Map, Data and GIS Library, Brock University. &lt;/span&gt;&lt;/p&gt;&lt;p&gt;&lt;span /&gt;&lt;/p&gt;&lt;/div&gt;&lt;/div&gt;&lt;/div&gt;</idAbs>
<idCredit>Map, Data &amp; GIS Library, Brock University.</idCredit>
<idCitation>
<resTitle Sync="FALSE">[Niagara Township, plan A]</resTitle>
<resAltTitle>Scanned image of 1784 map of Niagara Township, now known as Niagara-on-the-Lake</resAltTitle>
<collTitle>Historical Maps of Niagara</collTitle>
<date>
<createDate>2015-09-01T00:00:00</createDate>
</date>
<otherCitDet>Described in: Mapping Upper Canada, 1780-1867 / Joan Winearls. 1991. Reference no.: 668 (2)</otherCitDet>
<citRespParty>
<rpIndName>Maps, Data &amp; GIS</rpIndName>
<rpOrgName>Brock University</rpOrgName>
<rpPosName>
</rpPosName>
<role>
<RoleCd value="007">
</RoleCd>
</role>
<rpCntInfo>
<cntAddress addressType="postal">
<delPoint>1812 Sir Isaac Brock Way</delPoint>
<city>St. Catharines</city>
<adminArea>Ontario</adminArea>
<postCode>L2S 3A1</postCode>
<country>CA</country>
<eMailAdd>maplib@brocku.ca</eMailAdd>
</cntAddress>
<cntPhone>
<voiceNum>(905) 688-5550 ext. 5890</voiceNum>
</cntPhone>
</rpCntInfo>
</citRespParty>
<citRespParty>
<rpOrgName>
</rpOrgName>
<role>
<RoleCd value="006">
</RoleCd>
</role>
</citRespParty>
<presForm>
<fgdcGeoform>map</fgdcGeoform>
<PresFormCd value="003">
</PresFormCd>
</presForm>
</idCitation>
<searchKeys>
<keyword>Canada</keyword>
<keyword>Ontario</keyword>
<keyword>Niagara</keyword>
<keyword>historical</keyword>
<keyword>map</keyword>
<keyword>maps</keyword>
<keyword>Niagara Township</keyword>
<keyword>Niagara-on-the-Lake</keyword>
</searchKeys>
<resConst>
<Consts>
<useLimit>&lt;div style=''&gt;&lt;div&gt;&lt;div&gt;&lt;p&gt;&lt;span&gt;Historical maps in the public domain.&lt;/span&gt;&lt;/p&gt;&lt;/div&gt;&lt;/div&gt;&lt;/div&gt;</useLimit>
</Consts>
</resConst>
<placeKeys>
<thesaLang>
<languageCode value="eng">
</languageCode>
<countryCode value="CA">
</countryCode>
</thesaLang>
<keyword>Canada, Ontario, Niagara, Niagara Township, Niagara-on-the-Lake.</keyword>
</placeKeys>
<themeKeys>
<thesaLang>
<languageCode value="eng">
</languageCode>
<countryCode value="CA">
</countryCode>
</thesaLang>
<keyword>Historical, landowners names, real property</keyword>
</themeKeys>
<dataChar>
<CharSetCd value="004">
</CharSetCd>
</dataChar>
<dataLang>
<languageCode value="eng">
</languageCode>
<countryCode value="CA">
</countryCode>
</dataLang>
<idPoC>
<rpIndName>Maps, Data &amp; GIS</rpIndName>
<rpOrgName>Brock University</rpOrgName>
<rpPosName>
</rpPosName>
<role>
<RoleCd value="007">
</RoleCd>
</role>
<rpCntInfo>
<cntAddress addressType="postal">
<delPoint>1812 Sir Isaac Brock Way</delPoint>
<city>St. Catharines</city>
<adminArea>Ontario</adminArea>
<postCode>L2S 3A1</postCode>
<country>CA</country>
<eMailAdd>maplib@brocku.ca</eMailAdd>
</cntAddress>
<cntPhone>
<voiceNum tddtty="">(905) 688-5550 ext. 5890</voiceNum>
</cntPhone>
</rpCntInfo>
<displayName>Maps, Data &amp; GIS</displayName>
</idPoC>
<resMaint>
<maintFreq>
<MaintFreqCd value="009">
</MaintFreqCd>
</maintFreq>
</resMaint>
<envirDesc Sync="TRUE"> Version 6.2 (Build 9200) ; Esri ArcGIS 10.4.1.5686</envirDesc>
<spatRpType>
<SpatRepTypCd Sync="TRUE" value="002">
</SpatRepTypCd>
</spatRpType>
<dataExt>
<geoEle>
<GeoBndBox esriExtentType="search">
<exTypeCode Sync="TRUE">1</exTypeCode>
<westBL Sync="TRUE">-79.178480</westBL>
<eastBL Sync="TRUE">-79.034124</eastBL>
<northBL Sync="TRUE">43.269735</northBL>
<southBL Sync="TRUE">43.136592</southBL>
</GeoBndBox>
</geoEle>
</dataExt>
<tpCat>
<TopicCatCd value="013">
</TopicCatCd>
</tpCat>
<tpCat>
<TopicCatCd value="003">
</TopicCatCd>
</tpCat>
</dataIdInfo>
<mdMaint>
<maintFreq>
<MaintFreqCd value="009">
</MaintFreqCd>
</maintFreq>
<maintCont>
<rpIndName>Maps, Data &amp; GIS</rpIndName>
<rpOrgName>Maps, Data &amp; GIS Library, Brock University</rpOrgName>
<rpPosName>
</rpPosName>
<role>
<RoleCd value="007">
</RoleCd>
</role>
<rpCntInfo>
<cntAddress addressType="postal">
<delPoint>1812 Sir Isaac Brock Way</delPoint>
<city>St. Catharines</city>
<adminArea>Ontario</adminArea>
<postCode>L2S 3A1</postCode>
<country>CA</country>
<eMailAdd>maplib@brocku.ca</eMailAdd>
</cntAddress>
<cntPhone>
<voiceNum>(905) 688-5550 ext. 3468</voiceNum>
</cntPhone>
</rpCntInfo>
<displayName>Maps, Data &amp; GIS</displayName>
</maintCont>
</mdMaint>
<mdConst>
<Consts>
<useLimit>&lt;DIV STYLE="text-align:Left;"&gt;&lt;DIV&gt;&lt;P&gt;&lt;SPAN&gt;Public domain.&lt;/SPAN&gt;&lt;/P&gt;&lt;/DIV&gt;&lt;/DIV&gt;</useLimit>
</Consts>
</mdConst>
<contInfo>
<ImgDesc>
<attDesc>Scanned map </attDesc>
<contentTyp>
<ContentTypCd Sync="TRUE" value="001">
</ContentTypCd>
</contentTyp>
<trianInd>False</trianInd>
<radCalDatAv>False</radCalDatAv>
<camCalInAv>False</camCalInAv>
<filmDistInAv>False</filmDistInAv>
<lensDistInAv>False</lensDistInAv>
<covDim>
<Band>
<dimDescrp Sync="TRUE">Band_1</dimDescrp>
<maxVal Sync="TRUE">254.000000</maxVal>
<minVal Sync="TRUE">0.000000</minVal>
<bitsPerVal Sync="TRUE">16</bitsPerVal>
<valUnit>
<UOM type="length">
</UOM>
</valUnit>
</Band>
</covDim>
</ImgDesc>
</contInfo>
<dataSetURI>withheld</dataSetURI>
<distInfo>
<distFormat>
<formatName Sync="TRUE">Raster Dataset</formatName>
</distFormat>
</distInfo>
<mdHrLvName Sync="TRUE">dataset</mdHrLvName>
<refSysInfo>
<RefSystem dimension="horizontal">
<refSysID>
<identCode Sync="TRUE" code="3857">
</identCode>
<idCodeSpace Sync="TRUE">EPSG</idCodeSpace>
<idVersion Sync="TRUE">8.8(9.3.1.2)</idVersion>
</refSysID>
</RefSystem>
</refSysInfo>
<spatRepInfo>
<Georect>
<cellGeo>
<CellGeoCd Sync="TRUE" value="002">
</CellGeoCd>
</cellGeo>
<numDims Sync="TRUE">2</numDims>
<tranParaAv Sync="TRUE">1</tranParaAv>
<chkPtAv Sync="TRUE">0</chkPtAv>
<cornerPts>
<pos Sync="TRUE">-8814108.114895 5332785.746365</pos>
</cornerPts>
<cornerPts>
<pos Sync="TRUE">-8814108.114895 5353118.873781</pos>
</cornerPts>
<cornerPts>
<pos Sync="TRUE">-8798038.385163 5353118.873781</pos>
</cornerPts>
<cornerPts>
<pos Sync="TRUE">-8798038.385163 5332785.746365</pos>
</cornerPts>
<centerPt>
<pos Sync="TRUE">-8806073.250029 5342952.310073</pos>
</centerPt>
<axisDimension type="002">
<dimSize Sync="TRUE">4802</dimSize>
<dimResol>
<value Sync="TRUE" uom="m">3.346466</value>
</dimResol>
</axisDimension>
<axisDimension type="001">
<dimSize Sync="TRUE">6076</dimSize>
<dimResol>
<value Sync="TRUE" uom="m">3.346466</value>
</dimResol>
</axisDimension>
<ptInPixel>
<PixOrientCd Sync="TRUE" value="001">
</PixOrientCd>
</ptInPixel>
</Georect>
</spatRepInfo>
<mdDateSt Sync="TRUE">20160707</mdDateSt>
<mdFileID>25D5F4CB-B137-4501-BF70-DE9AC9C985AF</mdFileID>
</metadata>
