{
 "currentVersion": 10.91,
 "serviceDescription": "<div style=''><div><div><p><span>Historical map showing land ownership, lot and concession numbers, note.<\/span><\/p><p><span>\"With W 25 State papers Shubel Welton Papers about 1784 or earlier\"--in bottom left corner.<\/span><\/p><p><span>Reproduction of map (19 x 14 3/4 in.) in National Map Collection. Library and Archives Canada.<\/span><\/p><p><span>Georeferenced and modified from NMC Map number 3555 by Map, Data and GIS Library, Brock University. <\/span><\/p><p><span /><\/p><\/div><\/div><\/div>",
 "name": "EarlyNiagara/NiagaraontheLake1784NMC3555",
 "description": "<div style=''><div><div><p><span>Historical map showing land ownership, lot and concession numbers, note.<\/span><\/p><p><span>\"With W 25 State papers Shubel Welton Papers about 1784 or earlier\"--in bottom left corner.<\/span><\/p><p><span>Reproduction of map (19 x 14 3/4 in.) in National Map Collection. Library and Archives Canada.<\/span><\/p><p><span>Georeferenced and modified from NMC Map number 3555 by Map, Data and GIS Library, Brock University. <\/span><\/p><p><span /><\/p><\/div><\/div><\/div>",
 "extent": {
  "xmin": -8814108.114895133,
  "ymin": 5332785.746364958,
  "xmax": -8798038.385163134,
  "ymax": 5353118.873780957,
  "spatialReference": {
   "wkid": 102100,
   "latestWkid": 3857
  }
 },
 "initialExtent": {
  "xmin": -8814108.114895133,
  "ymin": 5332785.746364958,
  "xmax": -8798038.385163134,
  "ymax": 5353118.873780957,
  "spatialReference": {
   "wkid": 102100,
   "latestWkid": 3857
  }
 },
 "fullExtent": {
  "xmin": -8814108.114895133,
  "ymin": 5332785.746364958,
  "xmax": -8798038.385163134,
  "ymax": 5353118.873780957,
  "spatialReference": {
   "wkid": 102100,
   "latestWkid": 3857
  }
 },
 "hasMultidimensions": false,
 "pixelSizeX": 3.3464659999998623,
 "pixelSizeY": 3.346465999999962,
 "datasetFormat": "TIFF",
 "uncompressedSize": 58353904,
 "blockWidth": 128,
 "blockHeight": 128,
 "compressionType": "None",
 "bandNames": [
  "Band_1"
 ],
 "allowCopy": true,
 "allowAnalysis": true,
 "bandCount": 1,
 "noDataValue": 256,
 "noDataValues": [
  256
 ],
 "pixelType": "U16",
 "minPixelSize": 0,
 "maxPixelSize": 0,
 "copyrightText": "Map, Data & GIS Library, Brock University.",
 "serviceDataType": "esriImageServiceDataTypeGeneric",
 "serviceSourceType": "esriImageServiceSourceTypeDataset",
 "minValues": [
  0
 ],
 "maxValues": [
  254
 ],
 "meanValues": [
  184.76681770625
 ],
 "stdvValues": [
  38.125203130675
 ],
 "objectIdField": "",
 "fields": [],
 "capabilities": "Mensuration,Image,Metadata",
 "defaultMosaicMethod": "Center",
 "allowedMosaicMethods": "",
 "sortField": "",
 "sortValue": null,
 "sortAscending": true,
 "mosaicOperator": "First",
 "defaultCompressionQuality": 75,
 "defaultResamplingMethod": "Bilinear",
 "maxImageHeight": 4100,
 "maxImageWidth": 15000,
 "allowRasterFunction": true,
 "rasterFunctionInfos": [
  {
   "name": "None",
   "description": "",
   "help": ""
  }
 ],
 "rasterTypeInfos": [
  {
   "name": "Raster Dataset",
   "description": "Supports all ArcGIS Raster Datasets",
   "help": ""
  }
 ],
 "mensurationCapabilities": "Basic",
 "hasHistograms": true,
 "hasColormap": false,
 "hasRasterAttributeTable": false,
 "minScale": 0,
 "maxScale": 0,
 "exportTilesAllowed": false,
 "supportsStatistics": false,
 "supportsAdvancedQueries": false,
 "editFieldsInfo": null,
 "ownershipBasedAccessControlForRasters": null,
 "allowComputeTiePoints": false,
 "useStandardizedQueries": true,
 "advancedQueryCapabilities": {
  "useStandardizedQueries": true,
  "supportsStatistics": false,
  "supportsOrderBy": false,
  "supportsDistinct": false,
  "supportsPagination": false
 },
 "spatialReference": {
  "wkid": 102100,
  "latestWkid": 3857
 }
}
