{ "currentVersion": 10.91, "serviceDescription": "
Historical map showing boundaries of Mississauga Point and Fort, Niagara River, Navy Hall, site of Fort George, Rangers' barracks, Fort Niagara, and division line between the settlements and the land reserved for public buildings. Supplied title: Niagara-on-the-Lake. Printed title in each corner: Niagara. \"Plan of part of Lake Ontario & of the River Niagara with some tracts laid down opposite the Fort\" -- handwritten in margin. Archives of Ontario ref. no. C295-1-102-0-1 Photocopy. Described in: Mapping Upper Canada, 1780-1867 / Joan Winearls. 1991. Reference no.: 1668<\/span><\/p><\/div><\/div>",
"name": "EarlyNiagara/NiagaraontheLake1790",
"description": " Historical map showing boundaries of Mississauga Point and Fort, Niagara River, Navy Hall, site of Fort George, Rangers' barracks, Fort Niagara, and division line between the settlements and the land reserved for public buildings. Supplied title: Niagara-on-the-Lake. Printed title in each corner: Niagara. \"Plan of part of Lake Ontario & of the River Niagara with some tracts laid down opposite the Fort\" -- handwritten in margin. Archives of Ontario ref. no. C295-1-102-0-1 Photocopy. Described in: Mapping Upper Canada, 1780-1867 / Joan Winearls. 1991. Reference no.: 1668<\/span><\/p><\/div><\/div>",
"extent": {
"xmin": 650675.2388695217,
"ymin": 4788157.560972746,
"xmax": 658850.1279029312,
"ymax": 4792482.148716513,
"spatialReference": {
"wkid": 26917,
"latestWkid": 26917
}
},
"initialExtent": {
"xmin": 650675.2388695217,
"ymin": 4788157.560972746,
"xmax": 658850.1279029312,
"ymax": 4792482.148716513,
"spatialReference": {
"wkid": 26917,
"latestWkid": 26917
}
},
"fullExtent": {
"xmin": 650675.2388695217,
"ymin": 4788157.560972746,
"xmax": 658850.1279029312,
"ymax": 4792482.148716513,
"spatialReference": {
"wkid": 26917,
"latestWkid": 26917
}
},
"hasMultidimensions": false,
"pixelSizeX": 0.9499057673029903,
"pixelSizeY": 0.7162285100640288,
"datasetFormat": "TIFF",
"uncompressedSize": 51963028,
"blockWidth": 8606,
"blockHeight": 30,
"compressionType": "LZW",
"bandNames": [
"Band_1"
],
"allowCopy": true,
"allowAnalysis": true,
"bandCount": 1,
"pixelType": "U8",
"minPixelSize": 0,
"maxPixelSize": 0,
"copyrightText": "Brock University, Map, Data & GIS Library",
"serviceDataType": "esriImageServiceDataTypeGeneric",
"serviceSourceType": "esriImageServiceSourceTypeDataset",
"minValues": [
0
],
"maxValues": [
255
],
"meanValues": [
196.5274320426
],
"stdvValues": [
51.930607287638
],
"objectIdField": "",
"fields": [],
"capabilities": "Mensuration,Image,Metadata",
"defaultMosaicMethod": "Center",
"allowedMosaicMethods": "",
"sortField": "",
"sortValue": null,
"sortAscending": true,
"mosaicOperator": "First",
"defaultCompressionQuality": 75,
"defaultResamplingMethod": "Bilinear",
"maxImageHeight": 4100,
"maxImageWidth": 15000,
"allowRasterFunction": true,
"rasterFunctionInfos": [
{
"name": "None",
"description": "",
"help": ""
}
],
"rasterTypeInfos": [
{
"name": "Raster Dataset",
"description": "Supports all ArcGIS Raster Datasets",
"help": ""
}
],
"mensurationCapabilities": "Basic",
"hasHistograms": true,
"hasColormap": false,
"hasRasterAttributeTable": false,
"minScale": 0,
"maxScale": 0,
"exportTilesAllowed": false,
"supportsStatistics": false,
"supportsAdvancedQueries": false,
"editFieldsInfo": null,
"ownershipBasedAccessControlForRasters": null,
"allowComputeTiePoints": false,
"useStandardizedQueries": true,
"advancedQueryCapabilities": {
"useStandardizedQueries": true,
"supportsStatistics": false,
"supportsOrderBy": false,
"supportsDistinct": false,
"supportsPagination": false
},
"spatialReference": {
"wkid": 26917,
"latestWkid": 26917
}
}