{ "currentVersion": 10.91, "serviceDescription": "
Historical map showing Fort Niagara on the American side with buildings and relief. Navy Hall, Rangers' Barracks, Mississauga Point with a plan of fortifications, boundary of reservation, and reserve for a fort to the south [Fort George] with note \"ground within 800 yards of the Fort to be reserved for Government\", roads, buildings, marsh and relief shown on the British side.<\/SPAN><\/P> Relief shown by shading.<\/SPAN><\/P> Scale [1:2,400] or 1 \" to 200 ft.<\/SPAN><\/P> Map date: 1790<\/SPAN><\/P> Digital reproduction of map (90 x 110 cm.) in the Public Archives of Canada. National Map Collection. Library and Archives Canada.<\/SPAN><\/P> Georeferenced and modified from NMC Map number 17879 by Map, Data and GIS Library, Brock University. <\/SPAN><\/P> <\/P><\/DIV><\/DIV><\/DIV>",
"name": "EarlyNiagara/NiagaraontheLake1790NMC17879",
"description": " Historical map showing Fort Niagara on the American side with buildings and relief. Navy Hall, Rangers' Barracks, Mississauga Point with a plan of fortifications, boundary of reservation, and reserve for a fort to the south [Fort George] with note \"ground within 800 yards of the Fort to be reserved for Government\", roads, buildings, marsh and relief shown on the British side.<\/SPAN><\/P> Relief shown by shading.<\/SPAN><\/P> Scale [1:2,400] or 1 \" to 200 ft.<\/SPAN><\/P> Map date: 1790<\/SPAN><\/P> Digital reproduction of map (90 x 110 cm.) in the Public Archives of Canada. National Map Collection. Library and Archives Canada.<\/SPAN><\/P> Georeferenced and modified from NMC Map number 17879 by Map, Data and GIS Library, Brock University. <\/SPAN><\/P> <\/P><\/DIV><\/DIV><\/DIV>",
"extent": {
"xmin": 655208.7034025617,
"ymin": 4789731.817320335,
"xmax": 658636.5762775617,
"ymax": 4792623.343160335,
"spatialReference": {
"wkid": 26917,
"latestWkid": 26917
}
},
"initialExtent": {
"xmin": 655208.7034025617,
"ymin": 4789731.817320335,
"xmax": 658636.5762775617,
"ymax": 4792623.343160335,
"spatialReference": {
"wkid": 26917,
"latestWkid": 26917
}
},
"fullExtent": {
"xmin": 655208.7034025617,
"ymin": 4789731.817320335,
"xmax": 658636.5762775617,
"ymax": 4792623.343160335,
"spatialReference": {
"wkid": 26917,
"latestWkid": 26917
}
},
"hasMultidimensions": false,
"pixelSizeX": 0.48450500000000013,
"pixelSizeY": 0.4845050000000418,
"datasetFormat": "TIFF",
"uncompressedSize": 84447200,
"blockWidth": 128,
"blockHeight": 128,
"compressionType": "None",
"bandNames": [
"Band_1"
],
"allowCopy": true,
"allowAnalysis": true,
"bandCount": 1,
"noDataValue": 256,
"noDataValues": [
256
],
"pixelType": "U16",
"minPixelSize": 0,
"maxPixelSize": 0,
"copyrightText": "Map, Data & GIS Library, Brock University.",
"serviceDataType": "esriImageServiceDataTypeGeneric",
"serviceSourceType": "esriImageServiceSourceTypeDataset",
"minValues": [
2
],
"maxValues": [
255
],
"meanValues": [
182.31067558674
],
"stdvValues": [
34.83956926556
],
"objectIdField": "",
"fields": [],
"capabilities": "Image,Metadata,Mensuration",
"defaultMosaicMethod": "Center",
"allowedMosaicMethods": "",
"sortField": "",
"sortValue": null,
"sortAscending": true,
"mosaicOperator": "First",
"defaultCompressionQuality": 75,
"defaultResamplingMethod": "Bilinear",
"maxImageHeight": 4100,
"maxImageWidth": 15000,
"allowRasterFunction": true,
"rasterFunctionInfos": [
{
"name": "None",
"description": "",
"help": ""
}
],
"rasterTypeInfos": [
{
"name": "Raster Dataset",
"description": "Supports all ArcGIS Raster Datasets",
"help": ""
}
],
"mensurationCapabilities": "Basic",
"hasHistograms": true,
"hasColormap": false,
"hasRasterAttributeTable": false,
"minScale": 0,
"maxScale": 0,
"exportTilesAllowed": false,
"supportsStatistics": false,
"supportsAdvancedQueries": false,
"editFieldsInfo": null,
"ownershipBasedAccessControlForRasters": null,
"allowComputeTiePoints": false,
"useStandardizedQueries": true,
"advancedQueryCapabilities": {
"useStandardizedQueries": true,
"supportsStatistics": false,
"supportsOrderBy": false,
"supportsDistinct": false,
"supportsPagination": false
},
"spatialReference": {
"wkid": 26917,
"latestWkid": 26917
}
}