{ "currentVersion": 10.91, "serviceDescription": "
Historical map showing boundaries, lot numbers and select street names. \"Examined 6 Dec 1974 [by] D.W. Smith, Act'g. Sur. Genl. [and] W. Chewett\" \"A.42\" Oriented with north to the bottom right corner. Described in: Mapping Upper Canada, 1780-1867 / Joan Winearls. 1991. Reference no.: 1671 National Map Collection no.: H1/440/Niagara-on-the-Lake/1794(1907)<\/span><\/p><\/div><\/div>",
"name": "EarlyNiagara/NiagaraontheLake1794",
"description": " Historical map showing boundaries, lot numbers and select street names. \"Examined 6 Dec 1974 [by] D.W. Smith, Act'g. Sur. Genl. [and] W. Chewett\" \"A.42\" Oriented with north to the bottom right corner. Described in: Mapping Upper Canada, 1780-1867 / Joan Winearls. 1991. Reference no.: 1671 National Map Collection no.: H1/440/Niagara-on-the-Lake/1794(1907)<\/span><\/p><\/div><\/div>",
"extent": {
"xmin": 653418.1476767155,
"ymin": 4788928.078834163,
"xmax": 657734.2739978773,
"ymax": 4792666.73933247,
"spatialReference": {
"wkid": 26917,
"latestWkid": 26917
}
},
"initialExtent": {
"xmin": 653418.1476767155,
"ymin": 4788928.078834163,
"xmax": 657734.2739978773,
"ymax": 4792666.73933247,
"spatialReference": {
"wkid": 26917,
"latestWkid": 26917
}
},
"fullExtent": {
"xmin": 653418.1476767155,
"ymin": 4788928.078834163,
"xmax": 657734.2739978773,
"ymax": 4792666.73933247,
"spatialReference": {
"wkid": 26917,
"latestWkid": 26917
}
},
"hasMultidimensions": false,
"pixelSizeX": 0.3673611644532937,
"pixelSizeY": 0.43619886807923075,
"datasetFormat": "TIFF",
"uncompressedSize": 100700679,
"blockWidth": 11749,
"blockHeight": 22,
"compressionType": "LZW",
"bandNames": [
"Band_1"
],
"allowCopy": true,
"allowAnalysis": true,
"bandCount": 1,
"pixelType": "U8",
"minPixelSize": 0,
"maxPixelSize": 0,
"copyrightText": "Brock University Map, Data & GIS Library",
"serviceDataType": "esriImageServiceDataTypeGeneric",
"serviceSourceType": "esriImageServiceSourceTypeDataset",
"minValues": [
0
],
"maxValues": [
255
],
"meanValues": [
206.52618402902
],
"stdvValues": [
53.550021444372
],
"objectIdField": "",
"fields": [],
"capabilities": "Mensuration,Image,Metadata",
"defaultMosaicMethod": "Center",
"allowedMosaicMethods": "",
"sortField": "",
"sortValue": null,
"sortAscending": true,
"mosaicOperator": "First",
"defaultCompressionQuality": 75,
"defaultResamplingMethod": "Bilinear",
"maxImageHeight": 4100,
"maxImageWidth": 15000,
"allowRasterFunction": true,
"rasterFunctionInfos": [
{
"name": "None",
"description": "",
"help": ""
}
],
"rasterTypeInfos": [
{
"name": "Raster Dataset",
"description": "Supports all ArcGIS Raster Datasets",
"help": ""
}
],
"mensurationCapabilities": "Basic",
"hasHistograms": true,
"hasColormap": false,
"hasRasterAttributeTable": false,
"minScale": 0,
"maxScale": 0,
"exportTilesAllowed": false,
"supportsStatistics": false,
"supportsAdvancedQueries": false,
"editFieldsInfo": null,
"ownershipBasedAccessControlForRasters": null,
"allowComputeTiePoints": false,
"useStandardizedQueries": true,
"advancedQueryCapabilities": {
"useStandardizedQueries": true,
"supportsStatistics": false,
"supportsOrderBy": false,
"supportsDistinct": false,
"supportsPagination": false
},
"spatialReference": {
"wkid": 26917,
"latestWkid": 26917
}
}