{ "currentVersion": 10.91, "serviceDescription": "
Historical map showing the town near the Mississauga reserve boundary north of Fort George, and Queen, Prideaux, and King streets. Other title on side of map: Military reserve of Missassauga Point at Niagara. \"888\" in bottom left corner. Archives of Ontario ref. no. C295-1-1-2-0-3. Photocopy. Described in: Mapping Upper Canada, 1780-1867 / Joan Winearls. 1991. Reference no.: 1673 (2)<\/span><\/p><\/div><\/div>",
"name": "EarlyNiagara/NiagaraontheLake1796",
"description": " Historical map showing the town near the Mississauga reserve boundary north of Fort George, and Queen, Prideaux, and King streets. Other title on side of map: Military reserve of Missassauga Point at Niagara. \"888\" in bottom left corner. Archives of Ontario ref. no. C295-1-1-2-0-3. Photocopy. Described in: Mapping Upper Canada, 1780-1867 / Joan Winearls. 1991. Reference no.: 1673 (2)<\/span><\/p><\/div><\/div>",
"extent": {
"xmin": 655377.6345474847,
"ymin": 4790531.256844576,
"xmax": 657004.2639092408,
"ymax": 4791972.231340625,
"spatialReference": {
"wkid": 26917,
"latestWkid": 26917
}
},
"initialExtent": {
"xmin": 655377.6345474847,
"ymin": 4790531.256844576,
"xmax": 657004.2639092408,
"ymax": 4791972.231340625,
"spatialReference": {
"wkid": 26917,
"latestWkid": 26917
}
},
"fullExtent": {
"xmin": 655377.6345474847,
"ymin": 4790531.256844576,
"xmax": 657004.2639092408,
"ymax": 4791972.231340625,
"spatialReference": {
"wkid": 26917,
"latestWkid": 26917
}
},
"hasMultidimensions": false,
"pixelSizeX": 0.2694879658310381,
"pixelSizeY": 0.28326606959875666,
"datasetFormat": "TIFF",
"uncompressedSize": 30700045,
"blockWidth": 6036,
"blockHeight": 43,
"compressionType": "LZW",
"bandNames": [
"Band_1"
],
"allowCopy": true,
"allowAnalysis": true,
"bandCount": 1,
"pixelType": "U8",
"minPixelSize": 0,
"maxPixelSize": 0,
"copyrightText": "Brock University Map, Data & GIS Library",
"serviceDataType": "esriImageServiceDataTypeGeneric",
"serviceSourceType": "esriImageServiceSourceTypeDataset",
"minValues": [
0
],
"maxValues": [
255
],
"meanValues": [
217.91369631631
],
"stdvValues": [
38.290561413765
],
"objectIdField": "",
"fields": [],
"capabilities": "Mensuration,Image,Metadata",
"defaultMosaicMethod": "Center",
"allowedMosaicMethods": "",
"sortField": "",
"sortValue": null,
"sortAscending": true,
"mosaicOperator": "First",
"defaultCompressionQuality": 75,
"defaultResamplingMethod": "Bilinear",
"maxImageHeight": 4100,
"maxImageWidth": 15000,
"allowRasterFunction": true,
"rasterFunctionInfos": [
{
"name": "None",
"description": "",
"help": ""
}
],
"rasterTypeInfos": [
{
"name": "Raster Dataset",
"description": "Supports all ArcGIS Raster Datasets",
"help": ""
}
],
"mensurationCapabilities": "Basic",
"hasHistograms": true,
"hasColormap": false,
"hasRasterAttributeTable": false,
"minScale": 0,
"maxScale": 0,
"exportTilesAllowed": false,
"supportsStatistics": false,
"supportsAdvancedQueries": false,
"editFieldsInfo": null,
"ownershipBasedAccessControlForRasters": null,
"allowComputeTiePoints": false,
"useStandardizedQueries": true,
"advancedQueryCapabilities": {
"useStandardizedQueries": true,
"supportsStatistics": false,
"supportsOrderBy": false,
"supportsDistinct": false,
"supportsPagination": false
},
"spatialReference": {
"wkid": 26917,
"latestWkid": 26917
}
}