{ "currentVersion": 10.91, "serviceDescription": "
Historical map showing the boundary of the military reserve in Niagara-on-the-Lake. Fort George is shown with buildings (planned or built), the presence of a marsh, and the relief of the area is indicated.<\/span><\/p> Relief shown by shading.<\/span><\/p> Scale [1:2,400] or 1\" to 200 ft.<\/span><\/p> Map date 1796<\/span><\/p> Digital reproduction of map ( 73 x 128 cm.) in the Public Archives of Canada. National Map Collection. Library and Archives Canada.<\/span><\/p> Georeferenced and modified from NMC Map number 11397 by Map, Data and GIS Library, Brock University. <\/span><\/p> <\/p><\/div><\/div><\/div>",
"name": "EarlyNiagara/NiagaraontheLake1796NMC11397",
"description": " Historical map showing the boundary of the military reserve in Niagara-on-the-Lake. Fort George is shown with buildings (planned or built), the presence of a marsh, and the relief of the area is indicated.<\/span><\/p> Relief shown by shading.<\/span><\/p> Scale [1:2,400] or 1\" to 200 ft.<\/span><\/p> Map date 1796<\/span><\/p> Digital reproduction of map ( 73 x 128 cm.) in the Public Archives of Canada. National Map Collection. Library and Archives Canada.<\/span><\/p> Georeferenced and modified from NMC Map number 11397 by Map, Data and GIS Library, Brock University. <\/span><\/p> <\/p><\/div><\/div><\/div>",
"extent": {
"xmin": 654485.4185733899,
"ymin": 4788730.621343828,
"xmax": 658630.9453113899,
"ymax": 4792269.982345828,
"spatialReference": {
"wkid": 26917,
"latestWkid": 26917
}
},
"initialExtent": {
"xmin": 654485.4185733899,
"ymin": 4788730.621343828,
"xmax": 658630.9453113899,
"ymax": 4792269.982345828,
"spatialReference": {
"wkid": 26917,
"latestWkid": 26917
}
},
"fullExtent": {
"xmin": 654485.4185733899,
"ymin": 4788730.621343828,
"xmax": 658630.9453113899,
"ymax": 4792269.982345828,
"spatialReference": {
"wkid": 26917,
"latestWkid": 26917
}
},
"hasMultidimensions": false,
"pixelSizeX": 0.598977999999998,
"pixelSizeY": 0.5989780000000082,
"datasetFormat": "TIFF",
"uncompressedSize": 81780560,
"blockWidth": 128,
"blockHeight": 128,
"compressionType": "None",
"bandNames": [
"Band_1"
],
"allowCopy": true,
"allowAnalysis": true,
"bandCount": 1,
"noDataValue": 256,
"noDataValues": [
256
],
"pixelType": "U16",
"minPixelSize": 0,
"maxPixelSize": 0,
"copyrightText": "Map, Data & GIS Library, Brock University.",
"serviceDataType": "esriImageServiceDataTypeGeneric",
"serviceSourceType": "esriImageServiceSourceTypeDataset",
"minValues": [
0
],
"maxValues": [
255
],
"meanValues": [
205.02770761911
],
"stdvValues": [
31.217435932809
],
"objectIdField": "",
"fields": [],
"capabilities": "Mensuration,Image,Metadata",
"defaultMosaicMethod": "Center",
"allowedMosaicMethods": "",
"sortField": "",
"sortValue": null,
"sortAscending": true,
"mosaicOperator": "First",
"defaultCompressionQuality": 75,
"defaultResamplingMethod": "Bilinear",
"maxImageHeight": 4100,
"maxImageWidth": 15000,
"allowRasterFunction": true,
"rasterFunctionInfos": [
{
"name": "None",
"description": "",
"help": ""
}
],
"rasterTypeInfos": [
{
"name": "Raster Dataset",
"description": "Supports all ArcGIS Raster Datasets",
"help": ""
}
],
"mensurationCapabilities": "Basic",
"hasHistograms": true,
"hasColormap": false,
"hasRasterAttributeTable": false,
"minScale": 0,
"maxScale": 0,
"exportTilesAllowed": false,
"supportsStatistics": false,
"supportsAdvancedQueries": false,
"editFieldsInfo": null,
"ownershipBasedAccessControlForRasters": null,
"allowComputeTiePoints": false,
"useStandardizedQueries": true,
"advancedQueryCapabilities": {
"useStandardizedQueries": true,
"supportsStatistics": false,
"supportsOrderBy": false,
"supportsDistinct": false,
"supportsPagination": false
},
"spatialReference": {
"wkid": 26917,
"latestWkid": 26917
}
}