{ "currentVersion": 10.91, "serviceDescription": "
Historical map showing the town near the Mississauga reserve boundary north of Fort George, and Queen, Prideaux, and King streets. Other title on side of map: Military reserve at Niagara, Missassauga Point. \"958\" in bottom left corner. Archives of Ontario ref. no. C295-1-102-0-2. Photocopy. Described in: Mapping Upper Canada, 1780-1867 / Joan Winearls. 1991. Reference no.: 1673 (2)<\/span><\/p><\/div><\/div>",
"name": "EarlyNiagara/NiagaraontheLake1796a",
"description": " Historical map showing the town near the Mississauga reserve boundary north of Fort George, and Queen, Prideaux, and King streets. Other title on side of map: Military reserve at Niagara, Missassauga Point. \"958\" in bottom left corner. Archives of Ontario ref. no. C295-1-102-0-2. Photocopy. Described in: Mapping Upper Canada, 1780-1867 / Joan Winearls. 1991. Reference no.: 1673 (2)<\/span><\/p><\/div><\/div>",
"extent": {
"xmin": 655620.6199079087,
"ymin": 4790684.653308675,
"xmax": 656708.6470403791,
"ymax": 4791869.815632254,
"spatialReference": {
"wkid": 26917,
"latestWkid": 26917
}
},
"initialExtent": {
"xmin": 655620.6199079087,
"ymin": 4790684.653308675,
"xmax": 656708.6470403791,
"ymax": 4791869.815632254,
"spatialReference": {
"wkid": 26917,
"latestWkid": 26917
}
},
"fullExtent": {
"xmin": 655620.6199079087,
"ymin": 4790684.653308675,
"xmax": 656708.6470403791,
"ymax": 4791869.815632254,
"spatialReference": {
"wkid": 26917,
"latestWkid": 26917
}
},
"hasMultidimensions": false,
"pixelSizeX": 0.172702719439745,
"pixelSizeY": 0.24186986195493718,
"datasetFormat": "TIFF",
"uncompressedSize": 30870000,
"blockWidth": 6300,
"blockHeight": 41,
"compressionType": "LZW",
"bandNames": [
"Band_1"
],
"allowCopy": true,
"allowAnalysis": true,
"bandCount": 1,
"pixelType": "U8",
"minPixelSize": 0,
"maxPixelSize": 0,
"copyrightText": "Brock University Map, Data & GIS Library",
"serviceDataType": "esriImageServiceDataTypeGeneric",
"serviceSourceType": "esriImageServiceSourceTypeDataset",
"minValues": [
0
],
"maxValues": [
255
],
"meanValues": [
208.25322620665
],
"stdvValues": [
42.57810943601
],
"objectIdField": "",
"fields": [],
"capabilities": "Mensuration,Image,Metadata",
"defaultMosaicMethod": "Center",
"allowedMosaicMethods": "",
"sortField": "",
"sortValue": null,
"sortAscending": true,
"mosaicOperator": "First",
"defaultCompressionQuality": 75,
"defaultResamplingMethod": "Bilinear",
"maxImageHeight": 4100,
"maxImageWidth": 15000,
"allowRasterFunction": true,
"rasterFunctionInfos": [
{
"name": "None",
"description": "",
"help": ""
}
],
"rasterTypeInfos": [
{
"name": "Raster Dataset",
"description": "Supports all ArcGIS Raster Datasets",
"help": ""
}
],
"mensurationCapabilities": "Basic",
"hasHistograms": true,
"hasColormap": false,
"hasRasterAttributeTable": false,
"minScale": 0,
"maxScale": 0,
"exportTilesAllowed": false,
"supportsStatistics": false,
"supportsAdvancedQueries": false,
"editFieldsInfo": null,
"ownershipBasedAccessControlForRasters": null,
"allowComputeTiePoints": false,
"useStandardizedQueries": true,
"advancedQueryCapabilities": {
"useStandardizedQueries": true,
"supportsStatistics": false,
"supportsOrderBy": false,
"supportsDistinct": false,
"supportsPagination": false
},
"spatialReference": {
"wkid": 26917,
"latestWkid": 26917
}
}