{ "currentVersion": 10.91, "serviceDescription": "
Historical map showing buildings and lots with owner names. Shows 18 lots for merchants on low land by the river between Navy Hall and Mississauga reserve; 'Site of Fort George,' other buildings and roads shown.<\/span><\/p> Relief shown by shading.<\/span><\/p> Scale [1:2,400]. 1 in. to 200 ft.<\/span><\/p> Map date: 1802<\/span><\/p> Digital reproduction of map (14 3/4 x 36 in.) in the Public Archives of Canada. National Map Collection. Library and Archives Canada.<\/span><\/p> Georeferenced and modified from NMC Map number 19552 by Map, Data and GIS Library, Brock University. <\/span><\/p> <\/p><\/div><\/div><\/div>",
"name": "EarlyNiagara/NiagaraontheLake1802NMC19552",
"description": " Historical map showing buildings and lots with owner names. Shows 18 lots for merchants on low land by the river between Navy Hall and Mississauga reserve; 'Site of Fort George,' other buildings and roads shown.<\/span><\/p> Relief shown by shading.<\/span><\/p> Scale [1:2,400]. 1 in. to 200 ft.<\/span><\/p> Map date: 1802<\/span><\/p> Digital reproduction of map (14 3/4 x 36 in.) in the Public Archives of Canada. National Map Collection. Library and Archives Canada.<\/span><\/p> Georeferenced and modified from NMC Map number 19552 by Map, Data and GIS Library, Brock University. <\/span><\/p> <\/p><\/div><\/div><\/div>",
"extent": {
"xmin": 655800.3972148868,
"ymin": 4790057.756651385,
"xmax": 657984.6956398869,
"ymax": 4791794.465504385,
"spatialReference": {
"wkid": 26917,
"latestWkid": 26917
}
},
"initialExtent": {
"xmin": 655800.3972148868,
"ymin": 4790057.756651385,
"xmax": 657984.6956398869,
"ymax": 4791794.465504385,
"spatialReference": {
"wkid": 26917,
"latestWkid": 26917
}
},
"fullExtent": {
"xmin": 655800.3972148868,
"ymin": 4790057.756651385,
"xmax": 657984.6956398869,
"ymax": 4791794.465504385,
"spatialReference": {
"wkid": 26917,
"latestWkid": 26917
}
},
"hasMultidimensions": false,
"pixelSizeX": 0.5109470000000104,
"pixelSizeY": 0.510946999999954,
"datasetFormat": "TIFF",
"uncompressedSize": 29061450,
"blockWidth": 128,
"blockHeight": 128,
"compressionType": "None",
"bandNames": [
"Band_1"
],
"allowCopy": true,
"allowAnalysis": true,
"bandCount": 1,
"noDataValue": 256,
"noDataValues": [
256
],
"pixelType": "U16",
"minPixelSize": 0,
"maxPixelSize": 0,
"copyrightText": "Submitted by Gother Mann, Col. Commanding Rl. Engrs. 10th Novr 1802.Map, Data & GIS Library, Brock University.",
"serviceDataType": "esriImageServiceDataTypeGeneric",
"serviceSourceType": "esriImageServiceSourceTypeDataset",
"minValues": [
41
],
"maxValues": [
254
],
"meanValues": [
155.80510540959
],
"stdvValues": [
26.883402904356
],
"objectIdField": "",
"fields": [],
"capabilities": "Mensuration,Image,Metadata",
"defaultMosaicMethod": "Center",
"allowedMosaicMethods": "",
"sortField": "",
"sortValue": null,
"sortAscending": true,
"mosaicOperator": "First",
"defaultCompressionQuality": 75,
"defaultResamplingMethod": "Bilinear",
"maxImageHeight": 4100,
"maxImageWidth": 15000,
"allowRasterFunction": true,
"rasterFunctionInfos": [
{
"name": "None",
"description": "",
"help": ""
}
],
"rasterTypeInfos": [
{
"name": "Raster Dataset",
"description": "Supports all ArcGIS Raster Datasets",
"help": ""
}
],
"mensurationCapabilities": "Basic",
"hasHistograms": true,
"hasColormap": false,
"hasRasterAttributeTable": false,
"minScale": 0,
"maxScale": 0,
"exportTilesAllowed": false,
"supportsStatistics": false,
"supportsAdvancedQueries": false,
"editFieldsInfo": null,
"ownershipBasedAccessControlForRasters": null,
"allowComputeTiePoints": false,
"useStandardizedQueries": true,
"advancedQueryCapabilities": {
"useStandardizedQueries": true,
"supportsStatistics": false,
"supportsOrderBy": false,
"supportsDistinct": false,
"supportsPagination": false
},
"spatialReference": {
"wkid": 26917,
"latestWkid": 26917
}
}