{ "currentVersion": 10.91, "serviceDescription": "
Historical map showing the town of Niagara (now Niagara-on-the-Lake), Fort George, and Fort Niagara. It shows all buildings in town, some named, including: churches, courthouse, prison, and the Indian Council House. Trees, relief, roads, creeks, rivers are shown. Pin holes are present for tracing at corners of buildings and along roads.<\/span><\/p> \"by A. Gray Asst Qr Mr Genl Quebec 20th Novr 1810 This Plan is from a Trigonometrical Survey by Lieut: Gray [Sgd] Q.M. Genls Office Quebec 1st June 1811 James Kempt Q M Genl N. America\"<\/span><\/p> Relief shown by shading.<\/span><\/p> Digital scan from map on the microfiche from the National Map Collection, Public Archives of Canada.<\/span><\/p> Georeferenced and modified from NMC Map number 19551 by Map, Data and GIS Library, Brock University. <\/span><\/p> <\/p><\/div><\/div><\/div>",
"name": "EarlyNiagara/NiagaraontheLake1810NMC19551",
"description": " Historical map showing the town of Niagara (now Niagara-on-the-Lake), Fort George, and Fort Niagara. It shows all buildings in town, some named, including: churches, courthouse, prison, and the Indian Council House. Trees, relief, roads, creeks, rivers are shown. Pin holes are present for tracing at corners of buildings and along roads.<\/span><\/p> \"by A. Gray Asst Qr Mr Genl Quebec 20th Novr 1810 This Plan is from a Trigonometrical Survey by Lieut: Gray [Sgd] Q.M. Genls Office Quebec 1st June 1811 James Kempt Q M Genl N. America\"<\/span><\/p> Relief shown by shading.<\/span><\/p> Digital scan from map on the microfiche from the National Map Collection, Public Archives of Canada.<\/span><\/p> Georeferenced and modified from NMC Map number 19551 by Map, Data and GIS Library, Brock University. <\/span><\/p> <\/p><\/div><\/div><\/div>",
"extent": {
"xmin": -8807041.893088846,
"ymin": 5347796.944586967,
"xmax": -8798717.926008845,
"ymax": 5352938.810854967,
"spatialReference": {
"wkid": 102100,
"latestWkid": 3857
}
},
"initialExtent": {
"xmin": -8807041.893088846,
"ymin": 5347796.944586967,
"xmax": -8798717.926008845,
"ymax": 5352938.810854967,
"spatialReference": {
"wkid": 102100,
"latestWkid": 3857
}
},
"fullExtent": {
"xmin": -8807041.893088846,
"ymin": 5347796.944586967,
"xmax": -8798717.926008845,
"ymax": 5352938.810854967,
"spatialReference": {
"wkid": 102100,
"latestWkid": 3857
}
},
"hasMultidimensions": false,
"pixelSizeX": 0.7194440000000681,
"pixelSizeY": 0.7194439999999488,
"datasetFormat": "TIFF",
"uncompressedSize": 165381580,
"blockWidth": 128,
"blockHeight": 128,
"compressionType": "None",
"bandNames": [
"Band_1"
],
"allowCopy": true,
"allowAnalysis": true,
"bandCount": 1,
"noDataValue": 256,
"noDataValues": [
256
],
"pixelType": "U16",
"minPixelSize": 0,
"maxPixelSize": 0,
"copyrightText": "Map, Data & GIS Library, Brock University.",
"serviceDataType": "esriImageServiceDataTypeGeneric",
"serviceSourceType": "esriImageServiceSourceTypeDataset",
"minValues": [
3
],
"maxValues": [
255
],
"meanValues": [
186.00230373496
],
"stdvValues": [
31.582642759925
],
"objectIdField": "",
"fields": [],
"capabilities": "Mensuration,Image,Metadata",
"defaultMosaicMethod": "Center",
"allowedMosaicMethods": "",
"sortField": "",
"sortValue": null,
"sortAscending": true,
"mosaicOperator": "First",
"defaultCompressionQuality": 75,
"defaultResamplingMethod": "Bilinear",
"maxImageHeight": 4100,
"maxImageWidth": 15000,
"allowRasterFunction": true,
"rasterFunctionInfos": [
{
"name": "None",
"description": "",
"help": ""
}
],
"rasterTypeInfos": [
{
"name": "Raster Dataset",
"description": "Supports all ArcGIS Raster Datasets",
"help": ""
}
],
"mensurationCapabilities": "Basic",
"hasHistograms": true,
"hasColormap": false,
"hasRasterAttributeTable": false,
"minScale": 0,
"maxScale": 0,
"exportTilesAllowed": false,
"supportsStatistics": false,
"supportsAdvancedQueries": false,
"editFieldsInfo": null,
"ownershipBasedAccessControlForRasters": null,
"allowComputeTiePoints": false,
"useStandardizedQueries": true,
"advancedQueryCapabilities": {
"useStandardizedQueries": true,
"supportsStatistics": false,
"supportsOrderBy": false,
"supportsDistinct": false,
"supportsPagination": false
},
"spatialReference": {
"wkid": 102100,
"latestWkid": 3857
}
}