{ "currentVersion": 10.91, "serviceDescription": "
Historical map showing Fort Niagara, Fort George, Fort Mississauga, Butler's Barracks, officers and engineers quarters, outline of streets and buildings of the Town of Newark.<\/span><\/p> \"Copied from the original of Lieut. Philpotts, R.B. by B. Darley Cranfield DAQMG.\"<\/span><\/p> Relief shown by hachures.<\/span><\/p> Georeferenced and modified by Map, Data and GIS Library, Brock University. <\/span><\/p> <\/p><\/div><\/div><\/div>",
"name": "EarlyNiagara/NiagaraontheLake1815",
"description": " Historical map showing Fort Niagara, Fort George, Fort Mississauga, Butler's Barracks, officers and engineers quarters, outline of streets and buildings of the Town of Newark.<\/span><\/p> \"Copied from the original of Lieut. Philpotts, R.B. by B. Darley Cranfield DAQMG.\"<\/span><\/p> Relief shown by hachures.<\/span><\/p> Georeferenced and modified by Map, Data and GIS Library, Brock University. <\/span><\/p> <\/p><\/div><\/div><\/div>",
"extent": {
"xmin": 653057.0458478702,
"ymin": 4788695.0259122,
"xmax": 659226.7291327311,
"ymax": 4793560.050410597,
"spatialReference": {
"wkid": 26917,
"latestWkid": 26917
}
},
"initialExtent": {
"xmin": 653057.0458478702,
"ymin": 4788695.0259122,
"xmax": 659226.7291327311,
"ymax": 4793560.050410597,
"spatialReference": {
"wkid": 26917,
"latestWkid": 26917
}
},
"fullExtent": {
"xmin": 653057.0458478702,
"ymin": 4788695.0259122,
"xmax": 659226.7291327311,
"ymax": 4793560.050410597,
"spatialReference": {
"wkid": 26917,
"latestWkid": 26917
}
},
"hasMultidimensions": false,
"pixelSizeX": 1.2557873569837001,
"pixelSizeY": 1.1183964364130008,
"datasetFormat": "TIFF",
"uncompressedSize": 128229300,
"blockWidth": 128,
"blockHeight": 128,
"compressionType": "None",
"bandNames": [
"Band_1",
"Band_2",
"Band_3"
],
"allowCopy": true,
"allowAnalysis": true,
"bandCount": 3,
"noDataValue": 256,
"noDataValues": [
256,
256,
256
],
"pixelType": "U16",
"minPixelSize": 0,
"maxPixelSize": 0,
"copyrightText": "Map, Data & GIS Library, Brock University.",
"serviceDataType": "esriImageServiceDataTypeGeneric",
"serviceSourceType": "esriImageServiceSourceTypeDataset",
"minValues": [
1,
0,
0
],
"maxValues": [
255,
253,
239
],
"meanValues": [
223.84135036973,
218.84449080669,
200.66773576631
],
"stdvValues": [
25.795136384934,
25.742024635875,
24.820026099222
],
"objectIdField": "",
"fields": [],
"capabilities": "Mensuration,Image,Metadata",
"defaultMosaicMethod": "Center",
"allowedMosaicMethods": "",
"sortField": "",
"sortValue": null,
"sortAscending": true,
"mosaicOperator": "First",
"defaultCompressionQuality": 75,
"defaultResamplingMethod": "Bilinear",
"maxImageHeight": 4100,
"maxImageWidth": 15000,
"allowRasterFunction": true,
"rasterFunctionInfos": [
{
"name": "None",
"description": "",
"help": ""
}
],
"rasterTypeInfos": [
{
"name": "Raster Dataset",
"description": "Supports all ArcGIS Raster Datasets",
"help": ""
}
],
"mensurationCapabilities": "Basic",
"hasHistograms": true,
"hasColormap": false,
"hasRasterAttributeTable": false,
"minScale": 0,
"maxScale": 0,
"exportTilesAllowed": false,
"supportsStatistics": false,
"supportsAdvancedQueries": false,
"editFieldsInfo": null,
"ownershipBasedAccessControlForRasters": null,
"allowComputeTiePoints": false,
"useStandardizedQueries": true,
"advancedQueryCapabilities": {
"useStandardizedQueries": true,
"supportsStatistics": false,
"supportsOrderBy": false,
"supportsDistinct": false,
"supportsPagination": false
},
"spatialReference": {
"wkid": 26917,
"latestWkid": 26917
}
}