{ "currentVersion": 10.91, "serviceDescription": "
Historical map showing Fort Niagara (US), Fort George (British), and the plan for Fort Mississauga. The town of Newark (NOTL) is outlined. Land relief and soundings in the Niagara River and Lake Ontario are noted. This plan differs from an earlier one as Fort Mississauga has been \"placed further back from the Lake & the Tower brought into the center of the Flat Bastion\".<\/span><\/p> Scale [ca. 1:3,647]<\/span><\/p> Map date: 1816<\/span><\/p> Digital reproduction of map (75 x 114 cm.) in the Public Archives of Canada. National Map Collection. Library and Archives Canada.<\/span><\/p> Relief shown by shading.<\/span><\/p> Georeferenced and modified from NMC Map number 17882 by Map, Data and GIS Library, Brock University. <\/span><\/p> <\/p><\/div><\/div><\/div>",
"name": "EarlyNiagara/NiagaraontheLake1816NMC17882",
"description": " Historical map showing Fort Niagara (US), Fort George (British), and the plan for Fort Mississauga. The town of Newark (NOTL) is outlined. Land relief and soundings in the Niagara River and Lake Ontario are noted. This plan differs from an earlier one as Fort Mississauga has been \"placed further back from the Lake & the Tower brought into the center of the Flat Bastion\".<\/span><\/p> Scale [ca. 1:3,647]<\/span><\/p> Map date: 1816<\/span><\/p> Digital reproduction of map (75 x 114 cm.) in the Public Archives of Canada. National Map Collection. Library and Archives Canada.<\/span><\/p> Relief shown by shading.<\/span><\/p> Georeferenced and modified from NMC Map number 17882 by Map, Data and GIS Library, Brock University. <\/span><\/p> <\/p><\/div><\/div><\/div>",
"extent": {
"xmin": 655116.2189245775,
"ymin": 4790057.293670912,
"xmax": 658344.9640765775,
"ymax": 4792976.757914912,
"spatialReference": {
"wkid": 26917,
"latestWkid": 26917
}
},
"initialExtent": {
"xmin": 655116.2189245775,
"ymin": 4790057.293670912,
"xmax": 658344.9640765775,
"ymax": 4792976.757914912,
"spatialReference": {
"wkid": 26917,
"latestWkid": 26917
}
},
"fullExtent": {
"xmin": 655116.2189245775,
"ymin": 4790057.293670912,
"xmax": 658344.9640765775,
"ymax": 4792976.757914912,
"spatialReference": {
"wkid": 26917,
"latestWkid": 26917
}
},
"hasMultidimensions": false,
"pixelSizeX": 0.5268839999999981,
"pixelSizeY": 0.5268839999999426,
"datasetFormat": "TIFF",
"uncompressedSize": 67910496,
"blockWidth": 128,
"blockHeight": 128,
"compressionType": "None",
"bandNames": [
"Band_1"
],
"allowCopy": true,
"allowAnalysis": true,
"bandCount": 1,
"noDataValue": 256,
"noDataValues": [
256
],
"pixelType": "U16",
"minPixelSize": 0,
"maxPixelSize": 0,
"copyrightText": "by Lt Col Nicollsdrafted by: J.B. Duberger Jr.Map, Data & GIS Library, Brock University.",
"serviceDataType": "esriImageServiceDataTypeGeneric",
"serviceSourceType": "esriImageServiceSourceTypeDataset",
"minValues": [
0
],
"maxValues": [
255
],
"meanValues": [
196.33485863848
],
"stdvValues": [
36.461048775173
],
"objectIdField": "",
"fields": [],
"capabilities": "Mensuration,Image,Metadata",
"defaultMosaicMethod": "Center",
"allowedMosaicMethods": "",
"sortField": "",
"sortValue": null,
"sortAscending": true,
"mosaicOperator": "First",
"defaultCompressionQuality": 75,
"defaultResamplingMethod": "Bilinear",
"maxImageHeight": 4100,
"maxImageWidth": 15000,
"allowRasterFunction": true,
"rasterFunctionInfos": [
{
"name": "None",
"description": "",
"help": ""
}
],
"rasterTypeInfos": [
{
"name": "Raster Dataset",
"description": "Supports all ArcGIS Raster Datasets",
"help": ""
}
],
"mensurationCapabilities": "Basic",
"hasHistograms": true,
"hasColormap": false,
"hasRasterAttributeTable": false,
"minScale": 0,
"maxScale": 0,
"exportTilesAllowed": false,
"supportsStatistics": false,
"supportsAdvancedQueries": false,
"editFieldsInfo": null,
"ownershipBasedAccessControlForRasters": null,
"allowComputeTiePoints": false,
"useStandardizedQueries": true,
"advancedQueryCapabilities": {
"useStandardizedQueries": true,
"supportsStatistics": false,
"supportsOrderBy": false,
"supportsDistinct": false,
"supportsPagination": false
},
"spatialReference": {
"wkid": 26917,
"latestWkid": 26917
}
}