<?xml version="1.0" encoding="UTF-8" standalone="no"?>
<metadata xml:lang="en">
<Esri>
<CreaDate>20170223</CreaDate>
<CreaTime>16275600</CreaTime>
<ArcGISFormat>1.0</ArcGISFormat>
<ArcGISstyle>North American Profile of ISO19115 2003</ArcGISstyle>
<SyncOnce>FALSE</SyncOnce>
<DataProperties>
<itemProps>
<itemName Sync="TRUE">Niagara-on-the-Lake-1816-NMC-17884-geo.tif</itemName>
<nativeExtBox>
<westBL Sync="TRUE">655064.992917</westBL>
<eastBL Sync="TRUE">658348.012209</eastBL>
<southBL Sync="TRUE">4790008.930285</southBL>
<northBL Sync="TRUE">4792965.408409</northBL>
<exTypeCode Sync="TRUE">1</exTypeCode>
</nativeExtBox>
<imsContentType Sync="TRUE">002</imsContentType>
</itemProps>
<coordRef>
<type Sync="TRUE">Projected</type>
<geogcsn Sync="TRUE">GCS_North_American_1983</geogcsn>
<csUnits Sync="TRUE">Linear Unit: Meter (1.000000)</csUnits>
<projcsn Sync="TRUE">NAD_1983_UTM_Zone_17N</projcsn>
<peXml Sync="TRUE">&lt;ProjectedCoordinateSystem xsi:type='typens:ProjectedCoordinateSystem' xmlns:xsi='http://www.w3.org/2001/XMLSchema-instance' xmlns:xs='http://www.w3.org/2001/XMLSchema' xmlns:typens='http://www.esri.com/schemas/ArcGIS/10.5'&gt;&lt;WKT&gt;PROJCS[&amp;quot;NAD_1983_UTM_Zone_17N&amp;quot;,GEOGCS[&amp;quot;GCS_North_American_1983&amp;quot;,DATUM[&amp;quot;D_North_American_1983&amp;quot;,SPHEROID[&amp;quot;GRS_1980&amp;quot;,6378137.0,298.257222101]],PRIMEM[&amp;quot;Greenwich&amp;quot;,0.0],UNIT[&amp;quot;Degree&amp;quot;,0.0174532925199433]],PROJECTION[&amp;quot;Transverse_Mercator&amp;quot;],PARAMETER[&amp;quot;False_Easting&amp;quot;,500000.0],PARAMETER[&amp;quot;False_Northing&amp;quot;,0.0],PARAMETER[&amp;quot;Central_Meridian&amp;quot;,-81.0],PARAMETER[&amp;quot;Scale_Factor&amp;quot;,0.9996],PARAMETER[&amp;quot;Latitude_Of_Origin&amp;quot;,0.0],UNIT[&amp;quot;Meter&amp;quot;,1.0],AUTHORITY[&amp;quot;EPSG&amp;quot;,26917]]&lt;/WKT&gt;&lt;XOrigin&gt;-5120900&lt;/XOrigin&gt;&lt;YOrigin&gt;-9998100&lt;/YOrigin&gt;&lt;XYScale&gt;450445547.3910538&lt;/XYScale&gt;&lt;ZOrigin&gt;-100000&lt;/ZOrigin&gt;&lt;ZScale&gt;10000&lt;/ZScale&gt;&lt;MOrigin&gt;-100000&lt;/MOrigin&gt;&lt;MScale&gt;10000&lt;/MScale&gt;&lt;XYTolerance&gt;0.001&lt;/XYTolerance&gt;&lt;ZTolerance&gt;0.001&lt;/ZTolerance&gt;&lt;MTolerance&gt;0.001&lt;/MTolerance&gt;&lt;HighPrecision&gt;true&lt;/HighPrecision&gt;&lt;WKID&gt;26917&lt;/WKID&gt;&lt;LatestWKID&gt;26917&lt;/LatestWKID&gt;&lt;/ProjectedCoordinateSystem&gt;</peXml>
</coordRef>
<RasterProperties>
<General>
<PixelDepth Sync="TRUE">16</PixelDepth>
<HasColormap Sync="TRUE">FALSE</HasColormap>
<CompressionType Sync="TRUE">None</CompressionType>
<NumBands Sync="TRUE">1</NumBands>
<Format Sync="TRUE">TIFF</Format>
<HasPyramids Sync="TRUE">TRUE</HasPyramids>
<SourceType Sync="TRUE">continuous</SourceType>
<PixelType Sync="TRUE">unsigned integer</PixelType>
<NoDataValue Sync="TRUE">256</NoDataValue>
</General>
</RasterProperties>
</DataProperties>
<SyncDate>20180123</SyncDate>
<SyncTime>13565600</SyncTime>
<ModDate>20180123</ModDate>
<ModTime>13565600</ModTime>
</Esri>
<mdLang>
<languageCode value="eng">
</languageCode>
<countryCode Sync="TRUE" value="USA">
</countryCode>
</mdLang>
<mdChar>
<CharSetCd value="004">
</CharSetCd>
</mdChar>
<mdHrLv>
<ScopeCd value="005">
</ScopeCd>
</mdHrLv>
<mdStanName>ArcGIS Metadata</mdStanName>
<mdStanVer>1.0</mdStanVer>
<dataIdInfo>
<envirDesc Sync="TRUE"> Version 6.2 (Build 9200) ; Esri ArcGIS 10.5.1.7333</envirDesc>
<dataLang>
<languageCode Sync="TRUE" value="eng">
</languageCode>
<countryCode Sync="TRUE" value="USA">
</countryCode>
</dataLang>
<idCitation>
<resTitle Sync="TRUE">Niagara-on-the-Lake-1816-NMC-17884-geo.tif</resTitle>
<presForm>
<PresFormCd Sync="TRUE" value="005">
</PresFormCd>
</presForm>
</idCitation>
<spatRpType>
<SpatRepTypCd Sync="TRUE" value="002">
</SpatRepTypCd>
</spatRpType>
<dataExt>
<geoEle>
<GeoBndBox esriExtentType="search">
<exTypeCode Sync="TRUE">1</exTypeCode>
<westBL Sync="TRUE">-79.089912</westBL>
<eastBL Sync="TRUE">-79.048645</eastBL>
<northBL Sync="TRUE">43.273548</northBL>
<southBL Sync="TRUE">43.246258</southBL>
</GeoBndBox>
</geoEle>
</dataExt>
<idAbs>Historical map showing the star shaped plan for Fort Mississauga, the streets of Newark (NOTL), Fort George as it was before the war and as altered by the Americans, the merchant lots, and the shops and yard established during the war. On the American side, the state of Fort Niagara in Feb 1815 is drawn. The map also indicates soundings for the Niagara River and Lake Ontario.</idAbs>
<searchKeys>
<keyword>Niagara-on-the-Lake</keyword>
<keyword>upper Canada</keyword>
<keyword>ontario</keyword>
<keyword>niagara</keyword>
</searchKeys>
<idPurp>Historical map showing the star shaped plan for Fort Mississauga, the streets of Newark (NOTL), Fort George as it was before the war and as altered by the Americans, the merchant lots, and the shops and yard established during the war.</idPurp>
<idCredit/>
<resConst>
<Consts>
<useLimit>no restrictions</useLimit>
</Consts>
</resConst>
</dataIdInfo>
<distInfo>
<distFormat>
<formatName Sync="TRUE">Raster Dataset</formatName>
</distFormat>
</distInfo>
<mdHrLvName Sync="TRUE">dataset</mdHrLvName>
<refSysInfo>
<RefSystem>
<refSysID>
<identCode Sync="TRUE" code="26917">
</identCode>
<idCodeSpace Sync="TRUE">EPSG</idCodeSpace>
<idVersion Sync="TRUE">6.13(3.0.1)</idVersion>
</refSysID>
</RefSystem>
</refSysInfo>
<spatRepInfo>
<Georect>
<cellGeo>
<CellGeoCd Sync="TRUE" value="002">
</CellGeoCd>
</cellGeo>
<numDims Sync="TRUE">2</numDims>
<tranParaAv Sync="TRUE">1</tranParaAv>
<chkPtAv Sync="TRUE">0</chkPtAv>
<cornerPts>
<pos Sync="TRUE">655064.992917 4790008.930285</pos>
</cornerPts>
<cornerPts>
<pos Sync="TRUE">655064.992917 4792965.408409</pos>
</cornerPts>
<cornerPts>
<pos Sync="TRUE">658348.012209 4792965.408409</pos>
</cornerPts>
<cornerPts>
<pos Sync="TRUE">658348.012209 4790008.930285</pos>
</cornerPts>
<centerPt>
<pos Sync="TRUE">656706.502563 4791487.169347</pos>
</centerPt>
<axisDimension type="002">
<dimSize Sync="TRUE">6153</dimSize>
<dimResol>
<value Sync="TRUE" uom="m">0.533564</value>
</dimResol>
</axisDimension>
<axisDimension type="001">
<dimSize Sync="TRUE">5541</dimSize>
<dimResol>
<value Sync="TRUE" uom="m">0.533564</value>
</dimResol>
</axisDimension>
<ptInPixel>
<PixOrientCd Sync="TRUE" value="001">
</PixOrientCd>
</ptInPixel>
</Georect>
</spatRepInfo>
<contInfo>
<ImgDesc>
<contentTyp>
<ContentTypCd Sync="TRUE" value="001">
</ContentTypCd>
</contentTyp>
<covDim>
<Band>
<dimDescrp Sync="TRUE">Band_1</dimDescrp>
<bitsPerVal Sync="TRUE">16</bitsPerVal>
<valUnit>
<UOM type="length">
</UOM>
</valUnit>
</Band>
</covDim>
</ImgDesc>
</contInfo>
<mdDateSt Sync="TRUE">20180123</mdDateSt>
</metadata>
