{
 "currentVersion": 10.91,
 "serviceDescription": "Historical map showing the star shaped plan for Fort Mississauga, the streets of Newark (NOTL), Fort George as it was before the war and as altered by the Americans, the merchant lots, and the shops and yard established during the war. On the American side, the state of Fort Niagara in Feb 1815 is drawn. The map also indicates soundings for the Niagara River and Lake Ontario.",
 "name": "EarlyNiagara/NiagaraontheLake1816NMC17884",
 "description": "Historical map showing the star shaped plan for Fort Mississauga, the streets of Newark (NOTL), Fort George as it was before the war and as altered by the Americans, the merchant lots, and the shops and yard established during the war. On the American side, the state of Fort Niagara in Feb 1815 is drawn. The map also indicates soundings for the Niagara River and Lake Ontario.",
 "extent": {
  "xmin": 655064.9929168663,
  "ymin": 4790008.93028539,
  "xmax": 658348.0122088663,
  "ymax": 4792965.40840939,
  "spatialReference": {
   "wkid": 26917,
   "latestWkid": 26917
  }
 },
 "initialExtent": {
  "xmin": 655064.9929168663,
  "ymin": 4790008.93028539,
  "xmax": 658348.0122088663,
  "ymax": 4792965.40840939,
  "spatialReference": {
   "wkid": 26917,
   "latestWkid": 26917
  }
 },
 "fullExtent": {
  "xmin": 655064.9929168663,
  "ymin": 4790008.93028539,
  "xmax": 658348.0122088663,
  "ymax": 4792965.40840939,
  "spatialReference": {
   "wkid": 26917,
   "latestWkid": 26917
  }
 },
 "hasMultidimensions": false,
 "pixelSizeX": 0.5335639999999972,
 "pixelSizeY": 0.5335640000000238,
 "datasetFormat": "TIFF",
 "uncompressedSize": 68187546,
 "blockWidth": 128,
 "blockHeight": 128,
 "compressionType": "None",
 "bandNames": [
  "Band_1"
 ],
 "allowCopy": true,
 "allowAnalysis": true,
 "bandCount": 1,
 "noDataValue": 256,
 "noDataValues": [
  256
 ],
 "pixelType": "U16",
 "minPixelSize": 0,
 "maxPixelSize": 0,
 "copyrightText": "",
 "serviceDataType": "esriImageServiceDataTypeGeneric",
 "serviceSourceType": "esriImageServiceSourceTypeDataset",
 "minValues": [],
 "maxValues": [],
 "meanValues": [],
 "stdvValues": [],
 "objectIdField": "",
 "fields": [],
 "capabilities": "Image,Metadata,Mensuration",
 "defaultMosaicMethod": "Center",
 "allowedMosaicMethods": "",
 "sortField": "",
 "sortValue": null,
 "sortAscending": true,
 "mosaicOperator": "First",
 "defaultCompressionQuality": 75,
 "defaultResamplingMethod": "Bilinear",
 "maxImageHeight": 4100,
 "maxImageWidth": 15000,
 "allowRasterFunction": true,
 "rasterFunctionInfos": [
  {
   "name": "None",
   "description": "",
   "help": ""
  }
 ],
 "rasterTypeInfos": [
  {
   "name": "Raster Dataset",
   "description": "Supports all ArcGIS Raster Datasets",
   "help": ""
  }
 ],
 "mensurationCapabilities": "Basic",
 "hasHistograms": false,
 "hasColormap": false,
 "hasRasterAttributeTable": false,
 "minScale": 0,
 "maxScale": 0,
 "exportTilesAllowed": false,
 "supportsStatistics": false,
 "supportsAdvancedQueries": false,
 "editFieldsInfo": null,
 "ownershipBasedAccessControlForRasters": null,
 "allowComputeTiePoints": false,
 "useStandardizedQueries": true,
 "advancedQueryCapabilities": {
  "useStandardizedQueries": true,
  "supportsStatistics": false,
  "supportsOrderBy": false,
  "supportsDistinct": false,
  "supportsPagination": false
 },
 "spatialReference": {
  "wkid": 26917,
  "latestWkid": 26917
 }
}
