{
 "currentVersion": 10.91,
 "serviceDescription": "<div style=''><div><div><p><span>Historical map showing lot boundaries and numbers, \"reserve for works\" at Mississauga Point.<\/span><\/p><p><span>\"Copy, York U.C. May 3rd 1817, copied from a plan in the Surveyor Genls Office Sigd Geo. Phillpotts Lt R.E.\"<\/span><\/p><p><span>\"C.S. 114\"--bottom left corner.<\/span><\/p><p><span>Scale [ca. 1:10,000]<\/span><\/p><p><span>Map date: 1817<\/span><\/p><p><span>Digital reproduction of map in the Public Archives of Canada. National Map Collection. Library and Archives Canada.<\/span><\/p><p><span>Georeferenced and modified from NMC Map number 19556 by Map, Data and GIS Library, Brock University. <\/span><\/p><p><span /><\/p><\/div><\/div><\/div>",
 "name": "EarlyNiagara/NiagaraontheLake1817NMC19556",
 "description": "<div style=''><div><div><p><span>Historical map showing lot boundaries and numbers, \"reserve for works\" at Mississauga Point.<\/span><\/p><p><span>\"Copy, York U.C. May 3rd 1817, copied from a plan in the Surveyor Genls Office Sigd Geo. Phillpotts Lt R.E.\"<\/span><\/p><p><span>\"C.S. 114\"--bottom left corner.<\/span><\/p><p><span>Scale [ca. 1:10,000]<\/span><\/p><p><span>Map date: 1817<\/span><\/p><p><span>Digital reproduction of map in the Public Archives of Canada. National Map Collection. Library and Archives Canada.<\/span><\/p><p><span>Georeferenced and modified from NMC Map number 19556 by Map, Data and GIS Library, Brock University. <\/span><\/p><p><span /><\/p><\/div><\/div><\/div>",
 "extent": {
  "xmin": 654157.5770909258,
  "ymin": 4789688.933142276,
  "xmax": 657184.7401649258,
  "ymax": 4792723.871814275,
  "spatialReference": {
   "wkid": 26917,
   "latestWkid": 26917
  }
 },
 "initialExtent": {
  "xmin": 654157.5770909258,
  "ymin": 4789688.933142276,
  "xmax": 657184.7401649258,
  "ymax": 4792723.871814275,
  "spatialReference": {
   "wkid": 26917,
   "latestWkid": 26917
  }
 },
 "fullExtent": {
  "xmin": 654157.5770909258,
  "ymin": 4789688.933142276,
  "xmax": 657184.7401649258,
  "ymax": 4792723.871814275,
  "spatialReference": {
   "wkid": 26917,
   "latestWkid": 26917
  }
 },
 "hasMultidimensions": false,
 "pixelSizeX": 0.40924200000000543,
 "pixelSizeY": 0.40924199999994754,
 "datasetFormat": "TIFF",
 "uncompressedSize": 109712304,
 "blockWidth": 128,
 "blockHeight": 128,
 "compressionType": "None",
 "bandNames": [
  "Band_1"
 ],
 "allowCopy": true,
 "allowAnalysis": true,
 "bandCount": 1,
 "noDataValue": 256,
 "noDataValues": [
  256
 ],
 "pixelType": "U16",
 "minPixelSize": 0,
 "maxPixelSize": 0,
 "copyrightText": "[\"signed\"]",
 "serviceDataType": "esriImageServiceDataTypeGeneric",
 "serviceSourceType": "esriImageServiceSourceTypeDataset",
 "minValues": [
  0
 ],
 "maxValues": [
  255
 ],
 "meanValues": [
  146.75609183112
 ],
 "stdvValues": [
  36.19146110151
 ],
 "objectIdField": "",
 "fields": [],
 "capabilities": "Mensuration,Image,Metadata",
 "defaultMosaicMethod": "Center",
 "allowedMosaicMethods": "",
 "sortField": "",
 "sortValue": null,
 "sortAscending": true,
 "mosaicOperator": "First",
 "defaultCompressionQuality": 75,
 "defaultResamplingMethod": "Bilinear",
 "maxImageHeight": 4100,
 "maxImageWidth": 15000,
 "allowRasterFunction": true,
 "rasterFunctionInfos": [
  {
   "name": "None",
   "description": "",
   "help": ""
  }
 ],
 "rasterTypeInfos": [
  {
   "name": "Raster Dataset",
   "description": "Supports all ArcGIS Raster Datasets",
   "help": ""
  }
 ],
 "mensurationCapabilities": "Basic",
 "hasHistograms": true,
 "hasColormap": false,
 "hasRasterAttributeTable": false,
 "minScale": 0,
 "maxScale": 0,
 "exportTilesAllowed": false,
 "supportsStatistics": false,
 "supportsAdvancedQueries": false,
 "editFieldsInfo": null,
 "ownershipBasedAccessControlForRasters": null,
 "allowComputeTiePoints": false,
 "useStandardizedQueries": true,
 "advancedQueryCapabilities": {
  "useStandardizedQueries": true,
  "supportsStatistics": false,
  "supportsOrderBy": false,
  "supportsDistinct": false,
  "supportsPagination": false
 },
 "spatialReference": {
  "wkid": 26917,
  "latestWkid": 26917
 }
}
