{ "currentVersion": 10.91, "serviceDescription": "
Historical map showing the area from Fort Mississauga to Fort George with: relief, cleared areas, roads/paths; Butler's barracks, Indian Council House, inns, Navy Hall, and the Engineers' establishment. It shows Fort George as rebuilt (south part in ruins) and encroachments near both forts.<\/SPAN><\/P> [Sgd] Niagara March 24th 1819 Arthur Walpole Lieut R Engrs Henry Vavacour Capn Comg R1 Engineers.<\/SPAN><\/P> Relief shown by hachures<\/SPAN><\/P> Scale [ca. 1:3,887].<\/SPAN><\/P> Map date: 1819<\/SPAN><\/P> Digital reproduction of map (41 x 87 cm.) in the Public Archives of Canada. National Map Collection. Library and Archives Canada.<\/SPAN><\/P> Georeferenced and modified from NMC Map number 22531 by Map, Data and GIS Library, Brock University. <\/SPAN><\/P> <\/P><\/DIV><\/DIV><\/DIV>",
"name": "EarlyNiagara/NiagaraontheLake1819NMC22531",
"description": " Historical map showing the area from Fort Mississauga to Fort George with: relief, cleared areas, roads/paths; Butler's barracks, Indian Council House, inns, Navy Hall, and the Engineers' establishment. It shows Fort George as rebuilt (south part in ruins) and encroachments near both forts.<\/SPAN><\/P> [Sgd] Niagara March 24th 1819 Arthur Walpole Lieut R Engrs Henry Vavacour Capn Comg R1 Engineers.<\/SPAN><\/P> Relief shown by hachures<\/SPAN><\/P> Scale [ca. 1:3,887].<\/SPAN><\/P> Map date: 1819<\/SPAN><\/P> Digital reproduction of map (41 x 87 cm.) in the Public Archives of Canada. National Map Collection. Library and Archives Canada.<\/SPAN><\/P> Georeferenced and modified from NMC Map number 22531 by Map, Data and GIS Library, Brock University. <\/SPAN><\/P> <\/P><\/DIV><\/DIV><\/DIV>",
"extent": {
"xmin": 654917.7149287271,
"ymin": 4789178.921653237,
"xmax": 658356.0678287272,
"ymax": 4792065.120853237,
"spatialReference": {
"wkid": 26917,
"latestWkid": 26917
}
},
"initialExtent": {
"xmin": 654917.7149287271,
"ymin": 4789178.921653237,
"xmax": 658356.0678287272,
"ymax": 4792065.120853237,
"spatialReference": {
"wkid": 26917,
"latestWkid": 26917
}
},
"fullExtent": {
"xmin": 654917.7149287271,
"ymin": 4789178.921653237,
"xmax": 658356.0678287272,
"ymax": 4792065.120853237,
"spatialReference": {
"wkid": 26917,
"latestWkid": 26917
}
},
"hasMultidimensions": false,
"pixelSizeX": 0.6465500000000106,
"pixelSizeY": 0.6465499999999289,
"datasetFormat": "TIFF",
"uncompressedSize": 47479104,
"blockWidth": 128,
"blockHeight": 128,
"compressionType": "None",
"bandNames": [
"Band_1"
],
"allowCopy": true,
"allowAnalysis": true,
"bandCount": 1,
"noDataValue": 256,
"noDataValues": [
256
],
"pixelType": "U16",
"minPixelSize": 0,
"maxPixelSize": 0,
"copyrightText": "[\"Sgd\"]",
"serviceDataType": "esriImageServiceDataTypeGeneric",
"serviceSourceType": "esriImageServiceSourceTypeDataset",
"minValues": [
17
],
"maxValues": [
248
],
"meanValues": [
191.33508128346
],
"stdvValues": [
24.528107840031
],
"objectIdField": "",
"fields": [],
"capabilities": "Image,Metadata,Mensuration",
"defaultMosaicMethod": "Center",
"allowedMosaicMethods": "",
"sortField": "",
"sortValue": null,
"sortAscending": true,
"mosaicOperator": "First",
"defaultCompressionQuality": 75,
"defaultResamplingMethod": "Bilinear",
"maxImageHeight": 4100,
"maxImageWidth": 15000,
"allowRasterFunction": true,
"rasterFunctionInfos": [
{
"name": "None",
"description": "",
"help": ""
}
],
"rasterTypeInfos": [
{
"name": "Raster Dataset",
"description": "Supports all ArcGIS Raster Datasets",
"help": ""
}
],
"mensurationCapabilities": "Basic",
"hasHistograms": true,
"hasColormap": false,
"hasRasterAttributeTable": false,
"minScale": 0,
"maxScale": 0,
"exportTilesAllowed": false,
"supportsStatistics": false,
"supportsAdvancedQueries": false,
"editFieldsInfo": null,
"ownershipBasedAccessControlForRasters": null,
"allowComputeTiePoints": false,
"useStandardizedQueries": true,
"advancedQueryCapabilities": {
"useStandardizedQueries": true,
"supportsStatistics": false,
"supportsOrderBy": false,
"supportsDistinct": false,
"supportsPagination": false
},
"spatialReference": {
"wkid": 26917,
"latestWkid": 26917
}
}