{ "currentVersion": 10.91, "serviceDescription": "
Historical map showing the 3 forts, streets (unnamed), buildings, treed areas, Indian Council House, Butlers Barracks, boundary of Military Reserve.<\/SPAN><\/P> \"(signed) Henry Vavasour, Capn Comg Royal Engr, Niagara Frontier. Royal Engineers Office Quebec Novr 19 - 1818.\"<\/SPAN><\/P> \"Memo - The numbers from 1 to 29 has reference to the detached plans sections and elevations fo public buildings - Aug. 21 - 1823.\"<\/SPAN><\/P> Relief shown by hachures<\/SPAN><\/P> Scale [1:3,600]. 100 yds to an in.<\/SPAN><\/P> Map date: 1823.<\/SPAN><\/P> Digital reproduction of map (83 x 107 cm.) in the Public Archives of Canada. National Map Collection. Library and Archives Canada.<\/SPAN><\/P> Georeferenced and modified from NMC Map number 15014 by Map, Data and GIS Library, Brock University. <\/SPAN><\/P> <\/P><\/DIV><\/DIV><\/DIV>",
"name": "EarlyNiagara/NiagaraontheLake1823NMC15014",
"description": " Historical map showing the 3 forts, streets (unnamed), buildings, treed areas, Indian Council House, Butlers Barracks, boundary of Military Reserve.<\/SPAN><\/P> \"(signed) Henry Vavasour, Capn Comg Royal Engr, Niagara Frontier. Royal Engineers Office Quebec Novr 19 - 1818.\"<\/SPAN><\/P> \"Memo - The numbers from 1 to 29 has reference to the detached plans sections and elevations fo public buildings - Aug. 21 - 1823.\"<\/SPAN><\/P> Relief shown by hachures<\/SPAN><\/P> Scale [1:3,600]. 100 yds to an in.<\/SPAN><\/P> Map date: 1823.<\/SPAN><\/P> Digital reproduction of map (83 x 107 cm.) in the Public Archives of Canada. National Map Collection. Library and Archives Canada.<\/SPAN><\/P> Georeferenced and modified from NMC Map number 15014 by Map, Data and GIS Library, Brock University. <\/SPAN><\/P> <\/P><\/DIV><\/DIV><\/DIV>",
"extent": {
"xmin": 654035.4358629148,
"ymin": 4788575.614694188,
"xmax": 658953.6673749147,
"ymax": 4793312.156411189,
"spatialReference": {
"wkid": 26917,
"latestWkid": 26917
}
},
"initialExtent": {
"xmin": 654035.4358629148,
"ymin": 4788575.614694188,
"xmax": 658953.6673749147,
"ymax": 4793312.156411189,
"spatialReference": {
"wkid": 26917,
"latestWkid": 26917
}
},
"fullExtent": {
"xmin": 654035.4358629148,
"ymin": 4788575.614694188,
"xmax": 658953.6673749147,
"ymax": 4793312.156411189,
"spatialReference": {
"wkid": 26917,
"latestWkid": 26917
}
},
"hasMultidimensions": false,
"pixelSizeX": 0.7415909999999953,
"pixelSizeY": 0.7415910000000479,
"datasetFormat": "TIFF",
"uncompressedSize": 84717168,
"blockWidth": 128,
"blockHeight": 128,
"compressionType": "None",
"bandNames": [
"Band_1"
],
"allowCopy": true,
"allowAnalysis": true,
"bandCount": 1,
"noDataValue": 256,
"noDataValues": [
256
],
"pixelType": "U16",
"minPixelSize": 0,
"maxPixelSize": 0,
"copyrightText": "[\"cartography\"]",
"serviceDataType": "esriImageServiceDataTypeGeneric",
"serviceSourceType": "esriImageServiceSourceTypeDataset",
"minValues": [
4
],
"maxValues": [
255
],
"meanValues": [
174.57827576539
],
"stdvValues": [
22.430864572756
],
"objectIdField": "",
"fields": [],
"capabilities": "Image,Metadata,Mensuration",
"defaultMosaicMethod": "Center",
"allowedMosaicMethods": "",
"sortField": "",
"sortValue": null,
"sortAscending": true,
"mosaicOperator": "First",
"defaultCompressionQuality": 75,
"defaultResamplingMethod": "Bilinear",
"maxImageHeight": 4100,
"maxImageWidth": 15000,
"allowRasterFunction": true,
"rasterFunctionInfos": [
{
"name": "None",
"description": "",
"help": ""
}
],
"rasterTypeInfos": [
{
"name": "Raster Dataset",
"description": "Supports all ArcGIS Raster Datasets",
"help": ""
}
],
"mensurationCapabilities": "Basic",
"hasHistograms": true,
"hasColormap": false,
"hasRasterAttributeTable": false,
"minScale": 0,
"maxScale": 0,
"exportTilesAllowed": false,
"supportsStatistics": false,
"supportsAdvancedQueries": false,
"editFieldsInfo": null,
"ownershipBasedAccessControlForRasters": null,
"allowComputeTiePoints": false,
"useStandardizedQueries": true,
"advancedQueryCapabilities": {
"useStandardizedQueries": true,
"supportsStatistics": false,
"supportsOrderBy": false,
"supportsDistinct": false,
"supportsPagination": false
},
"spatialReference": {
"wkid": 26917,
"latestWkid": 26917
}
}