{ "currentVersion": 10.91, "serviceDescription": "
Historical map showing 26 town blocks, divided up into lots with only a few numbered. King St, Gage St, Johnson St., Queen St., and Prideau St. identified. Gives a list of lots near market square shewing the annual rent paid for each to the Magistrates.<\/SPAN><\/P> Original map date: 1819.<\/SPAN><\/P> Additional text: \"Taken from land petitions B2 No. 92. 1842.\"<\/SPAN><\/P> Digital reproduction of map (14 1/2 x 9 1/4 in.) in the Public Archives of Canada. National Map Collection. Library and Archives Canada.<\/SPAN><\/P> Georeferenced and modified from NMC Map number 19555 by Map, Data and GIS Library, Brock University. <\/SPAN><\/P> <\/P><\/DIV><\/DIV><\/DIV>",
"name": "EarlyNiagara/NiagaraontheLake1829NMC19555",
"description": " Historical map showing 26 town blocks, divided up into lots with only a few numbered. King St, Gage St, Johnson St., Queen St., and Prideau St. identified. Gives a list of lots near market square shewing the annual rent paid for each to the Magistrates.<\/SPAN><\/P> Original map date: 1819.<\/SPAN><\/P> Additional text: \"Taken from land petitions B2 No. 92. 1842.\"<\/SPAN><\/P> Digital reproduction of map (14 1/2 x 9 1/4 in.) in the Public Archives of Canada. National Map Collection. Library and Archives Canada.<\/SPAN><\/P> Georeferenced and modified from NMC Map number 19555 by Map, Data and GIS Library, Brock University. <\/SPAN><\/P> <\/P><\/DIV><\/DIV><\/DIV>",
"extent": {
"xmin": 655229.6073119907,
"ymin": 4789998.176488896,
"xmax": 656830.7743279907,
"ymax": 4791745.523084896,
"spatialReference": {
"wkid": 26917,
"latestWkid": 26917
}
},
"initialExtent": {
"xmin": 655229.6073119907,
"ymin": 4789998.176488896,
"xmax": 656830.7743279907,
"ymax": 4791745.523084896,
"spatialReference": {
"wkid": 26917,
"latestWkid": 26917
}
},
"fullExtent": {
"xmin": 655229.6073119907,
"ymin": 4789998.176488896,
"xmax": 656830.7743279907,
"ymax": 4791745.523084896,
"spatialReference": {
"wkid": 26917,
"latestWkid": 26917
}
},
"hasMultidimensions": false,
"pixelSizeX": 0.4004920000000053,
"pixelSizeY": 0.40049199999995067,
"datasetFormat": "TIFF",
"uncompressedSize": 34886548,
"blockWidth": 128,
"blockHeight": 128,
"compressionType": "None",
"bandNames": [
"Band_1"
],
"allowCopy": true,
"allowAnalysis": true,
"bandCount": 1,
"noDataValue": 256,
"noDataValues": [
256
],
"pixelType": "U16",
"minPixelSize": 0,
"maxPixelSize": 0,
"copyrightText": "[\"signed\"]",
"serviceDataType": "esriImageServiceDataTypeGeneric",
"serviceSourceType": "esriImageServiceSourceTypeDataset",
"minValues": [
0
],
"maxValues": [
255
],
"meanValues": [
191.50686113827
],
"stdvValues": [
28.737338157768
],
"objectIdField": "",
"fields": [],
"capabilities": "Image,Metadata,Mensuration",
"defaultMosaicMethod": "Center",
"allowedMosaicMethods": "",
"sortField": "",
"sortValue": null,
"sortAscending": true,
"mosaicOperator": "First",
"defaultCompressionQuality": 75,
"defaultResamplingMethod": "Bilinear",
"maxImageHeight": 4100,
"maxImageWidth": 15000,
"allowRasterFunction": true,
"rasterFunctionInfos": [
{
"name": "None",
"description": "",
"help": ""
}
],
"rasterTypeInfos": [
{
"name": "Raster Dataset",
"description": "Supports all ArcGIS Raster Datasets",
"help": ""
}
],
"mensurationCapabilities": "Basic",
"hasHistograms": true,
"hasColormap": false,
"hasRasterAttributeTable": false,
"minScale": 0,
"maxScale": 0,
"exportTilesAllowed": false,
"supportsStatistics": false,
"supportsAdvancedQueries": false,
"editFieldsInfo": null,
"ownershipBasedAccessControlForRasters": null,
"allowComputeTiePoints": false,
"useStandardizedQueries": true,
"advancedQueryCapabilities": {
"useStandardizedQueries": true,
"supportsStatistics": false,
"supportsOrderBy": false,
"supportsDistinct": false,
"supportsPagination": false
},
"spatialReference": {
"wkid": 26917,
"latestWkid": 26917
}
}