{ "currentVersion": 10.91, "serviceDescription": "
Historical map of Niagara-on-the-Lake showing lot numbers, buildings, Fort George and Fort Mississauga.<\/span><\/p> Signed by Col. Gust. Nicolls.<\/span><\/p> Digital reproduction of map (43 x 79 cm.) in the Public Archives of Canada. National Map Collection. Library and Archives Canada.<\/span><\/p> Relief shown by hachures.<\/span><\/p> Georeferenced and modified from NMC Map number 22539 by Map, Data and GIS Library, Brock University. <\/span><\/p> <\/p><\/div><\/div><\/div>",
"name": "EarlyNiagara/NiagaraontheLake1833NMC22539",
"description": " Historical map of Niagara-on-the-Lake showing lot numbers, buildings, Fort George and Fort Mississauga.<\/span><\/p> Signed by Col. Gust. Nicolls.<\/span><\/p> Digital reproduction of map (43 x 79 cm.) in the Public Archives of Canada. National Map Collection. Library and Archives Canada.<\/span><\/p> Relief shown by hachures.<\/span><\/p> Georeferenced and modified from NMC Map number 22539 by Map, Data and GIS Library, Brock University. <\/span><\/p> <\/p><\/div><\/div><\/div>",
"extent": {
"xmin": -8804215.19721234,
"ymin": 5348308.375196749,
"xmax": -8799639.98098234,
"ymax": 5352500.33684075,
"spatialReference": {
"wkid": 102100,
"latestWkid": 3857
}
},
"initialExtent": {
"xmin": -8804215.19721234,
"ymin": 5348308.375196749,
"xmax": -8799639.98098234,
"ymax": 5352500.33684075,
"spatialReference": {
"wkid": 102100,
"latestWkid": 3857
}
},
"fullExtent": {
"xmin": -8804215.19721234,
"ymin": 5348308.375196749,
"xmax": -8799639.98098234,
"ymax": 5352500.33684075,
"spatialReference": {
"wkid": 102100,
"latestWkid": 3857
}
},
"hasMultidimensions": false,
"pixelSizeX": 0.9168769999998874,
"pixelSizeY": 0.9168770000000818,
"datasetFormat": "TIFF",
"uncompressedSize": 45628560,
"blockWidth": 128,
"blockHeight": 128,
"compressionType": "None",
"bandNames": [
"Band_1"
],
"allowCopy": true,
"allowAnalysis": true,
"bandCount": 1,
"noDataValue": 256,
"noDataValues": [
256
],
"pixelType": "U16",
"minPixelSize": 0,
"maxPixelSize": 0,
"copyrightText": "Map, Data & GIS Library, Brock University.",
"serviceDataType": "esriImageServiceDataTypeGeneric",
"serviceSourceType": "esriImageServiceSourceTypeDataset",
"minValues": [
26
],
"maxValues": [
255
],
"meanValues": [
190.99668065258
],
"stdvValues": [
53.073469698637
],
"objectIdField": "",
"fields": [],
"capabilities": "Mensuration,Image,Metadata",
"defaultMosaicMethod": "Center",
"allowedMosaicMethods": "",
"sortField": "",
"sortValue": null,
"sortAscending": true,
"mosaicOperator": "First",
"defaultCompressionQuality": 75,
"defaultResamplingMethod": "Bilinear",
"maxImageHeight": 4100,
"maxImageWidth": 15000,
"allowRasterFunction": true,
"rasterFunctionInfos": [
{
"name": "None",
"description": "",
"help": ""
}
],
"rasterTypeInfos": [
{
"name": "Raster Dataset",
"description": "Supports all ArcGIS Raster Datasets",
"help": ""
}
],
"mensurationCapabilities": "Basic",
"hasHistograms": true,
"hasColormap": false,
"hasRasterAttributeTable": false,
"minScale": 0,
"maxScale": 0,
"exportTilesAllowed": false,
"supportsStatistics": false,
"supportsAdvancedQueries": false,
"editFieldsInfo": null,
"ownershipBasedAccessControlForRasters": null,
"allowComputeTiePoints": false,
"useStandardizedQueries": true,
"advancedQueryCapabilities": {
"useStandardizedQueries": true,
"supportsStatistics": false,
"supportsOrderBy": false,
"supportsDistinct": false,
"supportsPagination": false
},
"spatialReference": {
"wkid": 102100,
"latestWkid": 3857
}
}