{ "currentVersion": 10.91, "serviceDescription": "
Historical map showing the town of Niagara (NOTL), military buildings and forts, and all reserves (i.e. the Mississauga reserve). Land grants (i.e. church), Niagara Harbour and Dock Co., J. Crook's former lots, and the land to be leased south of Fort George are noted.<\/span><\/p> (signed) R.H. Bonny-castle Capn Royal Engineer's Westn Distr. 14th Decr 1835, T.G.W. Eaststaff Draugn.<\/span><\/p> Relief shown by hachures.<\/span><\/p> Digital reproduction of map (44 x 110 cm.) in the Public Archives of Canada. National Map Collection. Library and Archives Canada.<\/span><\/p> Georeferenced and modified from NMC Map number 14283 by Map, Data and GIS Library, Brock University. <\/span><\/p> <\/p><\/div><\/div><\/div>",
"name": "EarlyNiagara/NiagaraontheLake1835NMC14283",
"description": " Historical map showing the town of Niagara (NOTL), military buildings and forts, and all reserves (i.e. the Mississauga reserve). Land grants (i.e. church), Niagara Harbour and Dock Co., J. Crook's former lots, and the land to be leased south of Fort George are noted.<\/span><\/p> (signed) R.H. Bonny-castle Capn Royal Engineer's Westn Distr. 14th Decr 1835, T.G.W. Eaststaff Draugn.<\/span><\/p> Relief shown by hachures.<\/span><\/p> Digital reproduction of map (44 x 110 cm.) in the Public Archives of Canada. National Map Collection. Library and Archives Canada.<\/span><\/p> Georeferenced and modified from NMC Map number 14283 by Map, Data and GIS Library, Brock University. <\/span><\/p> <\/p><\/div><\/div><\/div>",
"extent": {
"xmin": -8805198.98603421,
"ymin": 5347988.430144112,
"xmax": -8799355.481079211,
"ymax": 5353074.095764112,
"spatialReference": {
"wkid": 102100,
"latestWkid": 3857
}
},
"initialExtent": {
"xmin": -8805198.98603421,
"ymin": 5347988.430144112,
"xmax": -8799355.481079211,
"ymax": 5353074.095764112,
"spatialReference": {
"wkid": 102100,
"latestWkid": 3857
}
},
"fullExtent": {
"xmin": -8805198.98603421,
"ymin": 5347988.430144112,
"xmax": -8799355.481079211,
"ymax": 5353074.095764112,
"spatialReference": {
"wkid": 102100,
"latestWkid": 3857
}
},
"hasMultidimensions": false,
"pixelSizeX": 1.2526269999998527,
"pixelSizeY": 1.252627000000025,
"datasetFormat": "TIFF",
"uncompressedSize": 37879800,
"blockWidth": 128,
"blockHeight": 128,
"compressionType": "None",
"bandNames": [
"Band_1"
],
"allowCopy": true,
"allowAnalysis": true,
"bandCount": 1,
"noDataValue": 256,
"noDataValues": [
256
],
"pixelType": "U16",
"minPixelSize": 0,
"maxPixelSize": 0,
"copyrightText": "Map, Data & GIS Library, Brock University.",
"serviceDataType": "esriImageServiceDataTypeGeneric",
"serviceSourceType": "esriImageServiceSourceTypeDataset",
"minValues": [
4
],
"maxValues": [
255
],
"meanValues": [
167.11016963623
],
"stdvValues": [
36.609683808259
],
"objectIdField": "",
"fields": [],
"capabilities": "Mensuration,Image,Metadata",
"defaultMosaicMethod": "Center",
"allowedMosaicMethods": "",
"sortField": "",
"sortValue": null,
"sortAscending": true,
"mosaicOperator": "First",
"defaultCompressionQuality": 75,
"defaultResamplingMethod": "Bilinear",
"maxImageHeight": 4100,
"maxImageWidth": 15000,
"allowRasterFunction": true,
"rasterFunctionInfos": [
{
"name": "None",
"description": "",
"help": ""
}
],
"rasterTypeInfos": [
{
"name": "Raster Dataset",
"description": "Supports all ArcGIS Raster Datasets",
"help": ""
}
],
"mensurationCapabilities": "Basic",
"hasHistograms": true,
"hasColormap": false,
"hasRasterAttributeTable": false,
"minScale": 0,
"maxScale": 0,
"exportTilesAllowed": false,
"supportsStatistics": false,
"supportsAdvancedQueries": false,
"editFieldsInfo": null,
"ownershipBasedAccessControlForRasters": null,
"allowComputeTiePoints": false,
"useStandardizedQueries": true,
"advancedQueryCapabilities": {
"useStandardizedQueries": true,
"supportsStatistics": false,
"supportsOrderBy": false,
"supportsDistinct": false,
"supportsPagination": false
},
"spatialReference": {
"wkid": 102100,
"latestWkid": 3857
}
}