{ "currentVersion": 10.91, "serviceDescription": "
Historical map of the Town of Niagara showing lot numbers, landowners names, streets, Fort Mississauga.<\/span><\/p> \"(Signed) F. H. Braddeley C. Royal Engineers, Western Dist. Royal Engineer Office, Toronto, 11th Nov. 1837 [signed] Geo. Houghton, Clerk of Works. R.H. Bonnycastle, Capt & Major. Com'g. Roy'l Engrs, U.C. (Copy) Jno. Sloane, Clerk of works, Kingston, 17th Nov 1837.\"<\/span><\/p> Digital reproduction of map (17 1/2 x 22 1/4 in.) in the Public Archives of Canada. National Map Collection. Library and Archives Canada.<\/span><\/p> Georeferenced and modified from NMC Map number 4211 by Map, Data and GIS Library, Brock University. <\/span><\/p> <\/p><\/div><\/div><\/div>",
"name": "EarlyNiagara/NiagaraontheLake1837NMC4211",
"description": " Historical map of the Town of Niagara showing lot numbers, landowners names, streets, Fort Mississauga.<\/span><\/p> \"(Signed) F. H. Braddeley C. Royal Engineers, Western Dist. Royal Engineer Office, Toronto, 11th Nov. 1837 [signed] Geo. Houghton, Clerk of Works. R.H. Bonnycastle, Capt & Major. Com'g. Roy'l Engrs, U.C. (Copy) Jno. Sloane, Clerk of works, Kingston, 17th Nov 1837.\"<\/span><\/p> Digital reproduction of map (17 1/2 x 22 1/4 in.) in the Public Archives of Canada. National Map Collection. Library and Archives Canada.<\/span><\/p> Georeferenced and modified from NMC Map number 4211 by Map, Data and GIS Library, Brock University. <\/span><\/p> <\/p><\/div><\/div><\/div>",
"extent": {
"xmin": -8804820.583367491,
"ymin": 5349931.989325538,
"xmax": -8801135.73035149,
"ymax": 5353461.397831539,
"spatialReference": {
"wkid": 102100,
"latestWkid": 3857
}
},
"initialExtent": {
"xmin": -8804820.583367491,
"ymin": 5349931.989325538,
"xmax": -8801135.73035149,
"ymax": 5353461.397831539,
"spatialReference": {
"wkid": 102100,
"latestWkid": 3857
}
},
"fullExtent": {
"xmin": -8804820.583367491,
"ymin": 5349931.989325538,
"xmax": -8801135.73035149,
"ymax": 5353461.397831539,
"spatialReference": {
"wkid": 102100,
"latestWkid": 3857
}
},
"hasMultidimensions": false,
"pixelSizeX": 0.8181290000000535,
"pixelSizeY": 0.818129000000096,
"datasetFormat": "TIFF",
"uncompressedSize": 38860512,
"blockWidth": 128,
"blockHeight": 128,
"compressionType": "None",
"bandNames": [
"Band_1"
],
"allowCopy": true,
"allowAnalysis": true,
"bandCount": 1,
"noDataValue": 256,
"noDataValues": [
256
],
"pixelType": "U16",
"minPixelSize": 0,
"maxPixelSize": 0,
"copyrightText": "Map, Data & GIS Library, Brock University.",
"serviceDataType": "esriImageServiceDataTypeGeneric",
"serviceSourceType": "esriImageServiceSourceTypeDataset",
"minValues": [
13
],
"maxValues": [
254
],
"meanValues": [
181.402584515
],
"stdvValues": [
42.858979192397
],
"objectIdField": "",
"fields": [],
"capabilities": "Mensuration,Image,Metadata",
"defaultMosaicMethod": "Center",
"allowedMosaicMethods": "",
"sortField": "",
"sortValue": null,
"sortAscending": true,
"mosaicOperator": "First",
"defaultCompressionQuality": 75,
"defaultResamplingMethod": "Bilinear",
"maxImageHeight": 4100,
"maxImageWidth": 15000,
"allowRasterFunction": true,
"rasterFunctionInfos": [
{
"name": "None",
"description": "",
"help": ""
}
],
"rasterTypeInfos": [
{
"name": "Raster Dataset",
"description": "Supports all ArcGIS Raster Datasets",
"help": ""
}
],
"mensurationCapabilities": "Basic",
"hasHistograms": true,
"hasColormap": false,
"hasRasterAttributeTable": false,
"minScale": 0,
"maxScale": 0,
"exportTilesAllowed": false,
"supportsStatistics": false,
"supportsAdvancedQueries": false,
"editFieldsInfo": null,
"ownershipBasedAccessControlForRasters": null,
"allowComputeTiePoints": false,
"useStandardizedQueries": true,
"advancedQueryCapabilities": {
"useStandardizedQueries": true,
"supportsStatistics": false,
"supportsOrderBy": false,
"supportsDistinct": false,
"supportsPagination": false
},
"spatialReference": {
"wkid": 102100,
"latestWkid": 3857
}
}