{ "currentVersion": 10.91, "serviceDescription": "
Map date: 1845<\/SPAN><\/P> Scale [ca. 1:3,960]<\/SPAN><\/P> Digital reproduction of map (42 x 67 cm.) in the Archives of Ontario.<\/SPAN><\/P> Archives of Ontario ref. no. C295-1-102-0-9 (1 of 2) - written on verso.<\/SPAN><\/P> Georeferenced and modified from Brock Call # G 3464 N55 1845 P43, by Map, Data and GIS Library, Brock University. <\/SPAN><\/P> <\/P><\/DIV><\/DIV><\/DIV>",
"name": "EarlyNiagara/NiagaraontheLake1845",
"description": " Map date: 1845<\/SPAN><\/P> Scale [ca. 1:3,960]<\/SPAN><\/P> Digital reproduction of map (42 x 67 cm.) in the Archives of Ontario.<\/SPAN><\/P> Archives of Ontario ref. no. C295-1-102-0-9 (1 of 2) - written on verso.<\/SPAN><\/P> Georeferenced and modified from Brock Call # G 3464 N55 1845 P43, by Map, Data and GIS Library, Brock University. <\/SPAN><\/P> <\/P><\/DIV><\/DIV><\/DIV>",
"extent": {
"xmin": -8806859.7045756,
"ymin": 5346868.057744994,
"xmax": -8799492.3711776,
"ymax": 5353651.408819994,
"spatialReference": {
"wkid": 102100,
"latestWkid": 3857
}
},
"initialExtent": {
"xmin": -8806859.7045756,
"ymin": 5346868.057744994,
"xmax": -8799492.3711776,
"ymax": 5353651.408819994,
"spatialReference": {
"wkid": 102100,
"latestWkid": 3857
}
},
"fullExtent": {
"xmin": -8806859.7045756,
"ymin": 5346868.057744994,
"xmax": -8799492.3711776,
"ymax": 5353651.408819994,
"spatialReference": {
"wkid": 102100,
"latestWkid": 3857
}
},
"hasMultidimensions": false,
"pixelSizeX": 1.11660099999991,
"pixelSizeY": 1.1166010000000213,
"datasetFormat": "TIFF",
"uncompressedSize": 80165700,
"blockWidth": 128,
"blockHeight": 128,
"compressionType": "LZW",
"bandNames": [
"Band_1"
],
"allowCopy": true,
"allowAnalysis": true,
"bandCount": 1,
"noDataValue": 256,
"noDataValues": [
256
],
"pixelType": "U16",
"minPixelSize": 0,
"maxPixelSize": 0,
"copyrightText": "Unknown author\nMap, Data & GIS Library, Brock University.",
"serviceDataType": "esriImageServiceDataTypeGeneric",
"serviceSourceType": "esriImageServiceSourceTypeDataset",
"minValues": [
0
],
"maxValues": [
217
],
"meanValues": [
200.49898768546
],
"stdvValues": [
52.795800699155
],
"objectIdField": "",
"fields": [],
"capabilities": "Image,Metadata,Mensuration",
"defaultMosaicMethod": "Center",
"allowedMosaicMethods": "",
"sortField": "",
"sortValue": null,
"sortAscending": true,
"mosaicOperator": "First",
"defaultCompressionQuality": 75,
"defaultResamplingMethod": "Bilinear",
"maxImageHeight": 4100,
"maxImageWidth": 15000,
"allowRasterFunction": true,
"rasterFunctionInfos": [
{
"name": "None",
"description": "",
"help": ""
}
],
"rasterTypeInfos": [
{
"name": "Raster Dataset",
"description": "Supports all ArcGIS Raster Datasets",
"help": ""
}
],
"mensurationCapabilities": "Basic",
"hasHistograms": true,
"hasColormap": false,
"hasRasterAttributeTable": false,
"minScale": 0,
"maxScale": 0,
"exportTilesAllowed": false,
"supportsStatistics": false,
"supportsAdvancedQueries": false,
"editFieldsInfo": null,
"ownershipBasedAccessControlForRasters": null,
"allowComputeTiePoints": false,
"useStandardizedQueries": true,
"advancedQueryCapabilities": {
"useStandardizedQueries": true,
"supportsStatistics": false,
"supportsOrderBy": false,
"supportsDistinct": false,
"supportsPagination": false
},
"spatialReference": {
"wkid": 102100,
"latestWkid": 3857
}
}