{ "currentVersion": 10.91, "serviceDescription": "
Historical map showing the village of Niagara (NOTL). The ruins of Old Fort George, the layout of (the new) Fort George, Fort Mississauga, and the Old Guard house are depicted. Several land grants to individuals and religious organizations are noted. Shaded areas show the land given to the Niagara Harbour and Dock Company by Act of Parliament.<\/span><\/p> Relief shown by hachures and shading<\/span><\/p> Scale [ca. 1:4,960]<\/span><\/p> Map date 1851.<\/span><\/p> Digital reproduction of map (26 x 53 cm.) in the Public Archives of Canada. National Map Collection. Library and Archives Canada.<\/span><\/p> Georeferenced and modified from NMC Map number 4212 by Map, Data and GIS Library, Brock University. <\/span><\/p> <\/p><\/div><\/div><\/div>",
"name": "EarlyNiagara/NiagaraontheLake1851NMC4212",
"description": " Historical map showing the village of Niagara (NOTL). The ruins of Old Fort George, the layout of (the new) Fort George, Fort Mississauga, and the Old Guard house are depicted. Several land grants to individuals and religious organizations are noted. Shaded areas show the land given to the Niagara Harbour and Dock Company by Act of Parliament.<\/span><\/p> Relief shown by hachures and shading<\/span><\/p> Scale [ca. 1:4,960]<\/span><\/p> Map date 1851.<\/span><\/p> Digital reproduction of map (26 x 53 cm.) in the Public Archives of Canada. National Map Collection. Library and Archives Canada.<\/span><\/p> Georeferenced and modified from NMC Map number 4212 by Map, Data and GIS Library, Brock University. <\/span><\/p> <\/p><\/div><\/div><\/div>",
"extent": {
"xmin": 654698.7434786783,
"ymin": 4789042.457998845,
"xmax": 658299.4540066783,
"ymax": 4792278.843585845,
"spatialReference": {
"wkid": 26917,
"latestWkid": 26917
}
},
"initialExtent": {
"xmin": 654698.7434786783,
"ymin": 4789042.457998845,
"xmax": 658299.4540066783,
"ymax": 4792278.843585845,
"spatialReference": {
"wkid": 26917,
"latestWkid": 26917
}
},
"fullExtent": {
"xmin": 654698.7434786783,
"ymin": 4789042.457998845,
"xmax": 658299.4540066783,
"ymax": 4792278.843585845,
"spatialReference": {
"wkid": 26917,
"latestWkid": 26917
}
},
"hasMultidimensions": false,
"pixelSizeX": 0.6861110000000048,
"pixelSizeY": 0.6861110000000611,
"datasetFormat": "TIFF",
"uncompressedSize": 49509632,
"blockWidth": 128,
"blockHeight": 128,
"compressionType": "None",
"bandNames": [
"Band_1"
],
"allowCopy": true,
"allowAnalysis": true,
"bandCount": 1,
"noDataValue": 256,
"noDataValues": [
256
],
"pixelType": "U16",
"minPixelSize": 0,
"maxPixelSize": 0,
"copyrightText": "[\"signed\"]",
"serviceDataType": "esriImageServiceDataTypeGeneric",
"serviceSourceType": "esriImageServiceSourceTypeDataset",
"minValues": [
17
],
"maxValues": [
247
],
"meanValues": [
198.52257362663
],
"stdvValues": [
28.387760480899
],
"objectIdField": "",
"fields": [],
"capabilities": "Mensuration,Image,Metadata",
"defaultMosaicMethod": "Center",
"allowedMosaicMethods": "",
"sortField": "",
"sortValue": null,
"sortAscending": true,
"mosaicOperator": "First",
"defaultCompressionQuality": 75,
"defaultResamplingMethod": "Bilinear",
"maxImageHeight": 4100,
"maxImageWidth": 15000,
"allowRasterFunction": true,
"rasterFunctionInfos": [
{
"name": "None",
"description": "",
"help": ""
}
],
"rasterTypeInfos": [
{
"name": "Raster Dataset",
"description": "Supports all ArcGIS Raster Datasets",
"help": ""
}
],
"mensurationCapabilities": "Basic",
"hasHistograms": true,
"hasColormap": false,
"hasRasterAttributeTable": false,
"minScale": 0,
"maxScale": 0,
"exportTilesAllowed": false,
"supportsStatistics": false,
"supportsAdvancedQueries": false,
"editFieldsInfo": null,
"ownershipBasedAccessControlForRasters": null,
"allowComputeTiePoints": false,
"useStandardizedQueries": true,
"advancedQueryCapabilities": {
"useStandardizedQueries": true,
"supportsStatistics": false,
"supportsOrderBy": false,
"supportsDistinct": false,
"supportsPagination": false
},
"spatialReference": {
"wkid": 26917,
"latestWkid": 26917
}
}