{ "currentVersion": 10.91, "serviceDescription": "
Historical map showing streets, lot numbers, landowner's names and select buildings including Navy Hall, Butlers Barracks, hospital and Fort George.<\/span><\/p> \"(signed) F.F. Passmore. Provincial Surveyor, Toronto. Niagara, August 26, 1852. Copy R. I. Pilkington, Draftsman, 25 Sept. 1852.\"<\/span><\/p> Digital reproduction of map (17 1/4 x 21 3/4 in.) in the Public Archives of Canada. National Map Collection. Library and Archives Canada.<\/span><\/p> Georeferenced and modified from NMC Map number 4216 by Map, Data and GIS Library, Brock University. <\/span><\/p> <\/p><\/div><\/div><\/div>",
"name": "EarlyNiagara/NiagaraontheLake1852NMC4216",
"description": " Historical map showing streets, lot numbers, landowner's names and select buildings including Navy Hall, Butlers Barracks, hospital and Fort George.<\/span><\/p> \"(signed) F.F. Passmore. Provincial Surveyor, Toronto. Niagara, August 26, 1852. Copy R. I. Pilkington, Draftsman, 25 Sept. 1852.\"<\/span><\/p> Digital reproduction of map (17 1/4 x 21 3/4 in.) in the Public Archives of Canada. National Map Collection. Library and Archives Canada.<\/span><\/p> Georeferenced and modified from NMC Map number 4216 by Map, Data and GIS Library, Brock University. <\/span><\/p> <\/p><\/div><\/div><\/div>",
"extent": {
"xmin": -8803228.62944728,
"ymin": 5348299.354060565,
"xmax": -8799775.87251328,
"ymax": 5351711.695432565,
"spatialReference": {
"wkid": 102100,
"latestWkid": 3857
}
},
"initialExtent": {
"xmin": -8803228.62944728,
"ymin": 5348299.354060565,
"xmax": -8799775.87251328,
"ymax": 5351711.695432565,
"spatialReference": {
"wkid": 102100,
"latestWkid": 3857
}
},
"fullExtent": {
"xmin": -8803228.62944728,
"ymin": 5348299.354060565,
"xmax": -8799775.87251328,
"ymax": 5351711.695432565,
"spatialReference": {
"wkid": 102100,
"latestWkid": 3857
}
},
"hasMultidimensions": false,
"pixelSizeX": 0.7924620000000411,
"pixelSizeY": 0.7924620000000124,
"datasetFormat": "TIFF",
"uncompressedSize": 37522484,
"blockWidth": 128,
"blockHeight": 128,
"compressionType": "None",
"bandNames": [
"Band_1"
],
"allowCopy": true,
"allowAnalysis": true,
"bandCount": 1,
"noDataValue": 256,
"noDataValues": [
256
],
"pixelType": "U16",
"minPixelSize": 0,
"maxPixelSize": 0,
"copyrightText": "Map, Data & GIS Library, Brock University.",
"serviceDataType": "esriImageServiceDataTypeGeneric",
"serviceSourceType": "esriImageServiceSourceTypeDataset",
"minValues": [
0
],
"maxValues": [
254
],
"meanValues": [
189.80882886477
],
"stdvValues": [
32.755267925514
],
"objectIdField": "",
"fields": [],
"capabilities": "Mensuration,Image,Metadata",
"defaultMosaicMethod": "Center",
"allowedMosaicMethods": "",
"sortField": "",
"sortValue": null,
"sortAscending": true,
"mosaicOperator": "First",
"defaultCompressionQuality": 75,
"defaultResamplingMethod": "Bilinear",
"maxImageHeight": 4100,
"maxImageWidth": 15000,
"allowRasterFunction": true,
"rasterFunctionInfos": [
{
"name": "None",
"description": "",
"help": ""
}
],
"rasterTypeInfos": [
{
"name": "Raster Dataset",
"description": "Supports all ArcGIS Raster Datasets",
"help": ""
}
],
"mensurationCapabilities": "Basic",
"hasHistograms": true,
"hasColormap": false,
"hasRasterAttributeTable": false,
"minScale": 0,
"maxScale": 0,
"exportTilesAllowed": false,
"supportsStatistics": false,
"supportsAdvancedQueries": false,
"editFieldsInfo": null,
"ownershipBasedAccessControlForRasters": null,
"allowComputeTiePoints": false,
"useStandardizedQueries": true,
"advancedQueryCapabilities": {
"useStandardizedQueries": true,
"supportsStatistics": false,
"supportsOrderBy": false,
"supportsDistinct": false,
"supportsPagination": false
},
"spatialReference": {
"wkid": 102100,
"latestWkid": 3857
}
}